BEGIN:VCALENDAR
VERSION:2.0
PRODID:-//Paramount Club - ECPv6.13.2.1//NONSGML v1.0//EN
CALSCALE:GREGORIAN
METHOD:PUBLISH
X-WR-CALNAME:Paramount Club
X-ORIGINAL-URL:https://paramountclub.pgre.com
X-WR-CALDESC:Events for Paramount Club
REFRESH-INTERVAL;VALUE=DURATION:PT1H
X-Robots-Tag:noindex
X-PUBLISHED-TTL:PT1H
BEGIN:VTIMEZONE
TZID:America/New_York
BEGIN:DAYLIGHT
TZOFFSETFROM:-0500
TZOFFSETTO:-0400
TZNAME:EDT
DTSTART:20250309T070000
END:DAYLIGHT
BEGIN:STANDARD
TZOFFSETFROM:-0400
TZOFFSETTO:-0500
TZNAME:EST
DTSTART:20251102T060000
END:STANDARD
END:VTIMEZONE
BEGIN:VEVENT
DTSTART;TZID=America/New_York:20251203T110000
DTEND;TZID=America/New_York:20251203T150000
DTSTAMP:20260424T000038
CREATED:20251121T152451Z
LAST-MODIFIED:20251121T152451Z
UID:3092-1764759600-1764774000@paramountclub.pgre.com
SUMMARY:9 Days of Holiday Shopping - Anne Woodman Jewelry
DESCRIPTION:This December\, explore unique gifts from rotating makers\, artists\, and specialty brands at our holiday shopping experience. Perfect for colleagues\, friends\, and holiday treats! \nOn December 3rd\, shop for the jewelry-obsessed. Anne Woodman Jewelry specializes in Whimsical designs crafted with quality 14k gold-filled wire and chain. \nShop Anne Woodman Jewelry 
URL:https://paramountclub.pgre.com/events-calendar/9-days-of-holiday-shopping-anne-woodman-jewelry/
CATEGORIES:Club Events
ATTACH;FMTTYPE=image/png:https://paramountclub.pgre.com/wp-content/uploads/2025/11/Website-Event-Imagery-1080-x-710-px-29.png
END:VEVENT
END:VCALENDAR