BEGIN:VCALENDAR
VERSION:2.0
PRODID:-//Paramount Club - ECPv6.13.2.1//NONSGML v1.0//EN
CALSCALE:GREGORIAN
METHOD:PUBLISH
X-WR-CALNAME:Paramount Club
X-ORIGINAL-URL:https://paramountclub.pgre.com
X-WR-CALDESC:Events for Paramount Club
REFRESH-INTERVAL;VALUE=DURATION:PT1H
X-Robots-Tag:noindex
X-PUBLISHED-TTL:PT1H
BEGIN:VTIMEZONE
TZID:America/New_York
BEGIN:DAYLIGHT
TZOFFSETFROM:-0500
TZOFFSETTO:-0400
TZNAME:EDT
DTSTART:20250309T070000
END:DAYLIGHT
BEGIN:STANDARD
TZOFFSETFROM:-0400
TZOFFSETTO:-0500
TZNAME:EST
DTSTART:20251102T060000
END:STANDARD
END:VTIMEZONE
BEGIN:VEVENT
DTSTART;TZID=America/New_York:20251218T110000
DTEND;TZID=America/New_York:20251218T150000
DTSTAMP:20260423T222932
CREATED:20251121T160020Z
LAST-MODIFIED:20251121T173705Z
UID:3110-1766055600-1766070000@paramountclub.pgre.com
SUMMARY:9 Days of Holiday Shopping - KLEOS+KLEA
DESCRIPTION:This December\, explore unique gifts from rotating makers\, artists\, and specialty brands at our holiday shopping experience. Perfect for colleagues\, friends\, and holiday treats! \nOn December 18th\, shop for the one who values clean beauty. Kleos + Klea Beauty is a nutrient-rich\, plant-powered skincare line that nourishes\, repairs\, and revitalizes your skin naturally—without synthetic chemicals. \nShop KLEOS+KLEA
URL:https://paramountclub.pgre.com/events-calendar/9-days-of-holiday-shopping-kleos-klea/
CATEGORIES:Club Events
ATTACH;FMTTYPE=image/png:https://paramountclub.pgre.com/wp-content/uploads/2025/11/Kleos-Klea-1.png
END:VEVENT
END:VCALENDAR