BEGIN:VCALENDAR
VERSION:2.0
PRODID:-//Paramount Club - ECPv6.13.2.1//NONSGML v1.0//EN
CALSCALE:GREGORIAN
METHOD:PUBLISH
X-WR-CALNAME:Paramount Club
X-ORIGINAL-URL:https://paramountclub.pgre.com
X-WR-CALDESC:Events for Paramount Club
REFRESH-INTERVAL;VALUE=DURATION:PT1H
X-Robots-Tag:noindex
X-PUBLISHED-TTL:PT1H
BEGIN:VTIMEZONE
TZID:America/New_York
BEGIN:DAYLIGHT
TZOFFSETFROM:-0500
TZOFFSETTO:-0400
TZNAME:EDT
DTSTART:20250309T070000
END:DAYLIGHT
BEGIN:STANDARD
TZOFFSETFROM:-0400
TZOFFSETTO:-0500
TZNAME:EST
DTSTART:20251102T060000
END:STANDARD
END:VTIMEZONE
BEGIN:VEVENT
DTSTART;TZID=America/New_York:20251202T110000
DTEND;TZID=America/New_York:20251202T150000
DTSTAMP:20260423T222931
CREATED:20251121T151507Z
LAST-MODIFIED:20251121T151507Z
UID:3077-1764673200-1764687600@paramountclub.pgre.com
SUMMARY:9 Days of Holiday Shopping - MoMo by Morgan
DESCRIPTION:This December\, explore unique gifts from rotating makers\, artists\, and specialty brands at our holiday shopping experience. Perfect for colleagues\, friends\, and holiday treats! \nOn December 2nd\, shop for the one who appreciates personalization. MoMo by Morgan specializes in Customizable calligraphy pieces\, from personalized ornaments and calligraphy prints to home décor and quirky gifts. \nShop Custom Gifts  \n 
URL:https://paramountclub.pgre.com/events-calendar/9-days-of-holiday-shopping-momo-by-morgan/
CATEGORIES:Club Events
ATTACH;FMTTYPE=image/png:https://paramountclub.pgre.com/wp-content/uploads/2025/11/Momo-by-Morgan.png
END:VEVENT
END:VCALENDAR