BEGIN:VCALENDAR
VERSION:2.0
PRODID:-//Paramount Club - ECPv6.13.2.1//NONSGML v1.0//EN
CALSCALE:GREGORIAN
METHOD:PUBLISH
X-WR-CALNAME:Paramount Club
X-ORIGINAL-URL:https://paramountclub.pgre.com
X-WR-CALDESC:Events for Paramount Club
REFRESH-INTERVAL;VALUE=DURATION:PT1H
X-Robots-Tag:noindex
X-PUBLISHED-TTL:PT1H
BEGIN:VTIMEZONE
TZID:America/New_York
BEGIN:DAYLIGHT
TZOFFSETFROM:-0500
TZOFFSETTO:-0400
TZNAME:EDT
DTSTART:20250309T070000
END:DAYLIGHT
BEGIN:STANDARD
TZOFFSETFROM:-0400
TZOFFSETTO:-0500
TZNAME:EST
DTSTART:20251102T060000
END:STANDARD
END:VTIMEZONE
BEGIN:VEVENT
DTSTART;TZID=America/New_York:20251209T110000
DTEND;TZID=America/New_York:20251209T150000
DTSTAMP:20260424T000039
CREATED:20251121T154050Z
LAST-MODIFIED:20251121T154050Z
UID:3099-1765278000-1765292400@paramountclub.pgre.com
SUMMARY:9 Days of Holiday Shopping - Paramount Wellness x Rhone x Stakt
DESCRIPTION:This December\, explore unique gifts from rotating makers\, artists\, and specialty brands at our holiday shopping experience. Perfect for colleagues\, friends\, and holiday treats! \nOn December 9th\, Shop for the health & wellness enthusiast. Paramount Wellness is partnering with Rhone\, a performance-driven apparel brand built for those in pursuit of progress\, and Stakt\, creators of the first-of-its-kind foldable fitness mat. \nShop Wellness  \nShop Rhone \nShop Stakt 
URL:https://paramountclub.pgre.com/events-calendar/9-days-of-holiday-shopping-paramount-wellness-x-rhone-x-stakt/
CATEGORIES:Club Events
ATTACH;FMTTYPE=image/png:https://paramountclub.pgre.com/wp-content/uploads/2025/11/Rhone-and-Stakt.png
END:VEVENT
END:VCALENDAR