BEGIN:VCALENDAR
VERSION:2.0
PRODID:-//Paramount Club - ECPv6.13.2.1//NONSGML v1.0//EN
CALSCALE:GREGORIAN
METHOD:PUBLISH
X-WR-CALNAME:Paramount Club
X-ORIGINAL-URL:https://paramountclub.pgre.com
X-WR-CALDESC:Events for Paramount Club
REFRESH-INTERVAL;VALUE=DURATION:PT1H
X-Robots-Tag:noindex
X-PUBLISHED-TTL:PT1H
BEGIN:VTIMEZONE
TZID:America/New_York
BEGIN:DAYLIGHT
TZOFFSETFROM:-0500
TZOFFSETTO:-0400
TZNAME:EDT
DTSTART:20250309T070000
END:DAYLIGHT
BEGIN:STANDARD
TZOFFSETFROM:-0400
TZOFFSETTO:-0500
TZNAME:EST
DTSTART:20251102T060000
END:STANDARD
END:VTIMEZONE
BEGIN:VEVENT
DTSTART;TZID=America/New_York:20250410T121500
DTEND;TZID=America/New_York:20250410T131500
DTSTAMP:20260424T121138
CREATED:20250103T175815Z
LAST-MODIFIED:20250411T195236Z
UID:10002457-1744287300-1744290900@paramountclub.pgre.com
SUMMARY:Aerobyx Class
DESCRIPTION:Yoga infused with calisthenics\, created by our fitness instructor Brittany Peechatka! \nSign up for our Aerobyx class every Thursday at 12:15pm\, at Paramount Wellness!
URL:https://paramountclub.pgre.com/events-calendar/aerobyx-class/2025-04-10/
LOCATION:Paramount Wellness\, 1301 Avenue of the Americas\, New York\, NY\, 10019\, United States
CATEGORIES:Wellness
ATTACH;FMTTYPE=image/jpeg:https://paramountclub.pgre.com/wp-content/uploads/2025/01/Wellness_Studio_0055_R-scaled.jpg
ORGANIZER;CN="Paramount Wellness":MAILTO:wellness@paramount.club
END:VEVENT
END:VCALENDAR