BEGIN:VCALENDAR
VERSION:2.0
PRODID:-//Paramount Club - ECPv6.13.2.1//NONSGML v1.0//EN
CALSCALE:GREGORIAN
METHOD:PUBLISH
X-WR-CALNAME:Paramount Club
X-ORIGINAL-URL:https://paramountclub.pgre.com
X-WR-CALDESC:Events for Paramount Club
REFRESH-INTERVAL;VALUE=DURATION:PT1H
X-Robots-Tag:noindex
X-PUBLISHED-TTL:PT1H
BEGIN:VTIMEZONE
TZID:America/New_York
BEGIN:DAYLIGHT
TZOFFSETFROM:-0500
TZOFFSETTO:-0400
TZNAME:EDT
DTSTART:20250309T070000
END:DAYLIGHT
BEGIN:STANDARD
TZOFFSETFROM:-0400
TZOFFSETTO:-0500
TZNAME:EST
DTSTART:20251102T060000
END:STANDARD
END:VTIMEZONE
BEGIN:VEVENT
DTSTART;TZID=America/New_York:20250501T000000
DTEND;TZID=America/New_York:20250501T235900
DTSTAMP:20260424T102714
CREATED:20250425T164954Z
LAST-MODIFIED:20250425T164954Z
UID:2436-1746057600-1746143940@paramountclub.pgre.com
SUMMARY:BOGO 50% OFF: Wellness Massages
DESCRIPTION:In honor of our First Year Anniversary\, buy ONE & get ONE 50% off our wellness 60-minute massages. \nChoose from our LaStone\, Deep Tissue\, Pre/Post Natal or Sports Massage. \n  \nAvailable for purchase one day only. Redeem within 3 months.
URL:https://paramountclub.pgre.com/events-calendar/bogo-50-off-wellness-massages/
LOCATION:Paramount Wellness\, 1301 Avenue of the Americas\, New York\, NY\, 10019\, United States
CATEGORIES:Wellness
ATTACH;FMTTYPE=image/jpeg:https://paramountclub.pgre.com/wp-content/uploads/2025/04/engin-akyurt-ZbzYDboN7fg-unsplash-scaled.jpg
END:VEVENT
END:VCALENDAR