BEGIN:VCALENDAR
VERSION:2.0
PRODID:-//Paramount Club - ECPv6.13.2.1//NONSGML v1.0//EN
CALSCALE:GREGORIAN
METHOD:PUBLISH
X-WR-CALNAME:Paramount Club
X-ORIGINAL-URL:https://paramountclub.pgre.com
X-WR-CALDESC:Events for Paramount Club
REFRESH-INTERVAL;VALUE=DURATION:PT1H
X-Robots-Tag:noindex
X-PUBLISHED-TTL:PT1H
BEGIN:VTIMEZONE
TZID:America/New_York
BEGIN:DAYLIGHT
TZOFFSETFROM:-0500
TZOFFSETTO:-0400
TZNAME:EDT
DTSTART:20250309T070000
END:DAYLIGHT
BEGIN:STANDARD
TZOFFSETFROM:-0400
TZOFFSETTO:-0500
TZNAME:EST
DTSTART:20251102T060000
END:STANDARD
END:VTIMEZONE
BEGIN:VEVENT
DTSTART;TZID=America/New_York:20250424T080000
DTEND;TZID=America/New_York:20250424T220000
DTSTAMP:20260424T120211
CREATED:20250325T211847Z
LAST-MODIFIED:20250416T200101Z
UID:2156-1745481600-1745532000@paramountclub.pgre.com
SUMMARY:Bring Your Children to Work Day
DESCRIPTION:Thursday\, April 24\, 2025 is Bring Your Children to Work Day (or as we like to call it\, Future Members of the Paramount Club Day!)\, filled with food\, fun and family bonding. \nKid-Approved Menus (All Day)\nEnjoy breakfast\, lunch\, and a family dinner at the Club. Our limited edition kid’s menu features favorites like cheese pizza\, beef sliders\, Mac and cheese\, and more. Drop in and enjoy the Café or book a reservation in the Atrium now. \nBreakfast: 8:00am-10:00am\, Lunch: 11:00am-3:00pm\, Dinner: 5:00pm-close \nComplimentary Yoga Class at 12:15pm\nParamount Wellness is hosting a complimentary Parent & Child Yoga class at our fitness studio led by our fitness instructor\, Brittany Peechatka! Limited spots available. Secure your spot. \nSnack Attack\nThe Café will have milk and cookies available for purchase – because who doesn’t love a midday treat? Order Pick Up. \nPizza Making Class at 5:00pm\nRoll up your sleeves and join Sous Chef Pedro Molina for a fun\, hands-on pizza-making class. This kid-friendly experience is the perfect way to wrap up Bring Your Children to Work Day. Secure your Ticket\, limited spots available. \n  \nWe can’t wait to welcome you and your family to the Paramount Club! Please note\, children must be 6 years or older and accompanied by an adult at all times when in the Club. \n 
URL:https://paramountclub.pgre.com/events-calendar/bring-your-children-to-work-day/
CATEGORIES:Club Events
ATTACH;FMTTYPE=image/jpeg:https://paramountclub.pgre.com/wp-content/uploads/2025/03/Website-Event-Imagery-1080-x-710-px-2.jpg
END:VEVENT
END:VCALENDAR