BEGIN:VCALENDAR
VERSION:2.0
PRODID:-//Paramount Club - ECPv6.13.2.1//NONSGML v1.0//EN
CALSCALE:GREGORIAN
METHOD:PUBLISH
X-WR-CALNAME:Paramount Club
X-ORIGINAL-URL:https://paramountclub.pgre.com
X-WR-CALDESC:Events for Paramount Club
REFRESH-INTERVAL;VALUE=DURATION:PT1H
X-Robots-Tag:noindex
X-PUBLISHED-TTL:PT1H
BEGIN:VTIMEZONE
TZID:America/New_York
BEGIN:DAYLIGHT
TZOFFSETFROM:-0500
TZOFFSETTO:-0400
TZNAME:EDT
DTSTART:20250309T070000
END:DAYLIGHT
BEGIN:STANDARD
TZOFFSETFROM:-0400
TZOFFSETTO:-0500
TZNAME:EST
DTSTART:20251102T060000
END:STANDARD
END:VTIMEZONE
BEGIN:VEVENT
DTSTART;TZID=America/New_York:20250115T160000
DTEND;TZID=America/New_York:20250115T200000
DTSTAMP:20260424T192034
CREATED:20260102T141953Z
LAST-MODIFIED:20260102T142134Z
UID:10005351-1736956800-1736971200@paramountclub.pgre.com
SUMMARY:Live DJ at the Paramount Club
DESCRIPTION:Experience the Paramount Club with a live DJ! Enjoy live music while indulging ​in delicious food and expertly crafted cocktails from our menu.
URL:https://paramountclub.pgre.com/events-calendar/live-dj-at-the-paramount-club-18/
CATEGORIES:Club Events
ATTACH;FMTTYPE=image/png:https://paramountclub.pgre.com/wp-content/uploads/2025/06/Website-Event-Imagery-1080-x-710-px-8.png
END:VEVENT
BEGIN:VEVENT
DTSTART;TZID=America/New_York:20250116T160000
DTEND;TZID=America/New_York:20250116T200000
DTSTAMP:20260424T192034
CREATED:20250102T163340Z
LAST-MODIFIED:20250107T183633Z
UID:10000156-1737043200-1737057600@paramountclub.pgre.com
SUMMARY:Live DJ at the Paramount Club
DESCRIPTION:Experience the Paramount Club with a live DJ and extended happy hour specials!\n3:00PM-5:00PM – Happy Hour\, including a Dry January Mocktail\n5:00PM-8:00PM – discounted bottles of wine
URL:https://paramountclub.pgre.com/events-calendar/live-dj/
CATEGORIES:Club Events
ATTACH;FMTTYPE=image/png:https://paramountclub.pgre.com/wp-content/uploads/2025/01/Live-DJ.png
END:VEVENT
BEGIN:VEVENT
DTSTART;TZID=America/New_York:20250122T180000
DTEND;TZID=America/New_York:20250122T190000
DTSTAMP:20260424T192034
CREATED:20250106T165745Z
LAST-MODIFIED:20250115T155525Z
UID:10000257-1737568800-1737572400@paramountclub.pgre.com
SUMMARY:Women In Wine
DESCRIPTION:Welcome to Women in Wine at the Paramount Club! This is the perfect chance to learn\, sip\, and indulge. We will discuss the significant contributions women have made in the wine industry and provide insight about the wine samples. \nYour ticket includes tastings of three wines\, light bites\, and special discounts on bottles if you choose to stay for dinner. \nPurchase your Ticket \nPlease note\, Paramount Club Events are exclusive for members of the Paramount Club and their registered guests.
URL:https://paramountclub.pgre.com/events-calendar/women-in-wine/
CATEGORIES:Club Events
ATTACH;FMTTYPE=image/png:https://paramountclub.pgre.com/wp-content/uploads/2025/01/Women-in-Wine.png
END:VEVENT
BEGIN:VEVENT
DTSTART;TZID=America/New_York:20250123T180000
DTEND;TZID=America/New_York:20250123T193000
DTSTAMP:20260424T192034
CREATED:20250103T184859Z
LAST-MODIFIED:20250103T185102Z
UID:10000255-1737655200-1737660600@paramountclub.pgre.com
SUMMARY:Sip & Script
DESCRIPTION:Join us for a modern calligraphy workshop\, perfect for beginners and craft enthusiasts alike. Learn the basics of pointed pen calligraphy\, enjoy a special New Year’s intention-setting craft\, and take home a complete beginner’s kit. \nPurchase your Ticket \nClass includes 1.5 hours of instruction and demonstration\, our beginner’s calligraphy kit (two nibs\, black ink pot\, 2 letter guides\, tracing paper\, and straight pen holder)\, and all materials to write on. In addition we will be ringing in the New Year with a very special intention setting DIY craft – perfect for utilizing your new calligraphy skills! You don’t want to miss this! Everything is yours to keep at the end of the workshop! \nGet your tickets below! \nFeel free to come early\, grab your seat\, and purchase any food or drinks (food and drinks are available to purchase throughout the class\, too!). Class will start promptly at 6PM!  \nClass Expectations: Yes\, lefties are welcome too! This class is encouraged for someone who has never taken a calligraphy class before. We teach the basics\, and our expectation for you is to have ink flowing through your nib with enough confidence to be able to practice way beyond class. We love using tracing paper with our guides to help you build muscle memory and develop your own style!  If you have tried calligraphy out before\, this class will be a great refresher and hopefully a chance to try some new supplies from our beginner kit that will re-introduce you to this lovely form of art!
URL:https://paramountclub.pgre.com/events-calendar/sip-script/
CATEGORIES:Club Events
ATTACH;FMTTYPE=image/png:https://paramountclub.pgre.com/wp-content/uploads/2025/01/Screenshot-2025-01-03-at-1.47.53-PM.png
END:VEVENT
BEGIN:VEVENT
DTSTART;TZID=America/New_York:20250129T180000
DTEND;TZID=America/New_York:20250129T193000
DTSTAMP:20260424T192034
CREATED:20250109T214620Z
LAST-MODIFIED:20250109T215248Z
UID:10000265-1738173600-1738179000@paramountclub.pgre.com
SUMMARY:Dumpling Masterclass
DESCRIPTION:Celebrate the Lunar New Year with a Dumpling Masterclass led by Executive Chef Mark Gandara! Learn the art of crafting perfect dumplings and enjoy tasting your creations. The class includes: 3 chicken dumplings\, 3 mushroom dumplings\, and a recipe card to take home. \nPurchase Your Tickets \nPlease note\, Paramount Club programming is for members of the Paramount Club and their guests.
URL:https://paramountclub.pgre.com/events-calendar/dumpling-masterclass/
CATEGORIES:Club Events
ATTACH;FMTTYPE=image/png:https://paramountclub.pgre.com/wp-content/uploads/2025/01/Screenshot-2025-01-09-at-4.44.18-PM.png
END:VEVENT
END:VCALENDAR