BEGIN:VCALENDAR
VERSION:2.0
PRODID:-//Paramount Club - ECPv6.13.2.1//NONSGML v1.0//EN
CALSCALE:GREGORIAN
METHOD:PUBLISH
X-ORIGINAL-URL:https://paramountclub.pgre.com
X-WR-CALDESC:Events for Paramount Club
REFRESH-INTERVAL;VALUE=DURATION:PT1H
X-Robots-Tag:noindex
X-PUBLISHED-TTL:PT1H
BEGIN:VTIMEZONE
TZID:America/New_York
BEGIN:DAYLIGHT
TZOFFSETFROM:-0500
TZOFFSETTO:-0400
TZNAME:EDT
DTSTART:20250309T070000
END:DAYLIGHT
BEGIN:STANDARD
TZOFFSETFROM:-0400
TZOFFSETTO:-0500
TZNAME:EST
DTSTART:20251102T060000
END:STANDARD
END:VTIMEZONE
BEGIN:VEVENT
DTSTART;TZID=America/New_York:20250805T170000
DTEND;TZID=America/New_York:20250805T180000
DTSTAMP:20260424T072457
CREATED:20250730T172900Z
LAST-MODIFIED:20250730T172900Z
UID:10003880-1754413200-1754416800@paramountclub.pgre.com
SUMMARY:Complimentary Beer Tasting
DESCRIPTION:Enjoy a complimentary tasting of Endless Life Beer — crafted exclusively for the Paramount Club and brewed locally in Brooklyn. \nMade with 100% New York State malt and hops\, it’s the ideal way to end your day.
URL:https://paramountclub.pgre.com/events-calendar/complimentary-beer-tasting/
CATEGORIES:Club Events
ATTACH;FMTTYPE=image/png:https://paramountclub.pgre.com/wp-content/uploads/2025/07/Endless-Life-Beer-2.png
END:VEVENT
BEGIN:VEVENT
DTSTART;TZID=America/New_York:20250806T180000
DTEND;TZID=America/New_York:20250806T193000
DTSTAMP:20260424T072457
CREATED:20250718T182224Z
LAST-MODIFIED:20250826T193932Z
UID:10003867-1754503200-1754508600@paramountclub.pgre.com
SUMMARY:Turntables & Techniques: Learn to DJ
DESCRIPTION:Starting July 8th\, join us every Tuesday in July and every Wednesday in August for a hands-on DJ class series designed to take you from beginner to advanced. Learn to mix\, scratch\, curate playlists\, and more—no experience necessary! \nSecure Your Ticket \nTo prepare for class\, please download Serato DJ Lite found at this link: https://serato.com/dj/lite. Please import all of the music on your laptop into the program and analyze the files. This can take a few hours! Please bring your laptop as well as a set of headphones with a standard 1/8″ headphone jack. \nAugust 6 – House & EDM Mixing \nFocus on mixing techniques\, tension\, and effects unique to House and EDM. Learn to blend tracks using key\, structure\, and timing for smooth\, high-energy transitions. \nAugust 13 – Hip-Hop\, R&B & Reggaeton \nExplore transitions\, basic scratching\, and genre-specific song structures. Learn to mix and drop tracks with style across Hip-Hop\, R&B\, Dancehall\, and more. \nAugust 20 – Funk\, Rock\, Disco & Oldies \nLearn beatmatching\, swing\, and strategies for high-impact playlist building. Understand how to read the crowd and navigate groove vs. sing-along moments.
URL:https://paramountclub.pgre.com/events-calendar/turntables-techniques-learn-to-dj-2/2025-08-06/
CATEGORIES:Club Events
ATTACH;FMTTYPE=image/png:https://paramountclub.pgre.com/wp-content/uploads/2025/06/Website-Event-Imagery-1080-x-710-px-8.png
END:VEVENT
BEGIN:VEVENT
DTSTART;TZID=America/New_York:20250806T180000
DTEND;TZID=America/New_York:20250806T193000
DTSTAMP:20260424T072457
CREATED:20250826T193958Z
LAST-MODIFIED:20250826T194037Z
UID:10003895-1754503200-1754508600@paramountclub.pgre.com
SUMMARY:Turntables & Techniques: Learn to DJ
DESCRIPTION:Starting July 8th\, join us every Tuesday in July and every Wednesday in August for a hands-on DJ class series designed to take you from beginner to advanced. Learn to mix\, scratch\, curate playlists\, and more—no experience necessary! \nSecure Your Ticket \nTo prepare for class\, please download Serato DJ Lite found at this link: https://serato.com/dj/lite. Please import all of the music on your laptop into the program and analyze the files. This can take a few hours! Please bring your laptop as well as a set of headphones with a standard 1/8″ headphone jack. \nAugust 6 – House & EDM Mixing \nFocus on mixing techniques\, tension\, and effects unique to House and EDM. Learn to blend tracks using key\, structure\, and timing for smooth\, high-energy transitions. \nAugust 13 – Hip-Hop\, R&B & Reggaeton \nExplore transitions\, basic scratching\, and genre-specific song structures. Learn to mix and drop tracks with style across Hip-Hop\, R&B\, Dancehall\, and more. \nAugust 20 – Funk\, Rock\, Disco & Oldies \nLearn beatmatching\, swing\, and strategies for high-impact playlist building. Understand how to read the crowd and navigate groove vs. sing-along moments.
URL:https://paramountclub.pgre.com/events-calendar/turntables-techniques-learn-to-dj-2-2/2025-08-06/
CATEGORIES:Club Events
ATTACH;FMTTYPE=image/png:https://paramountclub.pgre.com/wp-content/uploads/2025/06/Website-Event-Imagery-1080-x-710-px-8.png
END:VEVENT
BEGIN:VEVENT
DTSTART;TZID=America/New_York:20250807T110000
DTEND;TZID=America/New_York:20250807T130000
DTSTAMP:20260424T072457
CREATED:20250728T172939Z
LAST-MODIFIED:20250728T174237Z
UID:10003873-1754564400-1754571600@paramountclub.pgre.com
SUMMARY:Complimentary Coffee Tasting
DESCRIPTION:Perk up your Thursdays this August with complimentary coffee! Stop by between 11:00am and 1:00pm to sip on a rotating lineup of bold\, refreshing brews—on the house. \nAugust 7th: Start strong with our smooth\, slow-steeped Cold Brew—chilled to perfection.August 14th: Power through your day with bold Iced Espresso Shots—small but mighty.August 21st: Transport your taste buds with Coconut Mojito Cold Brew—fresh\, minty\, and tropical.August 28th: Get a first taste of fall with our cozy Maple Latte—a seasonal favorite.
URL:https://paramountclub.pgre.com/events-calendar/complimentary-coffee/2025-08-07/
CATEGORIES:Club Events
ATTACH;FMTTYPE=image/png:https://paramountclub.pgre.com/wp-content/uploads/2025/07/62.png
END:VEVENT
BEGIN:VEVENT
DTSTART;TZID=America/New_York:20250812T173000
DTEND;TZID=America/New_York:20250812T190000
DTSTAMP:20260424T072457
CREATED:20250729T180148Z
LAST-MODIFIED:20250729T180148Z
UID:10003879-1755019800-1755025200@paramountclub.pgre.com
SUMMARY:Creative Workshop: Seashell Trinket Dishes
DESCRIPTION:Join us for a hands-on workshop where you’ll turn ordinary seashells into stunning summer keepsakes using the art of decoupage. No experience needed—all materials are provided. Don’t miss this fun and creative crafting experience! \nSecure your Ticket
URL:https://paramountclub.pgre.com/events-calendar/creative-workshop-seashell-trinket-dishes/
CATEGORIES:Club Events
ATTACH;FMTTYPE=image/png:https://paramountclub.pgre.com/wp-content/uploads/2025/07/Shells-2.png
END:VEVENT
BEGIN:VEVENT
DTSTART;TZID=America/New_York:20250813T180000
DTEND;TZID=America/New_York:20250813T193000
DTSTAMP:20260424T072457
CREATED:20250718T182224Z
LAST-MODIFIED:20250826T193932Z
UID:10003893-1755108000-1755113400@paramountclub.pgre.com
SUMMARY:Turntables & Techniques: Learn to DJ
DESCRIPTION:Starting July 8th\, join us every Tuesday in July and every Wednesday in August for a hands-on DJ class series designed to take you from beginner to advanced. Learn to mix\, scratch\, curate playlists\, and more—no experience necessary! \nSecure Your Ticket \nTo prepare for class\, please download Serato DJ Lite found at this link: https://serato.com/dj/lite. Please import all of the music on your laptop into the program and analyze the files. This can take a few hours! Please bring your laptop as well as a set of headphones with a standard 1/8″ headphone jack. \nAugust 6 – House & EDM Mixing \nFocus on mixing techniques\, tension\, and effects unique to House and EDM. Learn to blend tracks using key\, structure\, and timing for smooth\, high-energy transitions. \nAugust 13 – Hip-Hop\, R&B & Reggaeton \nExplore transitions\, basic scratching\, and genre-specific song structures. Learn to mix and drop tracks with style across Hip-Hop\, R&B\, Dancehall\, and more. \nAugust 20 – Funk\, Rock\, Disco & Oldies \nLearn beatmatching\, swing\, and strategies for high-impact playlist building. Understand how to read the crowd and navigate groove vs. sing-along moments.
URL:https://paramountclub.pgre.com/events-calendar/turntables-techniques-learn-to-dj-2/2025-08-13/
CATEGORIES:Club Events
ATTACH;FMTTYPE=image/png:https://paramountclub.pgre.com/wp-content/uploads/2025/06/Website-Event-Imagery-1080-x-710-px-8.png
END:VEVENT
BEGIN:VEVENT
DTSTART;TZID=America/New_York:20250813T180000
DTEND;TZID=America/New_York:20250813T193000
DTSTAMP:20260424T072457
CREATED:20250826T193958Z
LAST-MODIFIED:20250826T194037Z
UID:10003947-1755108000-1755113400@paramountclub.pgre.com
SUMMARY:Turntables & Techniques: Learn to DJ
DESCRIPTION:Starting July 8th\, join us every Tuesday in July and every Wednesday in August for a hands-on DJ class series designed to take you from beginner to advanced. Learn to mix\, scratch\, curate playlists\, and more—no experience necessary! \nSecure Your Ticket \nTo prepare for class\, please download Serato DJ Lite found at this link: https://serato.com/dj/lite. Please import all of the music on your laptop into the program and analyze the files. This can take a few hours! Please bring your laptop as well as a set of headphones with a standard 1/8″ headphone jack. \nAugust 6 – House & EDM Mixing \nFocus on mixing techniques\, tension\, and effects unique to House and EDM. Learn to blend tracks using key\, structure\, and timing for smooth\, high-energy transitions. \nAugust 13 – Hip-Hop\, R&B & Reggaeton \nExplore transitions\, basic scratching\, and genre-specific song structures. Learn to mix and drop tracks with style across Hip-Hop\, R&B\, Dancehall\, and more. \nAugust 20 – Funk\, Rock\, Disco & Oldies \nLearn beatmatching\, swing\, and strategies for high-impact playlist building. Understand how to read the crowd and navigate groove vs. sing-along moments.
URL:https://paramountclub.pgre.com/events-calendar/turntables-techniques-learn-to-dj-2-2/2025-08-13/
CATEGORIES:Club Events
ATTACH;FMTTYPE=image/png:https://paramountclub.pgre.com/wp-content/uploads/2025/06/Website-Event-Imagery-1080-x-710-px-8.png
END:VEVENT
BEGIN:VEVENT
DTSTART;TZID=America/New_York:20250814T110000
DTEND;TZID=America/New_York:20250814T130000
DTSTAMP:20260424T072457
CREATED:20250728T172939Z
LAST-MODIFIED:20250728T174237Z
UID:10003874-1755169200-1755176400@paramountclub.pgre.com
SUMMARY:Complimentary Coffee Tasting
DESCRIPTION:Perk up your Thursdays this August with complimentary coffee! Stop by between 11:00am and 1:00pm to sip on a rotating lineup of bold\, refreshing brews—on the house. \nAugust 7th: Start strong with our smooth\, slow-steeped Cold Brew—chilled to perfection.August 14th: Power through your day with bold Iced Espresso Shots—small but mighty.August 21st: Transport your taste buds with Coconut Mojito Cold Brew—fresh\, minty\, and tropical.August 28th: Get a first taste of fall with our cozy Maple Latte—a seasonal favorite.
URL:https://paramountclub.pgre.com/events-calendar/complimentary-coffee/2025-08-14/
CATEGORIES:Club Events
ATTACH;FMTTYPE=image/png:https://paramountclub.pgre.com/wp-content/uploads/2025/07/62.png
END:VEVENT
BEGIN:VEVENT
DTSTART;TZID=America/New_York:20250820T110000
DTEND;TZID=America/New_York:20250820T170000
DTSTAMP:20260424T072457
CREATED:20250729T174944Z
LAST-MODIFIED:20250729T174944Z
UID:10003878-1755687600-1755709200@paramountclub.pgre.com
SUMMARY:Blood Drive
DESCRIPTION:Join us for a blood drive in partnership with the New York Blood Center at the Paramount Wellness Center. \nDonate to help save lives—and receive a $15 Paramount Club gift card as a thank-you! \n\n\nWednesday\, July 30th\, 11:00am – 5:00pm \n\n\n\n\nWednesday\, August 20th\, 11:00am – 5:00pm \nRegister here 
URL:https://paramountclub.pgre.com/events-calendar/blood-drive-2/
CATEGORIES:Club Events
ATTACH;FMTTYPE=image/png:https://paramountclub.pgre.com/wp-content/uploads/2025/07/Blood-Drive-2.png
END:VEVENT
BEGIN:VEVENT
DTSTART;TZID=America/New_York:20250820T180000
DTEND;TZID=America/New_York:20250820T193000
DTSTAMP:20260424T072457
CREATED:20250718T182224Z
LAST-MODIFIED:20250826T193932Z
UID:10003894-1755712800-1755718200@paramountclub.pgre.com
SUMMARY:Turntables & Techniques: Learn to DJ
DESCRIPTION:Starting July 8th\, join us every Tuesday in July and every Wednesday in August for a hands-on DJ class series designed to take you from beginner to advanced. Learn to mix\, scratch\, curate playlists\, and more—no experience necessary! \nSecure Your Ticket \nTo prepare for class\, please download Serato DJ Lite found at this link: https://serato.com/dj/lite. Please import all of the music on your laptop into the program and analyze the files. This can take a few hours! Please bring your laptop as well as a set of headphones with a standard 1/8″ headphone jack. \nAugust 6 – House & EDM Mixing \nFocus on mixing techniques\, tension\, and effects unique to House and EDM. Learn to blend tracks using key\, structure\, and timing for smooth\, high-energy transitions. \nAugust 13 – Hip-Hop\, R&B & Reggaeton \nExplore transitions\, basic scratching\, and genre-specific song structures. Learn to mix and drop tracks with style across Hip-Hop\, R&B\, Dancehall\, and more. \nAugust 20 – Funk\, Rock\, Disco & Oldies \nLearn beatmatching\, swing\, and strategies for high-impact playlist building. Understand how to read the crowd and navigate groove vs. sing-along moments.
URL:https://paramountclub.pgre.com/events-calendar/turntables-techniques-learn-to-dj-2/2025-08-20/
CATEGORIES:Club Events
ATTACH;FMTTYPE=image/png:https://paramountclub.pgre.com/wp-content/uploads/2025/06/Website-Event-Imagery-1080-x-710-px-8.png
END:VEVENT
BEGIN:VEVENT
DTSTART;TZID=America/New_York:20250820T180000
DTEND;TZID=America/New_York:20250820T193000
DTSTAMP:20260424T072457
CREATED:20250826T193958Z
LAST-MODIFIED:20250826T194037Z
UID:10003948-1755712800-1755718200@paramountclub.pgre.com
SUMMARY:Turntables & Techniques: Learn to DJ
DESCRIPTION:Starting July 8th\, join us every Tuesday in July and every Wednesday in August for a hands-on DJ class series designed to take you from beginner to advanced. Learn to mix\, scratch\, curate playlists\, and more—no experience necessary! \nSecure Your Ticket \nTo prepare for class\, please download Serato DJ Lite found at this link: https://serato.com/dj/lite. Please import all of the music on your laptop into the program and analyze the files. This can take a few hours! Please bring your laptop as well as a set of headphones with a standard 1/8″ headphone jack. \nAugust 6 – House & EDM Mixing \nFocus on mixing techniques\, tension\, and effects unique to House and EDM. Learn to blend tracks using key\, structure\, and timing for smooth\, high-energy transitions. \nAugust 13 – Hip-Hop\, R&B & Reggaeton \nExplore transitions\, basic scratching\, and genre-specific song structures. Learn to mix and drop tracks with style across Hip-Hop\, R&B\, Dancehall\, and more. \nAugust 20 – Funk\, Rock\, Disco & Oldies \nLearn beatmatching\, swing\, and strategies for high-impact playlist building. Understand how to read the crowd and navigate groove vs. sing-along moments.
URL:https://paramountclub.pgre.com/events-calendar/turntables-techniques-learn-to-dj-2-2/2025-08-20/
CATEGORIES:Club Events
ATTACH;FMTTYPE=image/png:https://paramountclub.pgre.com/wp-content/uploads/2025/06/Website-Event-Imagery-1080-x-710-px-8.png
END:VEVENT
BEGIN:VEVENT
DTSTART;TZID=America/New_York:20250821T110000
DTEND;TZID=America/New_York:20250821T130000
DTSTAMP:20260424T072457
CREATED:20250728T172939Z
LAST-MODIFIED:20250728T174237Z
UID:10003875-1755774000-1755781200@paramountclub.pgre.com
SUMMARY:Complimentary Coffee Tasting
DESCRIPTION:Perk up your Thursdays this August with complimentary coffee! Stop by between 11:00am and 1:00pm to sip on a rotating lineup of bold\, refreshing brews—on the house. \nAugust 7th: Start strong with our smooth\, slow-steeped Cold Brew—chilled to perfection.August 14th: Power through your day with bold Iced Espresso Shots—small but mighty.August 21st: Transport your taste buds with Coconut Mojito Cold Brew—fresh\, minty\, and tropical.August 28th: Get a first taste of fall with our cozy Maple Latte—a seasonal favorite.
URL:https://paramountclub.pgre.com/events-calendar/complimentary-coffee/2025-08-21/
CATEGORIES:Club Events
ATTACH;FMTTYPE=image/png:https://paramountclub.pgre.com/wp-content/uploads/2025/07/62.png
END:VEVENT
BEGIN:VEVENT
DTSTART;TZID=America/New_York:20250826T170000
DTEND;TZID=America/New_York:20250826T180000
DTSTAMP:20260424T072457
CREATED:20250822T171518Z
LAST-MODIFIED:20250822T171518Z
UID:10003882-1756227600-1756231200@paramountclub.pgre.com
SUMMARY:Complimentary Honey Deuce Tasting
DESCRIPTION:Sip the Official Cocktail of the U.S. Open. Join us for a complimentary tasting of the Honey Deuce in the Game Room.
URL:https://paramountclub.pgre.com/events-calendar/complimentary-honey-deuce-tasting/
CATEGORIES:Club Events
ATTACH;FMTTYPE=image/png:https://paramountclub.pgre.com/wp-content/uploads/2025/08/Website-Event-Imagery-1080-x-710-px-17.png
END:VEVENT
BEGIN:VEVENT
DTSTART;TZID=America/New_York:20250828T110000
DTEND;TZID=America/New_York:20250828T130000
DTSTAMP:20260424T072457
CREATED:20250728T172939Z
LAST-MODIFIED:20250728T174237Z
UID:10003876-1756378800-1756386000@paramountclub.pgre.com
SUMMARY:Complimentary Coffee Tasting
DESCRIPTION:Perk up your Thursdays this August with complimentary coffee! Stop by between 11:00am and 1:00pm to sip on a rotating lineup of bold\, refreshing brews—on the house. \nAugust 7th: Start strong with our smooth\, slow-steeped Cold Brew—chilled to perfection.August 14th: Power through your day with bold Iced Espresso Shots—small but mighty.August 21st: Transport your taste buds with Coconut Mojito Cold Brew—fresh\, minty\, and tropical.August 28th: Get a first taste of fall with our cozy Maple Latte—a seasonal favorite.
URL:https://paramountclub.pgre.com/events-calendar/complimentary-coffee/2025-08-28/
CATEGORIES:Club Events
ATTACH;FMTTYPE=image/png:https://paramountclub.pgre.com/wp-content/uploads/2025/07/62.png
END:VEVENT
END:VCALENDAR