BEGIN:VCALENDAR
VERSION:2.0
PRODID:-//Paramount Club - ECPv6.13.2.1//NONSGML v1.0//EN
CALSCALE:GREGORIAN
METHOD:PUBLISH
X-ORIGINAL-URL:https://paramountclub.pgre.com
X-WR-CALDESC:Events for Paramount Club
REFRESH-INTERVAL;VALUE=DURATION:PT1H
X-Robots-Tag:noindex
X-PUBLISHED-TTL:PT1H
BEGIN:VTIMEZONE
TZID:America/New_York
BEGIN:DAYLIGHT
TZOFFSETFROM:-0500
TZOFFSETTO:-0400
TZNAME:EDT
DTSTART:20250309T070000
END:DAYLIGHT
BEGIN:STANDARD
TZOFFSETFROM:-0400
TZOFFSETTO:-0500
TZNAME:EST
DTSTART:20251102T060000
END:STANDARD
END:VTIMEZONE
BEGIN:VEVENT
DTSTART;TZID=America/New_York:20250903T170000
DTEND;TZID=America/New_York:20250903T180000
DTSTAMP:20260424T054613
CREATED:20250827T201206Z
LAST-MODIFIED:20250827T201206Z
UID:10003950-1756918800-1756922400@paramountclub.pgre.com
SUMMARY:Complimentary Beer Tasting
DESCRIPTION:Treat yourself to the bold\, crisp flavors of Montauk Beer with a complimentary tasting at the Paramount Club. The tasting begins at 5:00 PM and is available while supplies last.
URL:https://paramountclub.pgre.com/events-calendar/complimentary-beer-tasting-2/
CATEGORIES:Club Events
ATTACH;FMTTYPE=image/png:https://paramountclub.pgre.com/wp-content/uploads/2025/08/Website-Event-Imagery-1080-x-710-px-18.png
END:VEVENT
BEGIN:VEVENT
DTSTART;TZID=America/New_York:20250904T160000
DTEND;TZID=America/New_York:20250904T200000
DTSTAMP:20260424T054613
CREATED:20250825T135629Z
LAST-MODIFIED:20250825T135629Z
UID:10003884-1757001600-1757016000@paramountclub.pgre.com
SUMMARY:Live DJ at the Paramount Club
DESCRIPTION:Experience the Paramount Club with a live DJ! Enjoy live music while indulging ​in delicious food and expertly crafted cocktails from our menu.
URL:https://paramountclub.pgre.com/events-calendar/live-dj-at-the-paramount-club-7/
CATEGORIES:Club Events
ATTACH;FMTTYPE=image/png:https://paramountclub.pgre.com/wp-content/uploads/2025/06/Website-Event-Imagery-1080-x-710-px-8.png
END:VEVENT
BEGIN:VEVENT
DTSTART;TZID=America/New_York:20250909T183000
DTEND;TZID=America/New_York:20250909T200000
DTSTAMP:20260424T054613
CREATED:20250825T140804Z
LAST-MODIFIED:20250825T140804Z
UID:10003889-1757442600-1757448000@paramountclub.pgre.com
SUMMARY:Trivia Night with TriviaNYC
DESCRIPTION:Challenge yourself and your colleagues with a night of fun and friendly competition in the Game Room! \nTrivia is complimentary\, limited spots available. Reserve your ticket. \n\nWant to host a private Trivia night for your team? Email events@paramount.club to inquire.
URL:https://paramountclub.pgre.com/events-calendar/trivia-night-with-trivianyc/
LOCATION:Paramount Club\, 1301 6th Avenue\, New York\, NY\, 10019\, United States
CATEGORIES:Club Events
ATTACH;FMTTYPE=image/jpeg:https://paramountclub.pgre.com/wp-content/uploads/2025/06/af532493125baab84f480bb477600b02-H3m7eo.tmp_.jpg
END:VEVENT
BEGIN:VEVENT
DTSTART;TZID=America/New_York:20250910T110000
DTEND;TZID=America/New_York:20250910T140000
DTSTAMP:20260424T054613
CREATED:20250902T143426Z
LAST-MODIFIED:20250902T143426Z
UID:10003953-1757502000-1757512800@paramountclub.pgre.com
SUMMARY:Complimentary Chobani Treats
DESCRIPTION:Enjoy Chobani yogurt parfaits and drinks on us—packed with protein\, real fruit and natural ingredients. Join us at 11:00am—available while supplies last.
URL:https://paramountclub.pgre.com/events-calendar/complimentary-chobani-treats/
CATEGORIES:Club Events
ATTACH;FMTTYPE=image/png:https://paramountclub.pgre.com/wp-content/uploads/2025/09/Website-Event-Imagery-1080-x-710-px-19.png
END:VEVENT
BEGIN:VEVENT
DTSTART;TZID=America/New_York:20250910T160000
DTEND;TZID=America/New_York:20250910T200000
DTSTAMP:20260424T054613
CREATED:20250825T135707Z
LAST-MODIFIED:20250825T135707Z
UID:10003885-1757520000-1757534400@paramountclub.pgre.com
SUMMARY:Live DJ at the Paramount Club
DESCRIPTION:Experience the Paramount Club with a live DJ! Enjoy live music while indulging ​in delicious food and expertly crafted cocktails from our menu.
URL:https://paramountclub.pgre.com/events-calendar/live-dj-at-the-paramount-club-8/
CATEGORIES:Club Events
ATTACH;FMTTYPE=image/png:https://paramountclub.pgre.com/wp-content/uploads/2025/06/Website-Event-Imagery-1080-x-710-px-8.png
END:VEVENT
BEGIN:VEVENT
DTSTART;TZID=America/New_York:20250918T160000
DTEND;TZID=America/New_York:20250918T200000
DTSTAMP:20260424T054613
CREATED:20250825T135756Z
LAST-MODIFIED:20250825T135756Z
UID:10003886-1758211200-1758225600@paramountclub.pgre.com
SUMMARY:Live DJ at the Paramount Club
DESCRIPTION:Experience the Paramount Club with a live DJ! Enjoy live music while indulging ​in delicious food and expertly crafted cocktails from our menu.
URL:https://paramountclub.pgre.com/events-calendar/live-dj-at-the-paramount-club-9/
CATEGORIES:Club Events
ATTACH;FMTTYPE=image/png:https://paramountclub.pgre.com/wp-content/uploads/2025/06/Website-Event-Imagery-1080-x-710-px-8.png
END:VEVENT
BEGIN:VEVENT
DTSTART;TZID=America/New_York:20250918T180000
DTEND;TZID=America/New_York:20250918T193000
DTSTAMP:20260424T054613
CREATED:20250902T140348Z
LAST-MODIFIED:20250902T140348Z
UID:10003952-1758218400-1758223800@paramountclub.pgre.com
SUMMARY:Sushi Night in the Atrium
DESCRIPTION:We’re kicking off fall with an exclusive evening of chef-made sushi in the Atrium! Your ticket includes access to a generous spread of expertly crafted rolls and nigiri\, with premium sake and craft cocktails available for purchase at the bar. \nSecure Your Ticket \nParamount Club programming events are open to members and their registered guests.
URL:https://paramountclub.pgre.com/events-calendar/sushi-night-in-the-atrium/
CATEGORIES:Club Events
ATTACH;FMTTYPE=image/png:https://paramountclub.pgre.com/wp-content/uploads/2025/09/Sushi.png
END:VEVENT
BEGIN:VEVENT
DTSTART;TZID=America/New_York:20250925T160000
DTEND;TZID=America/New_York:20250925T200000
DTSTAMP:20260424T054613
CREATED:20250825T135820Z
LAST-MODIFIED:20250825T135820Z
UID:10003888-1758816000-1758830400@paramountclub.pgre.com
SUMMARY:Live DJ at the Paramount Club
DESCRIPTION:Experience the Paramount Club with a live DJ! Enjoy live music while indulging ​in delicious food and expertly crafted cocktails from our menu.
URL:https://paramountclub.pgre.com/events-calendar/live-dj-at-the-paramount-club-11/
CATEGORIES:Club Events
ATTACH;FMTTYPE=image/png:https://paramountclub.pgre.com/wp-content/uploads/2025/06/Website-Event-Imagery-1080-x-710-px-8.png
END:VEVENT
BEGIN:VEVENT
DTSTART;TZID=America/New_York:20250929T110000
DTEND;TZID=America/New_York:20250929T140000
DTSTAMP:20260424T054613
CREATED:20250922T142237Z
LAST-MODIFIED:20250922T142237Z
UID:10003957-1759143600-1759154400@paramountclub.pgre.com
SUMMARY:Complimentary Coffee
DESCRIPTION:Enjoy a complimentary taste of fall with Illy. Pumpkin Spice ​Latte and Salted Caramel Cold Brew samples will ​be available at the Paramount Cafe while supplies last.
URL:https://paramountclub.pgre.com/events-calendar/complimentary-coffee-2/
CATEGORIES:Club Events
ATTACH;FMTTYPE=image/png:https://paramountclub.pgre.com/wp-content/uploads/2025/09/Coffee.png
END:VEVENT
END:VCALENDAR