BEGIN:VCALENDAR
VERSION:2.0
PRODID:-//Paramount Club - ECPv6.13.2.1//NONSGML v1.0//EN
CALSCALE:GREGORIAN
METHOD:PUBLISH
X-ORIGINAL-URL:https://paramountclub.pgre.com
X-WR-CALDESC:Events for Paramount Club
REFRESH-INTERVAL;VALUE=DURATION:PT1H
X-Robots-Tag:noindex
X-PUBLISHED-TTL:PT1H
BEGIN:VTIMEZONE
TZID:America/New_York
BEGIN:DAYLIGHT
TZOFFSETFROM:-0500
TZOFFSETTO:-0400
TZNAME:EDT
DTSTART:20250309T070000
END:DAYLIGHT
BEGIN:STANDARD
TZOFFSETFROM:-0400
TZOFFSETTO:-0500
TZNAME:EST
DTSTART:20251102T060000
END:STANDARD
END:VTIMEZONE
BEGIN:VEVENT
DTSTART;TZID=America/New_York:20251002T160000
DTEND;TZID=America/New_York:20251002T200000
DTSTAMP:20260424T035352
CREATED:20250922T141355Z
LAST-MODIFIED:20250922T141355Z
UID:10003955-1759420800-1759435200@paramountclub.pgre.com
SUMMARY:Live DJ at the Paramount Club
DESCRIPTION:Experience the Paramount Club with a live DJ! Enjoy live music while indulging ​in delicious food and expertly crafted cocktails from our menu.
URL:https://paramountclub.pgre.com/events-calendar/live-dj-at-the-paramount-club-12/
CATEGORIES:Club Events
ATTACH;FMTTYPE=image/png:https://paramountclub.pgre.com/wp-content/uploads/2025/06/Website-Event-Imagery-1080-x-710-px-8.png
END:VEVENT
BEGIN:VEVENT
DTSTART;TZID=America/New_York:20251007T180000
DTEND;TZID=America/New_York:20251007T193000
DTSTAMP:20260424T035352
CREATED:20250922T142132Z
LAST-MODIFIED:20250922T142132Z
UID:10003956-1759860000-1759865400@paramountclub.pgre.com
SUMMARY:Rooftop-to-Table Cooking Class
DESCRIPTION:In collaboration with MicroHabitat\, join us for a rooftop-to-table cooking class. Tour the rooftop garden at 1301 Avenue of the Americas\, hand-pick fresh ingredients\, and create a surprise dish with Paramount Club Executive Chef Mark Gandara! \nSecure Your Ticket 
URL:https://paramountclub.pgre.com/events-calendar/rooftop-to-table-cooking-class/
CATEGORIES:Club Events
ATTACH;FMTTYPE=image/png:https://paramountclub.pgre.com/wp-content/uploads/2025/09/Urban-Farm-.png
END:VEVENT
BEGIN:VEVENT
DTSTART;TZID=America/New_York:20251008T160000
DTEND;TZID=America/New_York:20251008T200000
DTSTAMP:20260424T035352
CREATED:20250825T135810Z
LAST-MODIFIED:20250825T135858Z
UID:10003887-1759939200-1759953600@paramountclub.pgre.com
SUMMARY:Live DJ at the Paramount Club
DESCRIPTION:Experience the Paramount Club with a live DJ! Enjoy live music while indulging ​in delicious food and expertly crafted cocktails from our menu.
URL:https://paramountclub.pgre.com/events-calendar/live-dj-at-the-paramount-club-10/
CATEGORIES:Club Events
ATTACH;FMTTYPE=image/png:https://paramountclub.pgre.com/wp-content/uploads/2025/06/Website-Event-Imagery-1080-x-710-px-8.png
END:VEVENT
BEGIN:VEVENT
DTSTART;TZID=America/New_York:20251014T183000
DTEND;TZID=America/New_York:20251014T200000
DTSTAMP:20260424T035352
CREATED:20250825T140924Z
LAST-MODIFIED:20250825T140924Z
UID:10003890-1760466600-1760472000@paramountclub.pgre.com
SUMMARY:Trivia Night with TriviaNYC
DESCRIPTION:Challenge yourself and your colleagues with a night of fun and friendly competition in the Game Room! \nTrivia is complimentary\, limited spots available. Reserve your ticket. \nWant to host a private Trivia night for your team? Email events@paramount.club to inquire.
URL:https://paramountclub.pgre.com/events-calendar/trivia-night-with-trivianyc-2/
LOCATION:Paramount Club\, 1301 6th Avenue\, New York\, NY\, 10019\, United States
CATEGORIES:Club Events
ATTACH;FMTTYPE=image/jpeg:https://paramountclub.pgre.com/wp-content/uploads/2025/06/af532493125baab84f480bb477600b02-H3m7eo.tmp_.jpg
END:VEVENT
BEGIN:VEVENT
DTSTART;TZID=America/New_York:20251015T170000
DTEND;TZID=America/New_York:20251015T210000
DTSTAMP:20260424T035352
CREATED:20250925T143252Z
LAST-MODIFIED:20251003T194002Z
UID:10003958-1760547600-1760562000@paramountclub.pgre.com
SUMMARY:Goldie Boutilier Live at Paramount Club
DESCRIPTION:Join us for an intimate\, one-night-only performance by singer-songwriter Goldie Boutilier! Experience her cinematic blend of alt-country\, pop\, and rock—from soaring anthemic choruses to sultry\, lounge-style ballads—plus pre-show perks for ticket holders. \nReserve Your Ticket \nSchedule: \n5:00pm: Doors Open \n\nFirst 50 guests to arrive receive a complimentary wine\, beer\, or coffee\nLive DJ to kick off the evening\n\n5:00pm – 5:45pm: Gran Coramino tequila tasting in the Game Room— open to all ticket holders \n6:00pm: Goldie Boutilier Performance \nLive DJ to close out the evening. \nListen to Goldie Boutilier’s latest hits. \nParamount Club programming events are open to members and their registered guests.
URL:https://paramountclub.pgre.com/events-calendar/goldie-boutilier-live-at-paramount-club/
CATEGORIES:Club Events
ATTACH;FMTTYPE=image/png:https://paramountclub.pgre.com/wp-content/uploads/2025/09/Website-Event-Imagery-1080-x-710-px-20.png
END:VEVENT
BEGIN:VEVENT
DTSTART;TZID=America/New_York:20251016T160000
DTEND;TZID=America/New_York:20251016T200000
DTSTAMP:20260424T035352
CREATED:20251003T142240Z
LAST-MODIFIED:20251003T142240Z
UID:10003967-1760630400-1760644800@paramountclub.pgre.com
SUMMARY:Live DJ at the Paramount Club
DESCRIPTION:Experience the Paramount Club with a live DJ! Enjoy live music while indulging ​in delicious food and expertly crafted cocktails from our menu.
URL:https://paramountclub.pgre.com/events-calendar/live-dj-at-the-paramount-club-13/
CATEGORIES:Club Events
ATTACH;FMTTYPE=image/png:https://paramountclub.pgre.com/wp-content/uploads/2025/06/Website-Event-Imagery-1080-x-710-px-8.png
END:VEVENT
BEGIN:VEVENT
DTSTART;TZID=America/New_York:20251021T170000
DTEND;TZID=America/New_York:20251021T180000
DTSTAMP:20260424T035352
CREATED:20251017T165033Z
LAST-MODIFIED:20251017T165109Z
UID:10003983-1761066000-1761069600@paramountclub.pgre.com
SUMMARY:Rare Whiskey Tasting on Us
DESCRIPTION:Join us for a complimentary tasting of Wingwoman Reserve—featuring global whiskies and single-cask releases from a woman-owned collective. The tasting begins at 5:00pm\, while supplies last.
URL:https://paramountclub.pgre.com/events-calendar/rare-whiskey-tasting-on-us/
CATEGORIES:Club Events
ATTACH;FMTTYPE=image/png:https://paramountclub.pgre.com/wp-content/uploads/2025/10/wingwoman.png
END:VEVENT
BEGIN:VEVENT
DTSTART;TZID=America/New_York:20251023T160000
DTEND;TZID=America/New_York:20251023T200000
DTSTAMP:20260424T035352
CREATED:20251003T142332Z
LAST-MODIFIED:20251003T142332Z
UID:10003968-1761235200-1761249600@paramountclub.pgre.com
SUMMARY:Live DJ at the Paramount Club
DESCRIPTION:Experience the Paramount Club with a live DJ! Enjoy live music while indulging ​in delicious food and expertly crafted cocktails from our menu.
URL:https://paramountclub.pgre.com/events-calendar/live-dj-at-the-paramount-club-14/
CATEGORIES:Club Events
ATTACH;FMTTYPE=image/png:https://paramountclub.pgre.com/wp-content/uploads/2025/06/Website-Event-Imagery-1080-x-710-px-8.png
END:VEVENT
BEGIN:VEVENT
DTSTART;TZID=America/New_York:20251023T180000
DTEND;TZID=America/New_York:20251023T200000
DTSTAMP:20260424T035352
CREATED:20251003T193430Z
LAST-MODIFIED:20251003T193924Z
UID:10003977-1761242400-1761249600@paramountclub.pgre.com
SUMMARY:Paint & Sip: New York City Skyline
DESCRIPTION:Unleash your creativity in this fun and relaxed paint-and-sip class led by Paint The Town. You’ll create your very own New York City skyline masterpiece on canvas while enjoying a glass of wine. No prior experience needed—just bring your imagination! \nSecure Your Ticket \nYour ticket includes: One canvas and all painting supplies\, one glass of wine\, step-by-step expert instruction \nParamount Club programming events are open to members and their registered guests.
URL:https://paramountclub.pgre.com/events-calendar/paint-sip-new-york-city-skyline/
CATEGORIES:Club Events
ATTACH;FMTTYPE=image/png:https://paramountclub.pgre.com/wp-content/uploads/2025/10/Website-Event-Imagery-1080-x-710-px-22.png
END:VEVENT
BEGIN:VEVENT
DTSTART;TZID=America/New_York:20251029T170000
DTEND;TZID=America/New_York:20251029T200000
DTSTAMP:20260424T035352
CREATED:20251017T164943Z
LAST-MODIFIED:20251017T164943Z
UID:10003982-1761757200-1761768000@paramountclub.pgre.com
SUMMARY:Cocktails & Connectivity: IT Leaders & Enthusiasts 
DESCRIPTION:Join Lightpath & Ciena for complimentary cocktails\, hors d’oeuvres and the opportunity to connect with fellow IT leaders & Technology Enthusiasts. \nRSVP here  \n 
URL:https://paramountclub.pgre.com/events-calendar/cocktails-connectivity-it-leaders-enthusiasts/
CATEGORIES:Club Events
ATTACH;FMTTYPE=image/png:https://paramountclub.pgre.com/wp-content/uploads/2025/10/Website-Event-Imagery-1080-x-710-px-23.png
END:VEVENT
BEGIN:VEVENT
DTSTART;TZID=America/New_York:20251030T160000
DTEND;TZID=America/New_York:20251030T200000
DTSTAMP:20260424T035352
CREATED:20251003T142501Z
LAST-MODIFIED:20251003T142501Z
UID:10003969-1761840000-1761854400@paramountclub.pgre.com
SUMMARY:Live DJ at the Paramount Club
DESCRIPTION:Experience the Paramount Club with a live DJ! Enjoy live music while indulging ​in delicious food and expertly crafted cocktails from our menu.
URL:https://paramountclub.pgre.com/events-calendar/live-dj-at-the-paramount-club-15/
CATEGORIES:Club Events
ATTACH;FMTTYPE=image/png:https://paramountclub.pgre.com/wp-content/uploads/2025/06/Website-Event-Imagery-1080-x-710-px-8.png
END:VEVENT
END:VCALENDAR