BEGIN:VCALENDAR
VERSION:2.0
PRODID:-//Paramount Club - ECPv6.13.2.1//NONSGML v1.0//EN
CALSCALE:GREGORIAN
METHOD:PUBLISH
X-ORIGINAL-URL:https://paramountclub.pgre.com
X-WR-CALDESC:Events for Paramount Club
REFRESH-INTERVAL;VALUE=DURATION:PT1H
X-Robots-Tag:noindex
X-PUBLISHED-TTL:PT1H
BEGIN:VTIMEZONE
TZID:America/New_York
BEGIN:DAYLIGHT
TZOFFSETFROM:-0500
TZOFFSETTO:-0400
TZNAME:EDT
DTSTART:20250309T070000
END:DAYLIGHT
BEGIN:STANDARD
TZOFFSETFROM:-0400
TZOFFSETTO:-0500
TZNAME:EST
DTSTART:20251102T060000
END:STANDARD
END:VTIMEZONE
BEGIN:VEVENT
DTSTART;TZID=America/New_York:20251104T183000
DTEND;TZID=America/New_York:20251104T200000
DTSTAMP:20260424T020538
CREATED:20250825T140940Z
LAST-MODIFIED:20250825T140943Z
UID:10003891-1762281000-1762286400@paramountclub.pgre.com
SUMMARY:Trivia Night with TriviaNYC
DESCRIPTION:Challenge yourself and your colleagues with a night of fun and friendly competition in the Game Room! \nTrivia is complimentary\, limited spots available. Reserve your ticket. \nWant to host a private Trivia night for your team? Email events@paramount.club to inquire.
URL:https://paramountclub.pgre.com/events-calendar/trivia-night-with-trivianyc-3/
LOCATION:Paramount Club\, 1301 6th Avenue\, New York\, NY\, 10019\, United States
CATEGORIES:Club Events
ATTACH;FMTTYPE=image/jpeg:https://paramountclub.pgre.com/wp-content/uploads/2025/06/af532493125baab84f480bb477600b02-H3m7eo.tmp_.jpg
END:VEVENT
BEGIN:VEVENT
DTSTART;TZID=America/New_York:20251110T110000
DTEND;TZID=America/New_York:20251110T140000
DTSTAMP:20260424T020538
CREATED:20251104T173220Z
LAST-MODIFIED:20251104T173224Z
UID:10004023-1762772400-1762783200@paramountclub.pgre.com
SUMMARY:Complimentary Thanksgiving Pie Preview
DESCRIPTION:Celebrate the season with a complimentary pie tasting at the Café. Enjoy Apple and Pumpkin Pie samples while supplies last.
URL:https://paramountclub.pgre.com/events-calendar/complimentary-thanksgiving-pie-preview/
CATEGORIES:Club Events
ATTACH;FMTTYPE=image/png:https://paramountclub.pgre.com/wp-content/uploads/2025/11/84.png
END:VEVENT
BEGIN:VEVENT
DTSTART;TZID=America/New_York:20251110T180000
DTEND;TZID=America/New_York:20251110T190000
DTSTAMP:20260424T020538
CREATED:20251028T141203Z
LAST-MODIFIED:20251028T141203Z
UID:10003988-1762797600-1762801200@paramountclub.pgre.com
SUMMARY:Discover Sound Healing with Olo 
DESCRIPTION:​Join us for a complimentary audio experience designed to help you relax\, reduce stress\, and sharpen your focus. Athletic apparel recommend but not required. Limited spots available. \nSecure your Spot
URL:https://paramountclub.pgre.com/events-calendar/discover-sound-healing-with-olo/
CATEGORIES:Club Events
ATTACH;FMTTYPE=image/png:https://paramountclub.pgre.com/wp-content/uploads/2025/10/Website-Event-Imagery-1080-x-710-px-26.png
END:VEVENT
BEGIN:VEVENT
DTSTART;TZID=America/New_York:20251112T100000
DTEND;TZID=America/New_York:20251112T140000
DTSTAMP:20260424T020538
CREATED:20251104T173742Z
LAST-MODIFIED:20251104T173742Z
UID:10004024-1762941600-1762956000@paramountclub.pgre.com
SUMMARY:Anne Woodman Jewelry Retail Pop-up 
DESCRIPTION:Spread joy this holiday season with unique\, handcrafted jewelry by Anne Woodman — perfect for gifting or treating yourself. Browse online and visit her pop-up shop at the Paramount Club on November 12th and 13th.
URL:https://paramountclub.pgre.com/events-calendar/anne-woodman-jewelry-retail-pop-up/
CATEGORIES:Club Events
ATTACH;FMTTYPE=image/png:https://paramountclub.pgre.com/wp-content/uploads/2025/11/Website-Event-Imagery-1080-x-710-px-29.png
END:VEVENT
BEGIN:VEVENT
DTSTART;TZID=America/New_York:20251113T100000
DTEND;TZID=America/New_York:20251113T140000
DTSTAMP:20260424T020538
CREATED:20251104T173808Z
LAST-MODIFIED:20251104T173808Z
UID:10004025-1763028000-1763042400@paramountclub.pgre.com
SUMMARY:Anne Woodman Jewelry Retail Pop-up 
DESCRIPTION:Spread joy this holiday season with unique\, handcrafted jewelry by Anne Woodman — perfect for gifting or treating yourself. Browse online and visit her pop-up shop at the Paramount Club on November 12th and 13th.
URL:https://paramountclub.pgre.com/events-calendar/anne-woodman-jewelry-retail-pop-up-2/
CATEGORIES:Club Events
ATTACH;FMTTYPE=image/png:https://paramountclub.pgre.com/wp-content/uploads/2025/11/Website-Event-Imagery-1080-x-710-px-29.png
END:VEVENT
BEGIN:VEVENT
DTSTART;TZID=America/New_York:20251113T180000
DTEND;TZID=America/New_York:20251113T200000
DTSTAMP:20260424T020538
CREATED:20251028T141331Z
LAST-MODIFIED:20251028T141331Z
UID:10003989-1763056800-1763064000@paramountclub.pgre.com
SUMMARY:Crafts & Cocktails - Jewelry Making Class
DESCRIPTION:Welcome to Crafts & Cocktails – jewelry making class! Join jewelry designer Anne Woodman at the Paramount Club for a fun and creative evening. Learn how to craft your own unique holiday cocktail ring while sipping on delicious cocktails. No experience needed – our expert instructor will guide you every step of the way. You’ll walk away with new knowledge about the history of cocktail rings\, a new skill\, and a stunning piece of jewelry to show off to your friends. \nSecure your spot!
URL:https://paramountclub.pgre.com/events-calendar/crafts-cocktails-jewelry-making-class/
CATEGORIES:Club Events
ATTACH;FMTTYPE=image/png:https://paramountclub.pgre.com/wp-content/uploads/2025/03/Anne-Woodman-Jewelry-.png
END:VEVENT
BEGIN:VEVENT
DTSTART;TZID=America/New_York:20251120T160000
DTEND;TZID=America/New_York:20251120T200000
DTSTAMP:20260424T020538
CREATED:20251003T142557Z
LAST-MODIFIED:20251003T142557Z
UID:10003971-1763654400-1763668800@paramountclub.pgre.com
SUMMARY:Live DJ at the Paramount Club
DESCRIPTION:Experience the Paramount Club with a live DJ! Enjoy live music while indulging ​in delicious food and expertly crafted cocktails from our menu.
URL:https://paramountclub.pgre.com/events-calendar/live-dj-at-the-paramount-club-17/
CATEGORIES:Club Events
ATTACH;FMTTYPE=image/png:https://paramountclub.pgre.com/wp-content/uploads/2025/06/Website-Event-Imagery-1080-x-710-px-8.png
END:VEVENT
BEGIN:VEVENT
DTSTART;TZID=America/New_York:20251120T180000
DTEND;TZID=America/New_York:20251120T193000
DTSTAMP:20260424T020538
CREATED:20251114T174412Z
LAST-MODIFIED:20251114T174412Z
UID:10004029-1763661600-1763667000@paramountclub.pgre.com
SUMMARY:Wine Bottle Painting Class
DESCRIPTION:Join us for a fun\, hands-on evening of wine bottle painting! Create your own custom design to keep or gift while enjoying a relaxed and creative night —limited spots available! \nSecure your Ticket
URL:https://paramountclub.pgre.com/events-calendar/wine-bottle-painting-class/
CATEGORIES:Club Events
ATTACH;FMTTYPE=image/png:https://paramountclub.pgre.com/wp-content/uploads/2025/11/89.png
END:VEVENT
END:VCALENDAR