BEGIN:VCALENDAR
VERSION:2.0
PRODID:-//Paramount Club - ECPv6.13.2.1//NONSGML v1.0//EN
CALSCALE:GREGORIAN
METHOD:PUBLISH
X-ORIGINAL-URL:https://paramountclub.pgre.com
X-WR-CALDESC:Events for Paramount Club
REFRESH-INTERVAL;VALUE=DURATION:PT1H
X-Robots-Tag:noindex
X-PUBLISHED-TTL:PT1H
BEGIN:VTIMEZONE
TZID:America/New_York
BEGIN:DAYLIGHT
TZOFFSETFROM:-0500
TZOFFSETTO:-0400
TZNAME:EDT
DTSTART:20260308T070000
END:DAYLIGHT
BEGIN:STANDARD
TZOFFSETFROM:-0400
TZOFFSETTO:-0500
TZNAME:EST
DTSTART:20261101T060000
END:STANDARD
END:VTIMEZONE
BEGIN:VEVENT
DTSTART;TZID=America/New_York:20260108T180000
DTEND;TZID=America/New_York:20260108T193000
DTSTAMP:20260423T222820
CREATED:20251223T201618Z
LAST-MODIFIED:20251229T184908Z
UID:10005340-1767895200-1767900600@paramountclub.pgre.com
SUMMARY:SotoMethod Pop-up
DESCRIPTION:Paramount Wellness is excited to host a pop-up class in collaboration with SotoMethod.\n\n\n\nGet ready to sweat\, sculpt\, and push your limits with an immersive\, full-body workout designed to ignite your strength and endurance — all powered by The SotoMethod’s signature style. \nSecure your Ticket  \nTICKET INCLUDES \n50-minute SotoMethod class led by Hilary Hoffman\, founder of SotoMethod \nComplimentary handcrafted smoothies \nEnter to win a complimentary SotoMethod residency class (January 13th\, 20th\, and 27th at 6pm) \nOpportunity to shop Rhone & Stakt products \nExclusive Tour of the Wellness Center \n\n\nCan’t make it in person? Try SotoMethod On Demand free for a month.\nCode: PARAMOUNT
URL:https://paramountclub.pgre.com/events-calendar/sotomethod-pop-up/
CATEGORIES:Club Events
ATTACH;FMTTYPE=image/png:https://paramountclub.pgre.com/wp-content/uploads/2025/12/Website-Event-Imagery-1080-x-710-px-34.png
END:VEVENT
BEGIN:VEVENT
DTSTART;TZID=America/New_York:20260113T183000
DTEND;TZID=America/New_York:20260113T203000
DTSTAMP:20260423T222820
CREATED:20251222T140403Z
LAST-MODIFIED:20251222T140403Z
UID:10005341-1768329000-1768336200@paramountclub.pgre.com
SUMMARY:Trivia Night with TriviaNYC
DESCRIPTION:Challenge yourself and your colleagues with a night of fun and friendly competition in the Game Room! \nTrivia is complimentary\, limited spots available. Reserve your ticket. \nWant to host a private Trivia night for your team? Email events@paramount.club to inquire.
URL:https://paramountclub.pgre.com/events-calendar/trivia-night-with-trivianyc-4/2026-01-13/
CATEGORIES:Club Events
ATTACH;FMTTYPE=image/jpeg:https://paramountclub.pgre.com/wp-content/uploads/2025/06/af532493125baab84f480bb477600b02-H3m7eo.tmp_.jpg
END:VEVENT
BEGIN:VEVENT
DTSTART;TZID=America/New_York:20260114T180000
DTEND;TZID=America/New_York:20260114T193000
DTSTAMP:20260423T222820
CREATED:20260102T140820Z
LAST-MODIFIED:20260102T140820Z
UID:10005350-1768413600-1768419000@paramountclub.pgre.com
SUMMARY:Sip & Script - New Year's Edition
DESCRIPTION:Join us for a modern calligraphy workshop\, perfect for beginners and craft enthusiasts alike. Learn the basics of pointed pen calligraphy\, enjoy a special New Year’s intention-setting craft\, and take home a complete beginner’s kit. \nSecure Your Ticket 
URL:https://paramountclub.pgre.com/events-calendar/sip-script-new-years-edition/
CATEGORIES:Club Events
ATTACH;FMTTYPE=image/png:https://paramountclub.pgre.com/wp-content/uploads/2025/01/Sip-script-website.png
END:VEVENT
BEGIN:VEVENT
DTSTART;TZID=America/New_York:20260115T160000
DTEND;TZID=America/New_York:20260115T200000
DTSTAMP:20260423T222820
CREATED:20260102T142358Z
LAST-MODIFIED:20260102T142358Z
UID:10005352-1768492800-1768507200@paramountclub.pgre.com
SUMMARY:Live DJ at Paramount Club
DESCRIPTION:Experience the Paramount Club with a live DJ! Enjoy live music while indulging ​in delicious food and expertly crafted cocktails from our menu.
URL:https://paramountclub.pgre.com/events-calendar/live-dj-at-paramount-club/
CATEGORIES:Club Events
ATTACH;FMTTYPE=image/png:https://paramountclub.pgre.com/wp-content/uploads/2025/06/Website-Event-Imagery-1080-x-710-px-8.png
END:VEVENT
BEGIN:VEVENT
DTSTART;TZID=America/New_York:20260115T170000
DTEND;TZID=America/New_York:20260115T180000
DTSTAMP:20260423T222820
CREATED:20260102T171158Z
LAST-MODIFIED:20260102T171158Z
UID:10005359-1768496400-1768500000@paramountclub.pgre.com
SUMMARY:French Bloom Complimentary Tasting
DESCRIPTION:We’re celebrating Dry January with a complimentary pour of French Bloom’s non-alcoholic wine.
URL:https://paramountclub.pgre.com/events-calendar/french-bloom-complimentary-tasting/
CATEGORIES:Club Events
ATTACH;FMTTYPE=image/png:https://paramountclub.pgre.com/wp-content/uploads/2026/01/Website-Event-Imagery-1080-x-710-px-36.png
END:VEVENT
BEGIN:VEVENT
DTSTART;TZID=America/New_York:20260122T160000
DTEND;TZID=America/New_York:20260122T200000
DTSTAMP:20260423T222820
CREATED:20260114T153851Z
LAST-MODIFIED:20260114T153851Z
UID:10005360-1769097600-1769112000@paramountclub.pgre.com
SUMMARY:Live DJ at Paramount Club
DESCRIPTION:Experience the Paramount Club with a live DJ! Enjoy live music while indulging ​in delicious food and expertly crafted cocktails from our menu.
URL:https://paramountclub.pgre.com/events-calendar/live-dj-at-paramount-club-3/
CATEGORIES:Club Events
ATTACH;FMTTYPE=image/png:https://paramountclub.pgre.com/wp-content/uploads/2025/06/Website-Event-Imagery-1080-x-710-px-8.png
END:VEVENT
BEGIN:VEVENT
DTSTART;TZID=America/New_York:20260127T180000
DTEND;TZID=America/New_York:20260127T200000
DTSTAMP:20260423T222820
CREATED:20260102T152031Z
LAST-MODIFIED:20260102T152031Z
UID:10005354-1769536800-1769544000@paramountclub.pgre.com
SUMMARY:Paint & Sip
DESCRIPTION:Unleash your creativity in this fun and relaxed paint-and-sip class led by Paint The Town. You’ll create your very own masterpiece on canvas while enjoying a glass of wine. No prior experience needed—just bring your imagination! \nSecure Your Ticket  \nYour ticket includes: \nOne canvas and all painting supplies \nOne glass of wine \nStep-by-step expert instruction \nParamount Club programming events are open to members and their registered guests.
URL:https://paramountclub.pgre.com/events-calendar/paint-sip/
CATEGORIES:Club Events
ATTACH;FMTTYPE=image/png:https://paramountclub.pgre.com/wp-content/uploads/2025/10/Website-Event-Imagery-1080-x-710-px-22.png
END:VEVENT
BEGIN:VEVENT
DTSTART;TZID=America/New_York:20260128T180000
DTEND;TZID=America/New_York:20260128T193000
DTSTAMP:20260423T222820
CREATED:20260114T154525Z
LAST-MODIFIED:20260114T154525Z
UID:10005361-1769623200-1769628600@paramountclub.pgre.com
SUMMARY:Soup & Nourish: Culinary Wellness Demo & Tasting
DESCRIPTION:Join us for an interactive soup demo and tasting with Registered Dietitian Annie McKinley and Executive Chef Mark Gandara\, combining culinary technique with nutrition tips. Enjoy a live demonstration\, soup tasting\, and take-home soup and recipe card to recreate the dish at home. \nSecure your Spot
URL:https://paramountclub.pgre.com/events-calendar/soup-nourish-culinary-wellness-demo-tasting/
CATEGORIES:Club Events
ATTACH;FMTTYPE=image/png:https://paramountclub.pgre.com/wp-content/uploads/2026/01/Website-Event-Imagery-1080-x-710-px-38.png
END:VEVENT
BEGIN:VEVENT
DTSTART;TZID=America/New_York:20260129T160000
DTEND;TZID=America/New_York:20260129T200000
DTSTAMP:20260423T222820
CREATED:20260102T155239Z
LAST-MODIFIED:20260102T155239Z
UID:10005357-1769702400-1769716800@paramountclub.pgre.com
SUMMARY:Live DJ at Paramount Club
DESCRIPTION:Experience the Paramount Club with a live DJ! Enjoy live music while indulging ​in delicious food and expertly crafted cocktails from our menu.
URL:https://paramountclub.pgre.com/events-calendar/live-dj-at-paramount-club-2/
CATEGORIES:Club Events
ATTACH;FMTTYPE=image/png:https://paramountclub.pgre.com/wp-content/uploads/2025/06/Website-Event-Imagery-1080-x-710-px-8.png
END:VEVENT
BEGIN:VEVENT
DTSTART;TZID=America/New_York:20260129T173000
DTEND;TZID=America/New_York:20260129T193000
DTSTAMP:20260423T222820
CREATED:20260102T161047Z
LAST-MODIFIED:20260102T161047Z
UID:10005358-1769707800-1769715000@paramountclub.pgre.com
SUMMARY:Cocktails & Connections - HR Leaders
DESCRIPTION:Join Beacon Hill Solutions Group for complimentary cocktails\, hors d’oeuvres\, and networking with HR leaders in the game room.\n\nRSVP Here\n\nParamount Club programming events are open to members and their registered guests.
URL:https://paramountclub.pgre.com/events-calendar/cocktails-connections-hr-leaders/
CATEGORIES:Club Events
ATTACH;FMTTYPE=image/png:https://paramountclub.pgre.com/wp-content/uploads/2026/01/Website-Event-Imagery-1080-x-710-px-37.png
END:VEVENT
END:VCALENDAR