BEGIN:VCALENDAR
VERSION:2.0
PRODID:-//Paramount Club - ECPv6.13.2.1//NONSGML v1.0//EN
CALSCALE:GREGORIAN
METHOD:PUBLISH
X-ORIGINAL-URL:https://paramountclub.pgre.com
X-WR-CALDESC:Events for Paramount Club
REFRESH-INTERVAL;VALUE=DURATION:PT1H
X-Robots-Tag:noindex
X-PUBLISHED-TTL:PT1H
BEGIN:VTIMEZONE
TZID:America/New_York
BEGIN:DAYLIGHT
TZOFFSETFROM:-0500
TZOFFSETTO:-0400
TZNAME:EDT
DTSTART:20260308T070000
END:DAYLIGHT
BEGIN:STANDARD
TZOFFSETFROM:-0400
TZOFFSETTO:-0500
TZNAME:EST
DTSTART:20261101T060000
END:STANDARD
END:VTIMEZONE
BEGIN:VEVENT
DTSTART;TZID=America/New_York:20260303T110000
DTEND;TZID=America/New_York:20260303T140000
DTSTAMP:20260423T190357
CREATED:20260227T165956Z
LAST-MODIFIED:20260227T170612Z
UID:10005407-1772535600-1772546400@paramountclub.pgre.com
SUMMARY:Cookie Perk Alert
DESCRIPTION:To celebrate Women’s History Month\, the first 100 members who purchase a coffee or tea will receive a complimentary S’mores Cookie Cup by Executive Pastry Chef Stephanie Oliveria of L’Avenue at Saks. Available beginning at 11:00am\, while supplies last.
URL:https://paramountclub.pgre.com/events-calendar/cookie-perk-alert/
CATEGORIES:Club Events
ATTACH;FMTTYPE=image/png:https://paramountclub.pgre.com/wp-content/uploads/2026/02/Website-Event-Imagery-1080-x-710-px-47.png
END:VEVENT
BEGIN:VEVENT
DTSTART;TZID=America/New_York:20260305T160000
DTEND;TZID=America/New_York:20260305T200000
DTSTAMP:20260423T190357
CREATED:20260301T151919Z
LAST-MODIFIED:20260301T151919Z
UID:10005408-1772726400-1772740800@paramountclub.pgre.com
SUMMARY:Live DJ at Paramount Club
DESCRIPTION:Experience the Paramount Club with a live DJ! Enjoy live music while indulging ​in delicious food and expertly crafted cocktails from our menu.
URL:https://paramountclub.pgre.com/events-calendar/live-dj-at-paramount-club-7/
CATEGORIES:Club Events
ATTACH;FMTTYPE=image/png:https://paramountclub.pgre.com/wp-content/uploads/2025/06/Website-Event-Imagery-1080-x-710-px-8.png
END:VEVENT
BEGIN:VEVENT
DTSTART;TZID=America/New_York:20260310T183000
DTEND;TZID=America/New_York:20260310T203000
DTSTAMP:20260423T190357
CREATED:20251222T140403Z
LAST-MODIFIED:20251222T140403Z
UID:10005343-1773167400-1773174600@paramountclub.pgre.com
SUMMARY:Trivia Night with TriviaNYC
DESCRIPTION:Challenge yourself and your colleagues with a night of fun and friendly competition in the Game Room! \nTrivia is complimentary\, limited spots available. Reserve your ticket. \nWant to host a private Trivia night for your team? Email events@paramount.club to inquire.
URL:https://paramountclub.pgre.com/events-calendar/trivia-night-with-trivianyc-4/2026-03-10/
CATEGORIES:Club Events
ATTACH;FMTTYPE=image/jpeg:https://paramountclub.pgre.com/wp-content/uploads/2025/06/af532493125baab84f480bb477600b02-H3m7eo.tmp_.jpg
END:VEVENT
BEGIN:VEVENT
DTSTART;TZID=America/New_York:20260312T160000
DTEND;TZID=America/New_York:20260312T200000
DTSTAMP:20260423T190357
CREATED:20260301T151940Z
LAST-MODIFIED:20260301T151940Z
UID:10005409-1773331200-1773345600@paramountclub.pgre.com
SUMMARY:Live DJ at Paramount Club
DESCRIPTION:Experience the Paramount Club with a live DJ! Enjoy live music while indulging ​in delicious food and expertly crafted cocktails from our menu.
URL:https://paramountclub.pgre.com/events-calendar/live-dj-at-paramount-club-8/
CATEGORIES:Club Events
ATTACH;FMTTYPE=image/png:https://paramountclub.pgre.com/wp-content/uploads/2025/06/Website-Event-Imagery-1080-x-710-px-8.png
END:VEVENT
BEGIN:VEVENT
DTSTART;TZID=America/New_York:20260317T170000
DTEND;TZID=America/New_York:20260317T180000
DTSTAMP:20260423T190357
CREATED:20260301T154703Z
LAST-MODIFIED:20260301T155246Z
UID:10005412-1773766800-1773770400@paramountclub.pgre.com
SUMMARY:St. Patrick’s Day Complimentary Beer Tasting
DESCRIPTION:Join us for a complimentary tasting of Nitro Irish Stout — smooth\, creamy\, and perfectly poured for the occasion.
URL:https://paramountclub.pgre.com/events-calendar/st-patricks-day-complimentary-beer-tasting/
CATEGORIES:Club Events
ATTACH;FMTTYPE=image/png:https://paramountclub.pgre.com/wp-content/uploads/2026/03/Website-Event-Imagery-1080-x-710-px-50.png
END:VEVENT
BEGIN:VEVENT
DTSTART;TZID=America/New_York:20260318T180000
DTEND;TZID=America/New_York:20260318T200000
DTSTAMP:20260423T190357
CREATED:20260102T152129Z
LAST-MODIFIED:20260102T152129Z
UID:10005356-1773856800-1773864000@paramountclub.pgre.com
SUMMARY:Paint & Sip
DESCRIPTION:Unleash your creativity in this fun and relaxed paint-and-sip class led by Paint The Town. You’ll create your very own masterpiece on canvas while enjoying a glass of wine. No prior experience needed—just bring your imagination! \nSecure Your Ticket  \nYour ticket includes: \nOne canvas and all painting supplies \nOne glass of wine \nStep-by-step expert instruction \nParamount Club programming events are open to members and their registered guests.
URL:https://paramountclub.pgre.com/events-calendar/paint-sip-3/
CATEGORIES:Club Events
ATTACH;FMTTYPE=image/png:https://paramountclub.pgre.com/wp-content/uploads/2025/10/Website-Event-Imagery-1080-x-710-px-22.png
END:VEVENT
BEGIN:VEVENT
DTSTART;TZID=America/New_York:20260319T160000
DTEND;TZID=America/New_York:20260319T200000
DTSTAMP:20260423T190357
CREATED:20260301T151955Z
LAST-MODIFIED:20260301T151955Z
UID:10005410-1773936000-1773950400@paramountclub.pgre.com
SUMMARY:Live DJ at Paramount Club
DESCRIPTION:Experience the Paramount Club with a live DJ! Enjoy live music while indulging ​in delicious food and expertly crafted cocktails from our menu.
URL:https://paramountclub.pgre.com/events-calendar/live-dj-at-paramount-club-9/
CATEGORIES:Club Events
ATTACH;FMTTYPE=image/png:https://paramountclub.pgre.com/wp-content/uploads/2025/06/Website-Event-Imagery-1080-x-710-px-8.png
END:VEVENT
BEGIN:VEVENT
DTSTART;TZID=America/New_York:20260319T173000
DTEND;TZID=America/New_York:20260319T193000
DTSTAMP:20260423T190357
CREATED:20260301T160126Z
LAST-MODIFIED:20260301T160126Z
UID:10005413-1773941400-1773948600@paramountclub.pgre.com
SUMMARY:Singles Night in the Atrium
DESCRIPTION:Ready to meet someone new—without the apps? Join us for Singles Night\, in partnership with BOND\, an exclusive matchmaking service focused on real-life connections. Come for the live DJ\, stay for the bites\, drinks\, and great conversation. \nSecure your Spot
URL:https://paramountclub.pgre.com/events-calendar/singles-night-in-the-atrium/
CATEGORIES:Club Events
ATTACH;FMTTYPE=image/png:https://paramountclub.pgre.com/wp-content/uploads/2026/03/Website-Event-Imagery-1080-x-710-px-51.png
END:VEVENT
BEGIN:VEVENT
DTSTART;TZID=America/New_York:20260323T110000
DTEND;TZID=America/New_York:20260323T140000
DTSTAMP:20260423T190357
CREATED:20260301T160732Z
LAST-MODIFIED:20260301T160746Z
UID:10005414-1774263600-1774274400@paramountclub.pgre.com
SUMMARY:Vita Coco Complimentary Tasting
DESCRIPTION:Stop by for a tasting of Vita Coco on us\, coconut water made with natural electrolytes for everyday hydration.
URL:https://paramountclub.pgre.com/events-calendar/vita-coco-complimentary-tasting/
CATEGORIES:Club Events
ATTACH;FMTTYPE=image/png:https://paramountclub.pgre.com/wp-content/uploads/2026/03/Website-Event-Imagery-1080-x-710-px-52.png
END:VEVENT
BEGIN:VEVENT
DTSTART;TZID=America/New_York:20260326T160000
DTEND;TZID=America/New_York:20260326T200000
DTSTAMP:20260423T190357
CREATED:20260301T152015Z
LAST-MODIFIED:20260301T152015Z
UID:10005411-1774540800-1774555200@paramountclub.pgre.com
SUMMARY:Live DJ at Paramount Club
DESCRIPTION:Experience the Paramount Club with a live DJ! Enjoy live music while indulging ​in delicious food and expertly crafted cocktails from our menu.
URL:https://paramountclub.pgre.com/events-calendar/live-dj-at-paramount-club-10/
CATEGORIES:Club Events
ATTACH;FMTTYPE=image/png:https://paramountclub.pgre.com/wp-content/uploads/2025/06/Website-Event-Imagery-1080-x-710-px-8.png
END:VEVENT
BEGIN:VEVENT
DTSTART;TZID=America/New_York:20260326T180000
DTEND;TZID=America/New_York:20260326T193000
DTSTAMP:20260423T190357
CREATED:20260317T152050Z
LAST-MODIFIED:20260317T152708Z
UID:10005417-1774548000-1774553400@paramountclub.pgre.com
SUMMARY:German Chocolate Cake Masterclass
DESCRIPTION:Celebrate Women’s History Month with a special women-led cooking class! Join The Met Museums’ Executive Pastry Chef Lindsey Verardo as she guides you through mastering the art of the perfect German Chocolate Cake. \nSecure your Ticket
URL:https://paramountclub.pgre.com/events-calendar/german-chocolate-cake-masterclass/
CATEGORIES:Club Events
ATTACH;FMTTYPE=image/png:https://paramountclub.pgre.com/wp-content/uploads/2026/03/Website-Event-Imagery-1080-x-710-px-54.png
END:VEVENT
BEGIN:VEVENT
DTSTART;TZID=America/New_York:20260331T173000
DTEND;TZID=America/New_York:20260331T193000
DTSTAMP:20260423T190357
CREATED:20260312T145649Z
LAST-MODIFIED:20260312T145919Z
UID:10005415-1774978200-1774985400@paramountclub.pgre.com
SUMMARY:An Evening with Girls Inc. of NYC | Women’s History Month Panel
DESCRIPTION:This Women’s History Month\, join us for an inspiring evening with Girls Inc. of New York City focused on how we can support and uplift the next generation of strong\, smart\, and bold girls. \nThis event will spotlight Project Accelerate\, an initiative by Girls Inc. of NYC designed to connect recent college graduates with mentors\, job opportunities\, and long-term support. \nSecure Your Ticket  \nThe panel will include: \n\nA candid conversation with Girls Inc. of NYC leaders Dr. Lindsay Kite and April Caldwell on what girls in New York City are navigating today and why continued investment matters\nPersonal stories from student ambassadors Aleha Syed\, Esha Iftikhar and Humayra Shahnaz reflecting on their journeys with Girls Inc. of NYC\nA discussion on how to mentor\, advocate\, and help create meaningful pathways for tomorrow’s leaders\n\nFollowing the panel\, please stay for a complimentary reception featuring Wingwoman Whiskey\, along with wine and light bites. \nYour ticket fee will be donated to Girls Inc. of NYC. Please enter any amount above $1 to secure your spot. Ticket fees will be 100% donated to Girls Inc. of NYC\, with the exception of taxes and processing fees. \n\n$10 gives a girl healthy snacks at afterschool programming\n$25 provides a girl with essential school supplies\n$50 gives a girl a mental health wellness package with a journal and stress relief items\n\nTo learn more about the Paramount Group campaign\, click here.
URL:https://paramountclub.pgre.com/events-calendar/an-evening-with-girls-inc-of-nyc-womens-history-month-panel/
CATEGORIES:Club Events
ATTACH;FMTTYPE=image/png:https://paramountclub.pgre.com/wp-content/uploads/2026/03/Website-Event-Imagery-1080-x-710-px-53.png
END:VEVENT
END:VCALENDAR