BEGIN:VCALENDAR
VERSION:2.0
PRODID:-//Paramount Club - ECPv6.13.2.1//NONSGML v1.0//EN
CALSCALE:GREGORIAN
METHOD:PUBLISH
X-ORIGINAL-URL:https://paramountclub.pgre.com
X-WR-CALDESC:Events for Paramount Club
REFRESH-INTERVAL;VALUE=DURATION:PT1H
X-Robots-Tag:noindex
X-PUBLISHED-TTL:PT1H
BEGIN:VTIMEZONE
TZID:America/New_York
BEGIN:DAYLIGHT
TZOFFSETFROM:-0500
TZOFFSETTO:-0400
TZNAME:EDT
DTSTART:20250309T070000
END:DAYLIGHT
BEGIN:STANDARD
TZOFFSETFROM:-0400
TZOFFSETTO:-0500
TZNAME:EST
DTSTART:20251102T060000
END:STANDARD
END:VTIMEZONE
BEGIN:VEVENT
DTSTART;VALUE=DATE:20250602
DTEND;VALUE=DATE:20250701
DTSTAMP:20260424T105207
CREATED:20250530T202347Z
LAST-MODIFIED:20250530T202347Z
UID:10003706-1748822400-1751327999@paramountclub.pgre.com
SUMMARY:Sip with Pride
DESCRIPTION:This June\, we’re raising a glass for a cause! For every glass or bottle of rosé sold at the Paramount Club\, 10% of sales will go directly to support The Center\, an organization dedicated to empowering LGBTQ+ communities. Join us in sipping for a purpose and making a positive impact while enjoying your favorite summer wine.
URL:https://paramountclub.pgre.com/events-calendar/sip-with-pride/
CATEGORIES:Club Promotions
ATTACH;FMTTYPE=image/png:https://paramountclub.pgre.com/wp-content/uploads/2025/05/Sip-with-Pride.png
END:VEVENT
BEGIN:VEVENT
DTSTART;TZID=America/New_York:20250602T130000
DTEND;TZID=America/New_York:20250630T160000
DTSTAMP:20260424T105207
CREATED:20250530T202205Z
LAST-MODIFIED:20250530T202205Z
UID:10003705-1748869200-1751299200@paramountclub.pgre.com
SUMMARY:Sip\, Save\, and Stay Well - Smoothie Promotion
DESCRIPTION:We’re excited to introduce two new signature Smoothies\, available all day at the Paramount Café! \nThroughout June\, enjoy 50% off when you show proof of a same-week wellness appointment. \nBook a wellness appointment. 
URL:https://paramountclub.pgre.com/events-calendar/sip-save-and-stay-well-smoothie-promotion/
CATEGORIES:Club Promotions
ATTACH;FMTTYPE=image/png:https://paramountclub.pgre.com/wp-content/uploads/2025/05/Smoothies.png
END:VEVENT
END:VCALENDAR