BEGIN:VCALENDAR
VERSION:2.0
PRODID:-//Paramount Club - ECPv6.13.2.1//NONSGML v1.0//EN
CALSCALE:GREGORIAN
METHOD:PUBLISH
X-WR-CALNAME:Paramount Club
X-ORIGINAL-URL:https://paramountclub.pgre.com
X-WR-CALDESC:Events for Paramount Club
REFRESH-INTERVAL;VALUE=DURATION:PT1H
X-Robots-Tag:noindex
X-PUBLISHED-TTL:PT1H
BEGIN:VTIMEZONE
TZID:America/New_York
BEGIN:DAYLIGHT
TZOFFSETFROM:-0500
TZOFFSETTO:-0400
TZNAME:EDT
DTSTART:20250309T070000
END:DAYLIGHT
BEGIN:STANDARD
TZOFFSETFROM:-0400
TZOFFSETTO:-0500
TZNAME:EST
DTSTART:20251102T060000
END:STANDARD
END:VTIMEZONE
BEGIN:VEVENT
DTSTART;TZID=America/New_York:20250701T070000
DTEND;TZID=America/New_York:20250829T160000
DTSTAMP:20260424T072730
CREATED:20250702T141830Z
LAST-MODIFIED:20250702T141832Z
UID:10003852-1751353200-1756483200@paramountclub.pgre.com
SUMMARY:Cool Tumblers\, Chill Deals
DESCRIPTION:Starting July 1st\, enjoy 50% off our signature tumblers — just $17.50 — and get $2 off every iced drink when you use your tumbler throughout July and August. Hydration just got a whole lot cooler!
URL:https://paramountclub.pgre.com/events-calendar/cool-tumblers-chill-deals/
CATEGORIES:Club Promotions
ATTACH;FMTTYPE=image/png:https://paramountclub.pgre.com/wp-content/uploads/2025/07/Website-Event-Imagery-1080-x-710-px-11.png
END:VEVENT
BEGIN:VEVENT
DTSTART;TZID=America/New_York:20250707T150000
DTEND;TZID=America/New_York:20250828T220000
DTSTAMP:20260424T072730
CREATED:20250703T135502Z
LAST-MODIFIED:20250703T135502Z
UID:10003855-1751900400-1756418400@paramountclub.pgre.com
SUMMARY:Flatbread Summer Savings
DESCRIPTION:Double up on flatbreads Monday through Thursday after 3 p.m.—buy one\, get the second 50% off. Savor the classic Pepperoni Flatbread or enjoy our fresh summer addition: the Heirloom Tomato Flatbread\, bursting with seasonal flavor.
URL:https://paramountclub.pgre.com/events-calendar/flatbread-summer-savings/
CATEGORIES:Club Promotions
ATTACH;FMTTYPE=image/png:https://paramountclub.pgre.com/wp-content/uploads/2025/07/55.png
END:VEVENT
BEGIN:VEVENT
DTSTART;VALUE=DATE:20250818
DTEND;VALUE=DATE:20250906
DTSTAMP:20260424T072730
CREATED:20250820T142408Z
LAST-MODIFIED:20250820T142740Z
UID:10003881-1755475200-1757116799@paramountclub.pgre.com
SUMMARY:U.S. Open Extended Happy Hour
DESCRIPTION:Watch every play on the big screens in the Game Room – and enjoy our Happy Hour menu in the Game Room whenever the action’s live. See below for the full schedule. \nWeek 1: \nAugust 18th\, 11:00am-9:00pm – Qualifying – First Round \nAugust 19th\, 11:00am-9:00pm – Qualifying – First Round / Mixed Doubles – 1st & 2nd Rounds \nAugust 20th\, 11:00am-9:00pm – Qualifying – Second Round \nAugust 21st\, 11:00am-9:00pm – Qualifying – Final Round \nWeek 2: \nAugust 25th\, 11:00am-10:00pm – First Round \nAugust 26th\, 11:00am-10:00pm – First round \nAugust 27th\, 11:00am-10:00pm – Second Round \nAugust 28th\, 11:00am-10:00pm – Second Round \nAugust 29th\, 11:00am-4:00pm – Third Round \nWeek 3: \nSeptember 2nd\, 11:00am-10:00pm – Men’s & Women’s Quarterfinals \nSeptember 3rd\, 11:00am-10:00pm – Men’s & Women’s Quarterfinals \nSeptember 4th\, 7:00pm-10:00pm – Women’s Singles Semifinals \nSeptember 5th: \n12:00pm – 2:00pm – Women’s Doubles Championship \n3:00pm-6:00pm – Men’s Singles Semifinals #1 \n7:00pm-10:00pm – Men’s Singles Semifinals #2
URL:https://paramountclub.pgre.com/events-calendar/u-s-open-extended-happy-hour/
CATEGORIES:Club Promotions
ATTACH;FMTTYPE=image/png:https://paramountclub.pgre.com/wp-content/uploads/2025/08/Website-Event-Imagery-1080-x-710-px-16.png
END:VEVENT
END:VCALENDAR