BEGIN:VCALENDAR
VERSION:2.0
PRODID:-//Paramount Club - ECPv6.13.2.1//NONSGML v1.0//EN
CALSCALE:GREGORIAN
METHOD:PUBLISH
X-WR-CALNAME:Paramount Club
X-ORIGINAL-URL:https://paramountclub.pgre.com
X-WR-CALDESC:Events for Paramount Club
REFRESH-INTERVAL;VALUE=DURATION:PT1H
X-Robots-Tag:noindex
X-PUBLISHED-TTL:PT1H
BEGIN:VTIMEZONE
TZID:America/New_York
BEGIN:DAYLIGHT
TZOFFSETFROM:-0500
TZOFFSETTO:-0400
TZNAME:EDT
DTSTART:20250309T070000
END:DAYLIGHT
BEGIN:STANDARD
TZOFFSETFROM:-0400
TZOFFSETTO:-0500
TZNAME:EST
DTSTART:20251102T060000
END:STANDARD
BEGIN:DAYLIGHT
TZOFFSETFROM:-0500
TZOFFSETTO:-0400
TZNAME:EDT
DTSTART:20260308T070000
END:DAYLIGHT
BEGIN:STANDARD
TZOFFSETFROM:-0400
TZOFFSETTO:-0500
TZNAME:EST
DTSTART:20261101T060000
END:STANDARD
END:VTIMEZONE
BEGIN:VEVENT
DTSTART;TZID=America/New_York:20260422T070000
DTEND;TZID=America/New_York:20260422T170000
DTSTAMP:20260423T210049
CREATED:20260409T145434Z
LAST-MODIFIED:20260409T145434Z
UID:10005692-1776841200-1776877200@paramountclub.pgre.com
SUMMARY:Earth Day Giveaway
DESCRIPTION:In honor of Earth Day\, the first 25 members who make a Cafe will receive a complimentary Paramount Club tumbler. To celebrate sustainably\, bring your tumbler back and enjoy $1 off every use.
URL:https://paramountclub.pgre.com/events-calendar/earth-day-giveaway-2/
CATEGORIES:Club Promotions
ATTACH;FMTTYPE=image/png:https://paramountclub.pgre.com/wp-content/uploads/2025/07/Website-Event-Imagery-1080-x-710-px-11.png
END:VEVENT
BEGIN:VEVENT
DTSTART;TZID=America/New_York:20260324T110000
DTEND;TZID=America/New_York:20260324T210000
DTSTAMP:20260423T210049
CREATED:20260317T152640Z
LAST-MODIFIED:20260317T152640Z
UID:10005418-1774350000-1774386000@paramountclub.pgre.com
SUMMARY:National Cocktail Day - $5 off Cocktails
DESCRIPTION:We’re celebrating National Cocktail Day with $5 off all cocktails.* Cheers! \n*Excludes Happy Hour cocktails
URL:https://paramountclub.pgre.com/events-calendar/national-cocktail-day-5-off-cocktails/
CATEGORIES:Club Promotions
ATTACH;FMTTYPE=image/png:https://paramountclub.pgre.com/wp-content/uploads/2026/03/Website-Event-Imagery-1080-x-710-px-55.png
END:VEVENT
BEGIN:VEVENT
DTSTART;TZID=America/New_York:20260209T070000
DTEND;TZID=America/New_York:20260213T170000
DTSTAMP:20260423T210049
CREATED:20260212T145355Z
LAST-MODIFIED:20260212T152351Z
UID:10005379-1770620400-1771002000@paramountclub.pgre.com
SUMMARY:Funny Face Bakery Valentine's Day Cookies
DESCRIPTION:Sweeten your week with Funny Face Bakery’s Valentine’s Day cookies\, available for purchase at the Paramount Club all week\, while supplies last.
URL:https://paramountclub.pgre.com/events-calendar/funny-face-bakery-valentines-day-cookies/
CATEGORIES:Club Promotions
ATTACH;FMTTYPE=image/png:https://paramountclub.pgre.com/wp-content/uploads/2026/02/Website-Event-Imagery-1080-x-710-px-44.png
END:VEVENT
BEGIN:VEVENT
DTSTART;VALUE=DATE:20251112
DTEND;VALUE=DATE:20251122
DTSTAMP:20260423T210049
CREATED:20251114T174552Z
LAST-MODIFIED:20251114T174624Z
UID:10004030-1762905600-1763769599@paramountclub.pgre.com
SUMMARY:Share Your Feedback + Enter to Win a $100 Gift Card
DESCRIPTION:Help us make the Paramount Club even better. Share what you’d like to see more of—events\, dining\, wellness—and enter for the chance to win a $100 Paramount Club gift card and $100 Paramount Wellness gift card. \nTake The Survey \nDeadline: November 21st
URL:https://paramountclub.pgre.com/events-calendar/share-your-feedback-enter-to-win-a-100-gift-card/
CATEGORIES:Club Promotions
ATTACH;FMTTYPE=image/png:https://paramountclub.pgre.com/wp-content/uploads/2025/11/90.png
END:VEVENT
BEGIN:VEVENT
DTSTART;VALUE=DATE:20251103
DTEND;VALUE=DATE:20251113
DTSTAMP:20260423T210049
CREATED:20251104T173114Z
LAST-MODIFIED:20251104T173114Z
UID:10004022-1762128000-1762991999@paramountclub.pgre.com
SUMMARY:Thanksgiving Pie Sales
DESCRIPTION:Skip the baking this year — order from Paramount Club instead! Order your pies November 3–12 and choose from Apple\, Pumpkin\, Pecan\, Coconut Custard\, or Cherry.Pick up your order conveniently at the Paramount Club on November 24 or 25.Questions? Contact concierge@paramount.club \nORDER HERE \n 
URL:https://paramountclub.pgre.com/events-calendar/thanksgiving-pie-sales/
CATEGORIES:Club Promotions
ATTACH;FMTTYPE=image/png:https://paramountclub.pgre.com/wp-content/uploads/2025/11/83.png
END:VEVENT
BEGIN:VEVENT
DTSTART;VALUE=DATE:20250818
DTEND;VALUE=DATE:20250906
DTSTAMP:20260423T210049
CREATED:20250820T142408Z
LAST-MODIFIED:20250820T142740Z
UID:10003881-1755475200-1757116799@paramountclub.pgre.com
SUMMARY:U.S. Open Extended Happy Hour
DESCRIPTION:Watch every play on the big screens in the Game Room – and enjoy our Happy Hour menu in the Game Room whenever the action’s live. See below for the full schedule. \nWeek 1: \nAugust 18th\, 11:00am-9:00pm – Qualifying – First Round \nAugust 19th\, 11:00am-9:00pm – Qualifying – First Round / Mixed Doubles – 1st & 2nd Rounds \nAugust 20th\, 11:00am-9:00pm – Qualifying – Second Round \nAugust 21st\, 11:00am-9:00pm – Qualifying – Final Round \nWeek 2: \nAugust 25th\, 11:00am-10:00pm – First Round \nAugust 26th\, 11:00am-10:00pm – First round \nAugust 27th\, 11:00am-10:00pm – Second Round \nAugust 28th\, 11:00am-10:00pm – Second Round \nAugust 29th\, 11:00am-4:00pm – Third Round \nWeek 3: \nSeptember 2nd\, 11:00am-10:00pm – Men’s & Women’s Quarterfinals \nSeptember 3rd\, 11:00am-10:00pm – Men’s & Women’s Quarterfinals \nSeptember 4th\, 7:00pm-10:00pm – Women’s Singles Semifinals \nSeptember 5th: \n12:00pm – 2:00pm – Women’s Doubles Championship \n3:00pm-6:00pm – Men’s Singles Semifinals #1 \n7:00pm-10:00pm – Men’s Singles Semifinals #2
URL:https://paramountclub.pgre.com/events-calendar/u-s-open-extended-happy-hour/
CATEGORIES:Club Promotions
ATTACH;FMTTYPE=image/png:https://paramountclub.pgre.com/wp-content/uploads/2025/08/Website-Event-Imagery-1080-x-710-px-16.png
END:VEVENT
BEGIN:VEVENT
DTSTART;TZID=America/New_York:20250730T140000
DTEND;TZID=America/New_York:20250730T170000
DTSTAMP:20260423T210049
CREATED:20250708T154747Z
LAST-MODIFIED:20250708T154747Z
UID:10003860-1753884000-1753894800@paramountclub.pgre.com
SUMMARY:Sweet Treat Wednesday
DESCRIPTION:Sweeten your Wednesdays this July at the Paramount Café! Each week features a delightful treat you won’t want to miss—available for purchase at the café from 2:00pm-5:00pm. \nJuly 9th: indulge in rich\, creamy affogatos—the perfect pick-me-up for summer afternoons. \nJuly 16th: Cool down with a refreshing combo of juicy peaches and vanilla ice cream. \nJuly 23rd: Savor ice cream sandwiches made with our signature chocolate chip cookies. \nJuly 30th: Dig into decadent mud pies crafted with homemade cookies.
URL:https://paramountclub.pgre.com/events-calendar/sweet-treat-wednesday/2025-07-30/
CATEGORIES:Club Promotions
ATTACH;FMTTYPE=image/png:https://paramountclub.pgre.com/wp-content/uploads/2025/07/Sweet-Treat-Wednesday.png
END:VEVENT
BEGIN:VEVENT
DTSTART;TZID=America/New_York:20250723T140000
DTEND;TZID=America/New_York:20250723T170000
DTSTAMP:20260423T210049
CREATED:20250708T154747Z
LAST-MODIFIED:20250708T154747Z
UID:10003859-1753279200-1753290000@paramountclub.pgre.com
SUMMARY:Sweet Treat Wednesday
DESCRIPTION:Sweeten your Wednesdays this July at the Paramount Café! Each week features a delightful treat you won’t want to miss—available for purchase at the café from 2:00pm-5:00pm. \nJuly 9th: indulge in rich\, creamy affogatos—the perfect pick-me-up for summer afternoons. \nJuly 16th: Cool down with a refreshing combo of juicy peaches and vanilla ice cream. \nJuly 23rd: Savor ice cream sandwiches made with our signature chocolate chip cookies. \nJuly 30th: Dig into decadent mud pies crafted with homemade cookies.
URL:https://paramountclub.pgre.com/events-calendar/sweet-treat-wednesday/2025-07-23/
CATEGORIES:Club Promotions
ATTACH;FMTTYPE=image/png:https://paramountclub.pgre.com/wp-content/uploads/2025/07/Sweet-Treat-Wednesday.png
END:VEVENT
BEGIN:VEVENT
DTSTART;TZID=America/New_York:20250716T140000
DTEND;TZID=America/New_York:20250716T170000
DTSTAMP:20260423T210049
CREATED:20250708T154747Z
LAST-MODIFIED:20250708T154747Z
UID:10003858-1752674400-1752685200@paramountclub.pgre.com
SUMMARY:Sweet Treat Wednesday
DESCRIPTION:Sweeten your Wednesdays this July at the Paramount Café! Each week features a delightful treat you won’t want to miss—available for purchase at the café from 2:00pm-5:00pm. \nJuly 9th: indulge in rich\, creamy affogatos—the perfect pick-me-up for summer afternoons. \nJuly 16th: Cool down with a refreshing combo of juicy peaches and vanilla ice cream. \nJuly 23rd: Savor ice cream sandwiches made with our signature chocolate chip cookies. \nJuly 30th: Dig into decadent mud pies crafted with homemade cookies.
URL:https://paramountclub.pgre.com/events-calendar/sweet-treat-wednesday/2025-07-16/
CATEGORIES:Club Promotions
ATTACH;FMTTYPE=image/png:https://paramountclub.pgre.com/wp-content/uploads/2025/07/Sweet-Treat-Wednesday.png
END:VEVENT
BEGIN:VEVENT
DTSTART;TZID=America/New_York:20250709T140000
DTEND;TZID=America/New_York:20250709T170000
DTSTAMP:20260423T210049
CREATED:20250708T154747Z
LAST-MODIFIED:20250708T154747Z
UID:10003857-1752069600-1752080400@paramountclub.pgre.com
SUMMARY:Sweet Treat Wednesday
DESCRIPTION:Sweeten your Wednesdays this July at the Paramount Café! Each week features a delightful treat you won’t want to miss—available for purchase at the café from 2:00pm-5:00pm. \nJuly 9th: indulge in rich\, creamy affogatos—the perfect pick-me-up for summer afternoons. \nJuly 16th: Cool down with a refreshing combo of juicy peaches and vanilla ice cream. \nJuly 23rd: Savor ice cream sandwiches made with our signature chocolate chip cookies. \nJuly 30th: Dig into decadent mud pies crafted with homemade cookies.
URL:https://paramountclub.pgre.com/events-calendar/sweet-treat-wednesday/2025-07-09/
CATEGORIES:Club Promotions
ATTACH;FMTTYPE=image/png:https://paramountclub.pgre.com/wp-content/uploads/2025/07/Sweet-Treat-Wednesday.png
END:VEVENT
BEGIN:VEVENT
DTSTART;TZID=America/New_York:20250708T080000
DTEND;TZID=America/New_York:20250708T220000
DTSTAMP:20260423T210049
CREATED:20250703T135556Z
LAST-MODIFIED:20250703T142222Z
UID:10003856-1751961600-1752012000@paramountclub.pgre.com
SUMMARY:National Blueberry Day
DESCRIPTION:Berry good news! Celebrate National Blueberry day with blueberry pancakes available for purchase all day in the Cafe & Atrium.
URL:https://paramountclub.pgre.com/events-calendar/national-blueberry-day/
CATEGORIES:Club Promotions
ATTACH;FMTTYPE=image/png:https://paramountclub.pgre.com/wp-content/uploads/2025/07/56.png
END:VEVENT
BEGIN:VEVENT
DTSTART;TZID=America/New_York:20250707T150000
DTEND;TZID=America/New_York:20250828T220000
DTSTAMP:20260423T210049
CREATED:20250703T135502Z
LAST-MODIFIED:20250703T135502Z
UID:10003855-1751900400-1756418400@paramountclub.pgre.com
SUMMARY:Flatbread Summer Savings
DESCRIPTION:Double up on flatbreads Monday through Thursday after 3 p.m.—buy one\, get the second 50% off. Savor the classic Pepperoni Flatbread or enjoy our fresh summer addition: the Heirloom Tomato Flatbread\, bursting with seasonal flavor.
URL:https://paramountclub.pgre.com/events-calendar/flatbread-summer-savings/
CATEGORIES:Club Promotions
ATTACH;FMTTYPE=image/png:https://paramountclub.pgre.com/wp-content/uploads/2025/07/55.png
END:VEVENT
BEGIN:VEVENT
DTSTART;TZID=America/New_York:20250701T070000
DTEND;TZID=America/New_York:20250829T160000
DTSTAMP:20260423T210049
CREATED:20250702T141830Z
LAST-MODIFIED:20250702T141832Z
UID:10003852-1751353200-1756483200@paramountclub.pgre.com
SUMMARY:Cool Tumblers\, Chill Deals
DESCRIPTION:Starting July 1st\, enjoy 50% off our signature tumblers — just $17.50 — and get $2 off every iced drink when you use your tumbler throughout July and August. Hydration just got a whole lot cooler!
URL:https://paramountclub.pgre.com/events-calendar/cool-tumblers-chill-deals/
CATEGORIES:Club Promotions
ATTACH;FMTTYPE=image/png:https://paramountclub.pgre.com/wp-content/uploads/2025/07/Website-Event-Imagery-1080-x-710-px-11.png
END:VEVENT
BEGIN:VEVENT
DTSTART;TZID=America/New_York:20250602T130000
DTEND;TZID=America/New_York:20250630T160000
DTSTAMP:20260423T210049
CREATED:20250530T202205Z
LAST-MODIFIED:20250530T202205Z
UID:10003705-1748869200-1751299200@paramountclub.pgre.com
SUMMARY:Sip\, Save\, and Stay Well - Smoothie Promotion
DESCRIPTION:We’re excited to introduce two new signature Smoothies\, available all day at the Paramount Café! \nThroughout June\, enjoy 50% off when you show proof of a same-week wellness appointment. \nBook a wellness appointment. 
URL:https://paramountclub.pgre.com/events-calendar/sip-save-and-stay-well-smoothie-promotion/
CATEGORIES:Club Promotions
ATTACH;FMTTYPE=image/png:https://paramountclub.pgre.com/wp-content/uploads/2025/05/Smoothies.png
END:VEVENT
BEGIN:VEVENT
DTSTART;VALUE=DATE:20250602
DTEND;VALUE=DATE:20250701
DTSTAMP:20260423T210049
CREATED:20250530T202347Z
LAST-MODIFIED:20250530T202347Z
UID:10003706-1748822400-1751327999@paramountclub.pgre.com
SUMMARY:Sip with Pride
DESCRIPTION:This June\, we’re raising a glass for a cause! For every glass or bottle of rosé sold at the Paramount Club\, 10% of sales will go directly to support The Center\, an organization dedicated to empowering LGBTQ+ communities. Join us in sipping for a purpose and making a positive impact while enjoying your favorite summer wine.
URL:https://paramountclub.pgre.com/events-calendar/sip-with-pride/
CATEGORIES:Club Promotions
ATTACH;FMTTYPE=image/png:https://paramountclub.pgre.com/wp-content/uploads/2025/05/Sip-with-Pride.png
END:VEVENT
BEGIN:VEVENT
DTSTART;TZID=America/New_York:20250422T070000
DTEND;TZID=America/New_York:20250422T170000
DTSTAMP:20260423T210049
CREATED:20250421T141942Z
LAST-MODIFIED:20250421T141947Z
UID:10003016-1745305200-1745341200@paramountclub.pgre.com
SUMMARY:Earth Day Giveaway
DESCRIPTION:In honor of Earth Day\, the first 50 members who purchase a coffee or tea at the Café will receive a complimentary Paramount Club branded tumbler. To celebrate sustainably\, bring your tumbler back and enjoy $1 off every use through Friday\, May 30th.
URL:https://paramountclub.pgre.com/events-calendar/earth-day-giveaway/
CATEGORIES:Club Promotions
ATTACH;FMTTYPE=image/jpeg:https://paramountclub.pgre.com/wp-content/uploads/2025/04/Website-Event-Imagery-1080-x-710-px-4.jpg
END:VEVENT
BEGIN:VEVENT
DTSTART;TZID=America/New_York:20250314T080000
DTEND;TZID=America/New_York:20250321T170000
DTSTAMP:20260423T210049
CREATED:20250317T213112Z
LAST-MODIFIED:20250317T213116Z
UID:10002978-1741939200-1742576400@paramountclub.pgre.com
SUMMARY:Join Paramount Club's March Madness Bracket!
DESCRIPTION:Fill out your March Madness Bracket for a chance to win a $250 Paramount Club gift card. Simply join the group\, log into your ESPN account\, fill out your bracket\, and compete against fellow members. Sign up and submit your bracket before March 21st. \nSign Up Today \nPlease note: you must be a Paramount Club Member to participate.
URL:https://paramountclub.pgre.com/events-calendar/join-paramount-clubs-march-madness-bracket/
CATEGORIES:Club Promotions
ATTACH;FMTTYPE=image/png:https://paramountclub.pgre.com/wp-content/uploads/2025/03/Website-Event-Imagery-1080-x-710-px-3.png
END:VEVENT
BEGIN:VEVENT
DTSTART;TZID=America/New_York:20250303T110000
DTEND;TZID=America/New_York:20250328T150000
DTSTAMP:20260423T210049
CREATED:20250227T164056Z
LAST-MODIFIED:20250227T170415Z
UID:10002973-1740999600-1743174000@paramountclub.pgre.com
SUMMARY:A Tribute to Tastemakers: Celebrating Female Chefs
DESCRIPTION:During the month of March\, celebrate Women’s History Month at the Paramount Café with our weekly series highlighting recipes from America’s top talent. \nMonday\, March 3rd – Friday\, March 7th: Chef Judy Rodgers’s Zuni Roast Chicken with Bread Salad \nMonday\, March 10th – Friday\, March 14th: Chef Daniela Soto-Innes’s Fish Milanese Torta \nMonday\, March 17th – Friday\, March 21st: Chef Gabrielle Hamilton’s Burger with Cheddar\, Parsley Shallot Butter \nMonday\, March 24th – Friday\, February 28th: Chef Edna Lewis’s Spring Chicken with Watercress & Jerusalem Artichokes
URL:https://paramountclub.pgre.com/events-calendar/a-tribute-to-tastemakers-celebrating-female-chefs-this-womens-history-month/
CATEGORIES:Club Promotions
ATTACH;FMTTYPE=image/png:https://paramountclub.pgre.com/wp-content/uploads/2025/02/WHM-Cafe.png
END:VEVENT
BEGIN:VEVENT
DTSTART;TZID=America/New_York:20250210T070000
DTEND;TZID=America/New_York:20250214T170000
DTSTAMP:20260423T210049
CREATED:20250210T154501Z
LAST-MODIFIED:20250210T155451Z
UID:10000372-1739170800-1739552400@paramountclub.pgre.com
SUMMARY:Valentine's Day Chocolate Sale
DESCRIPTION:Indulge in Jacques Torres Valentine’s Day Chocolate—available for purchase at the Café. Choose from a curated selection of boxes: \nAssorted Bonbons Heart Box – 21 pc – $59 \nAssorted Bonbons Sleeve – 12 pcs – $35 \nHeart Shaped Chocolate Box – 24 pc – $29 \nTruffle Heart Box – 7 pc – $16.50
URL:https://paramountclub.pgre.com/events-calendar/valentines-day-chocolate-sale/
CATEGORIES:Club Promotions
ATTACH;FMTTYPE=image/png:https://paramountclub.pgre.com/wp-content/uploads/2025/02/Website-Event-Imagery-1080-x-710-px.png
END:VEVENT
BEGIN:VEVENT
DTSTART;TZID=America/New_York:20250203T150000
DTEND;TZID=America/New_York:20250207T170000
DTSTAMP:20260423T210049
CREATED:20250203T161445Z
LAST-MODIFIED:20250206T142743Z
UID:10000367-1738594800-1738947600@paramountclub.pgre.com
SUMMARY:The Super Bowl of Happy Hours
DESCRIPTION:Get ready for the Super Bowl with our ultimate Beer & Wing Happy Hour. For just $20\, enjoy an ice-cold beer paired with delicious wings—choose classic or cauliflower. Don’t miss out on this game-day special. \nAvailable Monday\, February 3rd to Friday\, February 7th\, from 3:00pm-5:00pm.
URL:https://paramountclub.pgre.com/events-calendar/the-super-bowl-of-happy-hours/
CATEGORIES:Club Promotions
ATTACH;FMTTYPE=image/jpeg:https://paramountclub.pgre.com/wp-content/uploads/2025/02/Super-Bowl-Happy-Hour.jpg
END:VEVENT
BEGIN:VEVENT
DTSTART;TZID=America/New_York:20250203T110000
DTEND;TZID=America/New_York:20250228T150000
DTSTAMP:20260423T210049
CREATED:20250206T144430Z
LAST-MODIFIED:20250212T210950Z
UID:10000371-1738580400-1740754800@paramountclub.pgre.com
SUMMARY:Honoring Heritage\, One Dish at a Time: Celebrating Black History Month
DESCRIPTION:During the month of February visit the Paramount Cafe to enjoy a weekly series featuring recipes from America’s top chefs. \nMonday\, February 3rd – Friday\, February 7th: JJ Johnson’s seared Faroe Island Salmon \nMonday\, February 10th – Friday\, February 14th: Marcus Samuelsson’s Swedish Meatballs \nTuesday\, February 19th – Friday\, February 21st: Matthew Raiford’s Nana’s Chicken & Dumplings \nMonday\, February 24th – Friday\, February 28th: Kwame Onwuachi’s Hot Chicken Sandwich
URL:https://paramountclub.pgre.com/events-calendar/honoring-heritage-one-dish-at-a-time-celebrating-black-history-month/
CATEGORIES:Club Promotions
ATTACH;FMTTYPE=image/png:https://paramountclub.pgre.com/wp-content/uploads/2025/02/BHM-Cafe.png
END:VEVENT
BEGIN:VEVENT
DTSTART;TZID=America/New_York:20250129T110000
DTEND;TZID=America/New_York:20250207T143000
DTSTAMP:20260423T210049
CREATED:20250127T135947Z
LAST-MODIFIED:20250127T135947Z
UID:10000269-1738148400-1738938600@paramountclub.pgre.com
SUMMARY:Lunar New Year Raffle: Din Tai Fung Gift Card
DESCRIPTION:Test your luck this Lunar New Year  at the Paramount Café. Each dumpling order will be entered to win an $88 Din Tai Fung gift card. \nOrder Dumplings Here.  \n 
URL:https://paramountclub.pgre.com/events-calendar/lunar-new-year-raffle-din-tai-fung-gift-card/
CATEGORIES:Club Promotions
ATTACH;FMTTYPE=image/jpeg:https://paramountclub.pgre.com/wp-content/uploads/2025/01/Lunar-New-Year.jpg
END:VEVENT
BEGIN:VEVENT
DTSTART;TZID=America/New_York:20250108T110000
DTEND;TZID=America/New_York:20250108T140000
DTSTAMP:20260423T210049
CREATED:20250103T185352Z
LAST-MODIFIED:20250103T185420Z
UID:10000256-1736334000-1736344800@paramountclub.pgre.com
SUMMARY:Complimentary Snickerdoodle Cookies
DESCRIPTION:Drop by the Café and enjoy a complimentary Snickerdoodle cookie with your purchase of a coffee or tea. It’s the perfect way to sweeten your afternoon!
URL:https://paramountclub.pgre.com/events-calendar/complimentary-snickerdoodle-cookies/
CATEGORIES:Club Promotions
ATTACH;FMTTYPE=image/png:https://paramountclub.pgre.com/wp-content/uploads/2025/01/Screenshot-2025-01-03-at-1.52.59-PM.png
END:VEVENT
END:VCALENDAR