BEGIN:VCALENDAR
VERSION:2.0
PRODID:-//Paramount Club - ECPv6.13.2.1//NONSGML v1.0//EN
CALSCALE:GREGORIAN
METHOD:PUBLISH
X-ORIGINAL-URL:https://paramountclub.pgre.com
X-WR-CALDESC:Events for Paramount Club
REFRESH-INTERVAL;VALUE=DURATION:PT1H
X-Robots-Tag:noindex
X-PUBLISHED-TTL:PT1H
BEGIN:VTIMEZONE
TZID:America/New_York
BEGIN:DAYLIGHT
TZOFFSETFROM:-0500
TZOFFSETTO:-0400
TZNAME:EDT
DTSTART:20250309T070000
END:DAYLIGHT
BEGIN:STANDARD
TZOFFSETFROM:-0400
TZOFFSETTO:-0500
TZNAME:EST
DTSTART:20251102T060000
END:STANDARD
END:VTIMEZONE
BEGIN:VEVENT
DTSTART;TZID=America/New_York:20250609T160000
DTEND;TZID=America/New_York:20250609T200000
DTSTAMP:20260424T134911
CREATED:20250527T180203Z
LAST-MODIFIED:20250527T180346Z
UID:10003703-1749484800-1749499200@paramountclub.pgre.com
SUMMARY:Atrium Closure - Private Event
DESCRIPTION:On Monday\, June 9th\, the Atrium will close at 4:00pm for a private event. The Game Room and Wellness Center will operate normally during the closure. \nMake a future reservation. \nBook a wellness appointment.
URL:https://paramountclub.pgre.com/events-calendar/atrium-closure-private-event-5/
CATEGORIES:Special Hours
ATTACH;FMTTYPE=image/png:https://paramountclub.pgre.com/wp-content/uploads/2025/01/Atrium.png
END:VEVENT
BEGIN:VEVENT
DTSTART;VALUE=DATE:20250619
DTEND;VALUE=DATE:20250620
DTSTAMP:20260424T134911
CREATED:20250527T175917Z
LAST-MODIFIED:20250527T175917Z
UID:10003702-1750291200-1750377599@paramountclub.pgre.com
SUMMARY:Paramount Club Closure - Juneteenth
DESCRIPTION:The Paramount Club will be closed on Thursday\, June 19th for Juneteenth and will re-open on Friday\, June 20th at 7:00AM. \nMake a Future Reservation.
URL:https://paramountclub.pgre.com/events-calendar/paramount-club-closure-juneteenth/
CATEGORIES:Special Hours
ATTACH;FMTTYPE=image/png:https://paramountclub.pgre.com/wp-content/uploads/2025/01/Atrium.png
END:VEVENT
BEGIN:VEVENT
DTSTART;TZID=America/New_York:20250620T070000
DTEND;TZID=America/New_York:20250620T160000
DTSTAMP:20260424T134911
CREATED:20250616T135718Z
LAST-MODIFIED:20250827T200306Z
UID:10003779-1750402800-1750435200@paramountclub.pgre.com
SUMMARY:Summer Fridays
DESCRIPTION:Starting Friday\, June 20th\, the Paramount Club will close at 4:00pm every Friday as part of our Summer Fridays schedule. Regular Friday hours will resume on September 5th.
URL:https://paramountclub.pgre.com/events-calendar/summer-fridays/2025-06-20/
CATEGORIES:Special Hours
ATTACH;FMTTYPE=image/png:https://paramountclub.pgre.com/wp-content/uploads/2025/06/Website-Event-Imagery-1080-x-710-px-7.png
END:VEVENT
BEGIN:VEVENT
DTSTART;TZID=America/New_York:20250627T070000
DTEND;TZID=America/New_York:20250627T160000
DTSTAMP:20260424T134911
CREATED:20250616T135718Z
LAST-MODIFIED:20250827T200306Z
UID:10003780-1751007600-1751040000@paramountclub.pgre.com
SUMMARY:Summer Fridays
DESCRIPTION:Starting Friday\, June 20th\, the Paramount Club will close at 4:00pm every Friday as part of our Summer Fridays schedule. Regular Friday hours will resume on September 5th.
URL:https://paramountclub.pgre.com/events-calendar/summer-fridays/2025-06-27/
CATEGORIES:Special Hours
ATTACH;FMTTYPE=image/png:https://paramountclub.pgre.com/wp-content/uploads/2025/06/Website-Event-Imagery-1080-x-710-px-7.png
END:VEVENT
END:VCALENDAR