BEGIN:VCALENDAR
VERSION:2.0
PRODID:-//Paramount Club - ECPv6.13.2.1//NONSGML v1.0//EN
CALSCALE:GREGORIAN
METHOD:PUBLISH
X-WR-CALNAME:Paramount Club
X-ORIGINAL-URL:https://paramountclub.pgre.com
X-WR-CALDESC:Events for Paramount Club
REFRESH-INTERVAL;VALUE=DURATION:PT1H
X-Robots-Tag:noindex
X-PUBLISHED-TTL:PT1H
BEGIN:VTIMEZONE
TZID:America/New_York
BEGIN:DAYLIGHT
TZOFFSETFROM:-0500
TZOFFSETTO:-0400
TZNAME:EDT
DTSTART:20250309T070000
END:DAYLIGHT
BEGIN:STANDARD
TZOFFSETFROM:-0400
TZOFFSETTO:-0500
TZNAME:EST
DTSTART:20251102T060000
END:STANDARD
END:VTIMEZONE
BEGIN:VEVENT
DTSTART;VALUE=DATE:20250703
DTEND;VALUE=DATE:20250705
DTSTAMP:20260424T120120
CREATED:20250625T171635Z
LAST-MODIFIED:20250625T182456Z
UID:10003850-1751500800-1751673599@paramountclub.pgre.com
SUMMARY:Paramount Club Closure - July 4th
DESCRIPTION:The Paramount Club will close at 4:00PM on Thursday\, July 3rd and remain closed on Friday\, July 4th. Paramount Club will re-open on Monday\, July 7th at 7:00AM. \nMake a Future Reservation.
URL:https://paramountclub.pgre.com/events-calendar/paramount-club-closure-july-4th/
CATEGORIES:Special Hours
ATTACH;FMTTYPE=image/png:https://paramountclub.pgre.com/wp-content/uploads/2025/01/Atrium.png
END:VEVENT
BEGIN:VEVENT
DTSTART;TZID=America/New_York:20250707T160000
DTEND;TZID=America/New_York:20250707T220000
DTSTAMP:20260424T120120
CREATED:20250702T142215Z
LAST-MODIFIED:20250702T142244Z
UID:10003853-1751904000-1751925600@paramountclub.pgre.com
SUMMARY:Atrium Closure - Private Event
DESCRIPTION:On Monday\, July 7th\, the Atrium will close at 4:00pm for a private event. The Wellness Center will operate normally during the closure. \nMake a future reservation. \nBook a wellness appointment.
URL:https://paramountclub.pgre.com/events-calendar/atrium-closure-private-event-7/
CATEGORIES:Special Hours
ATTACH;FMTTYPE=image/png:https://paramountclub.pgre.com/wp-content/uploads/2025/01/Atrium.png
END:VEVENT
BEGIN:VEVENT
DTSTART;TZID=America/New_York:20250710T160000
DTEND;TZID=America/New_York:20250710T220000
DTSTAMP:20260424T120120
CREATED:20250625T170824Z
LAST-MODIFIED:20250702T142142Z
UID:10003849-1752163200-1752184800@paramountclub.pgre.com
SUMMARY:Atrium Closure - Private Event
DESCRIPTION:On Thursday\, July 10th\, the Atrium will close at 4:00pm for a private event. The Wellness Center will operate normally during the closure. \nMake a future reservation. \nBook a wellness appointment.
URL:https://paramountclub.pgre.com/events-calendar/atrium-closure-private-event-6/
CATEGORIES:Special Hours
ATTACH;FMTTYPE=image/png:https://paramountclub.pgre.com/wp-content/uploads/2025/01/Atrium.png
END:VEVENT
BEGIN:VEVENT
DTSTART;TZID=America/New_York:20250711T070000
DTEND;TZID=America/New_York:20250711T160000
DTSTAMP:20260424T120120
CREATED:20250616T135718Z
LAST-MODIFIED:20250827T200306Z
UID:10003782-1752217200-1752249600@paramountclub.pgre.com
SUMMARY:Summer Fridays
DESCRIPTION:Starting Friday\, June 20th\, the Paramount Club will close at 4:00pm every Friday as part of our Summer Fridays schedule. Regular Friday hours will resume on September 5th.
URL:https://paramountclub.pgre.com/events-calendar/summer-fridays/2025-07-11/
CATEGORIES:Special Hours
ATTACH;FMTTYPE=image/png:https://paramountclub.pgre.com/wp-content/uploads/2025/06/Website-Event-Imagery-1080-x-710-px-7.png
END:VEVENT
BEGIN:VEVENT
DTSTART;TZID=America/New_York:20250718T070000
DTEND;TZID=America/New_York:20250718T160000
DTSTAMP:20260424T120120
CREATED:20250616T135718Z
LAST-MODIFIED:20250827T200306Z
UID:10003783-1752822000-1752854400@paramountclub.pgre.com
SUMMARY:Summer Fridays
DESCRIPTION:Starting Friday\, June 20th\, the Paramount Club will close at 4:00pm every Friday as part of our Summer Fridays schedule. Regular Friday hours will resume on September 5th.
URL:https://paramountclub.pgre.com/events-calendar/summer-fridays/2025-07-18/
CATEGORIES:Special Hours
ATTACH;FMTTYPE=image/png:https://paramountclub.pgre.com/wp-content/uploads/2025/06/Website-Event-Imagery-1080-x-710-px-7.png
END:VEVENT
BEGIN:VEVENT
DTSTART;TZID=America/New_York:20250725T070000
DTEND;TZID=America/New_York:20250725T160000
DTSTAMP:20260424T120120
CREATED:20250616T135718Z
LAST-MODIFIED:20250827T200306Z
UID:10003784-1753426800-1753459200@paramountclub.pgre.com
SUMMARY:Summer Fridays
DESCRIPTION:Starting Friday\, June 20th\, the Paramount Club will close at 4:00pm every Friday as part of our Summer Fridays schedule. Regular Friday hours will resume on September 5th.
URL:https://paramountclub.pgre.com/events-calendar/summer-fridays/2025-07-25/
CATEGORIES:Special Hours
ATTACH;FMTTYPE=image/png:https://paramountclub.pgre.com/wp-content/uploads/2025/06/Website-Event-Imagery-1080-x-710-px-7.png
END:VEVENT
END:VCALENDAR