BEGIN:VCALENDAR
VERSION:2.0
PRODID:-//Paramount Club - ECPv6.13.2.1//NONSGML v1.0//EN
CALSCALE:GREGORIAN
METHOD:PUBLISH
X-ORIGINAL-URL:https://paramountclub.pgre.com
X-WR-CALDESC:Events for Paramount Club
REFRESH-INTERVAL;VALUE=DURATION:PT1H
X-Robots-Tag:noindex
X-PUBLISHED-TTL:PT1H
BEGIN:VTIMEZONE
TZID:America/New_York
BEGIN:DAYLIGHT
TZOFFSETFROM:-0500
TZOFFSETTO:-0400
TZNAME:EDT
DTSTART:20250309T070000
END:DAYLIGHT
BEGIN:STANDARD
TZOFFSETFROM:-0400
TZOFFSETTO:-0500
TZNAME:EST
DTSTART:20251102T060000
END:STANDARD
END:VTIMEZONE
BEGIN:VEVENT
DTSTART;TZID=America/New_York:20250801T070000
DTEND;TZID=America/New_York:20250801T160000
DTSTAMP:20260424T101704
CREATED:20250616T135718Z
LAST-MODIFIED:20250827T200306Z
UID:10003785-1754031600-1754064000@paramountclub.pgre.com
SUMMARY:Summer Fridays
DESCRIPTION:Starting Friday\, June 20th\, the Paramount Club will close at 4:00pm every Friday as part of our Summer Fridays schedule. Regular Friday hours will resume on September 5th.
URL:https://paramountclub.pgre.com/events-calendar/summer-fridays/2025-08-01/
CATEGORIES:Special Hours
ATTACH;FMTTYPE=image/png:https://paramountclub.pgre.com/wp-content/uploads/2025/06/Website-Event-Imagery-1080-x-710-px-7.png
END:VEVENT
BEGIN:VEVENT
DTSTART;TZID=America/New_York:20250808T070000
DTEND;TZID=America/New_York:20250808T160000
DTSTAMP:20260424T101704
CREATED:20250616T135718Z
LAST-MODIFIED:20250827T200306Z
UID:10003786-1754636400-1754668800@paramountclub.pgre.com
SUMMARY:Summer Fridays
DESCRIPTION:Starting Friday\, June 20th\, the Paramount Club will close at 4:00pm every Friday as part of our Summer Fridays schedule. Regular Friday hours will resume on September 5th.
URL:https://paramountclub.pgre.com/events-calendar/summer-fridays/2025-08-08/
CATEGORIES:Special Hours
ATTACH;FMTTYPE=image/png:https://paramountclub.pgre.com/wp-content/uploads/2025/06/Website-Event-Imagery-1080-x-710-px-7.png
END:VEVENT
BEGIN:VEVENT
DTSTART;TZID=America/New_York:20250815T070000
DTEND;TZID=America/New_York:20250815T160000
DTSTAMP:20260424T101704
CREATED:20250616T135718Z
LAST-MODIFIED:20250827T200306Z
UID:10003787-1755241200-1755273600@paramountclub.pgre.com
SUMMARY:Summer Fridays
DESCRIPTION:Starting Friday\, June 20th\, the Paramount Club will close at 4:00pm every Friday as part of our Summer Fridays schedule. Regular Friday hours will resume on September 5th.
URL:https://paramountclub.pgre.com/events-calendar/summer-fridays/2025-08-15/
CATEGORIES:Special Hours
ATTACH;FMTTYPE=image/png:https://paramountclub.pgre.com/wp-content/uploads/2025/06/Website-Event-Imagery-1080-x-710-px-7.png
END:VEVENT
BEGIN:VEVENT
DTSTART;TZID=America/New_York:20250822T070000
DTEND;TZID=America/New_York:20250822T160000
DTSTAMP:20260424T101704
CREATED:20250616T135718Z
LAST-MODIFIED:20250827T200306Z
UID:10003788-1755846000-1755878400@paramountclub.pgre.com
SUMMARY:Summer Fridays
DESCRIPTION:Starting Friday\, June 20th\, the Paramount Club will close at 4:00pm every Friday as part of our Summer Fridays schedule. Regular Friday hours will resume on September 5th.
URL:https://paramountclub.pgre.com/events-calendar/summer-fridays/2025-08-22/
CATEGORIES:Special Hours
ATTACH;FMTTYPE=image/png:https://paramountclub.pgre.com/wp-content/uploads/2025/06/Website-Event-Imagery-1080-x-710-px-7.png
END:VEVENT
BEGIN:VEVENT
DTSTART;TZID=America/New_York:20250829T070000
DTEND;TZID=America/New_York:20250829T160000
DTSTAMP:20260424T101704
CREATED:20250616T135718Z
LAST-MODIFIED:20250827T200306Z
UID:10003789-1756450800-1756483200@paramountclub.pgre.com
SUMMARY:Summer Fridays
DESCRIPTION:Starting Friday\, June 20th\, the Paramount Club will close at 4:00pm every Friday as part of our Summer Fridays schedule. Regular Friday hours will resume on September 5th.
URL:https://paramountclub.pgre.com/events-calendar/summer-fridays/2025-08-29/
CATEGORIES:Special Hours
ATTACH;FMTTYPE=image/png:https://paramountclub.pgre.com/wp-content/uploads/2025/06/Website-Event-Imagery-1080-x-710-px-7.png
END:VEVENT
END:VCALENDAR