BEGIN:VCALENDAR
VERSION:2.0
PRODID:-//Paramount Club - ECPv6.13.2.1//NONSGML v1.0//EN
CALSCALE:GREGORIAN
METHOD:PUBLISH
X-ORIGINAL-URL:https://paramountclub.pgre.com
X-WR-CALDESC:Events for Paramount Club
REFRESH-INTERVAL;VALUE=DURATION:PT1H
X-Robots-Tag:noindex
X-PUBLISHED-TTL:PT1H
BEGIN:VTIMEZONE
TZID:America/New_York
BEGIN:DAYLIGHT
TZOFFSETFROM:-0500
TZOFFSETTO:-0400
TZNAME:EDT
DTSTART:20250309T070000
END:DAYLIGHT
BEGIN:STANDARD
TZOFFSETFROM:-0400
TZOFFSETTO:-0500
TZNAME:EST
DTSTART:20251102T060000
END:STANDARD
END:VTIMEZONE
BEGIN:VEVENT
DTSTART;VALUE=DATE:20250901
DTEND;VALUE=DATE:20250902
DTSTAMP:20260424T084140
CREATED:20250822T171626Z
LAST-MODIFIED:20250822T171626Z
UID:10003883-1756684800-1756771199@paramountclub.pgre.com
SUMMARY:Paramount Club Closure - Labor Day
DESCRIPTION:The Paramount Club will be closed on Monday\, September 1st in observance of Labor Day and will reopen on Tuesday\, September 2nd at 7:00am. \nMake a Future Reservation.
URL:https://paramountclub.pgre.com/events-calendar/paramount-club-closure-labor-day/
CATEGORIES:Special Hours
ATTACH;FMTTYPE=image/png:https://paramountclub.pgre.com/wp-content/uploads/2025/01/Atrium.png
END:VEVENT
BEGIN:VEVENT
DTSTART;TZID=America/New_York:20250916T070000
DTEND;TZID=America/New_York:20250916T150000
DTSTAMP:20260424T084140
CREATED:20250825T154625Z
LAST-MODIFIED:20250825T155140Z
UID:10003892-1758006000-1758034800@paramountclub.pgre.com
SUMMARY:Paramount Club Early Closure - Private Event
DESCRIPTION:The Paramount Club will be open from 7:00am to 3:00pm before closing for a private event. The Club will reopen on Wednesday\, September 17th at 7:00am. \nMake a Future Reservation.
URL:https://paramountclub.pgre.com/events-calendar/paramount-club-early-closure-private-event/
CATEGORIES:Special Hours
ATTACH;FMTTYPE=image/png:https://paramountclub.pgre.com/wp-content/uploads/2025/01/Atrium.png
END:VEVENT
BEGIN:VEVENT
DTSTART;TZID=America/New_York:20250930T070000
DTEND;TZID=America/New_York:20250930T150000
DTSTAMP:20260424T084140
CREATED:20250929T133112Z
LAST-MODIFIED:20250929T134524Z
UID:10003959-1759215600-1759244400@paramountclub.pgre.com
SUMMARY:Paramount Club Early Closure - Private Event
DESCRIPTION:The Paramount Club will be open from 7:00am to 3:00pm before closing for multiple private events. The Wellness Center will operate with normal hours. \nThe Paramount Club will re-open on Wednesday\, October 1st at 7:00am. \nMake a Future Reservation.
URL:https://paramountclub.pgre.com/events-calendar/paramount-club-early-closure-private-event-2/
CATEGORIES:Special Hours
ATTACH;FMTTYPE=image/png:https://paramountclub.pgre.com/wp-content/uploads/2025/01/Atrium.png
END:VEVENT
END:VCALENDAR