BEGIN:VCALENDAR
VERSION:2.0
PRODID:-//Paramount Club - ECPv6.13.2.1//NONSGML v1.0//EN
CALSCALE:GREGORIAN
METHOD:PUBLISH
X-ORIGINAL-URL:https://paramountclub.pgre.com
X-WR-CALDESC:Events for Paramount Club
REFRESH-INTERVAL;VALUE=DURATION:PT1H
X-Robots-Tag:noindex
X-PUBLISHED-TTL:PT1H
BEGIN:VTIMEZONE
TZID:America/New_York
BEGIN:DAYLIGHT
TZOFFSETFROM:-0500
TZOFFSETTO:-0400
TZNAME:EDT
DTSTART:20250309T070000
END:DAYLIGHT
BEGIN:STANDARD
TZOFFSETFROM:-0400
TZOFFSETTO:-0500
TZNAME:EST
DTSTART:20251102T060000
END:STANDARD
END:VTIMEZONE
BEGIN:VEVENT
DTSTART;TZID=America/New_York:20251009T070000
DTEND;TZID=America/New_York:20251009T150000
DTSTAMP:20260424T065905
CREATED:20251001T144028Z
LAST-MODIFIED:20251001T144037Z
UID:10003960-1759993200-1760022000@paramountclub.pgre.com
SUMMARY:Paramount Club Early Closure - Private Event
DESCRIPTION:The Paramount Club will be open from 7:00am to 3:00pm on Thursday\, October 9th before closing for a private event. The Wellness Center will operate normally during the closure. \nThe Paramount Club will re-open on Friday\, October 10th at 7:00am. \nMake a Future Reservation.
URL:https://paramountclub.pgre.com/events-calendar/paramount-club-early-closure-private-event-3/
CATEGORIES:Special Hours
ATTACH;FMTTYPE=image/png:https://paramountclub.pgre.com/wp-content/uploads/2025/01/Atrium.png
END:VEVENT
BEGIN:VEVENT
DTSTART;TZID=America/New_York:20251010T160000
DTEND;TZID=America/New_York:20251013T235900
DTSTAMP:20260424T065905
CREATED:20251003T185412Z
LAST-MODIFIED:20251003T185412Z
UID:10003974-1760112000-1760399940@paramountclub.pgre.com
SUMMARY:Paramount Club Closure - Columbus Day/Indigenous Peoples Day
DESCRIPTION:On Friday\, October 10th\, the Paramount Club will close at 4:00pm and remain closed on Monday\, October 13th\, in observance of Columbus Day/Indigenous Peoples’ Day. The Club will reopen on Tuesday\, October 14th\, at 7:00am. \nMake a Future Reservation.
URL:https://paramountclub.pgre.com/events-calendar/paramount-club-closure-columbus-day-indigenous-peoples-day/
CATEGORIES:Special Hours
ATTACH;FMTTYPE=image/png:https://paramountclub.pgre.com/wp-content/uploads/2025/01/Atrium.png
END:VEVENT
BEGIN:VEVENT
DTSTART;TZID=America/New_York:20251022T070000
DTEND;TZID=America/New_York:20251022T140000
DTSTAMP:20260424T065905
CREATED:20251022T171748Z
LAST-MODIFIED:20251022T171748Z
UID:10003985-1761116400-1761141600@paramountclub.pgre.com
SUMMARY:Paramount Club Closure - Private Event
DESCRIPTION:The Paramount Club will be open from 7:00am to 2:00pm on Wednesday\, October 22nd before closing for multiple private events. The Wellness Center will operate normally during the closure. \nMake a Future Reservation.
URL:https://paramountclub.pgre.com/events-calendar/paramount-club-closure-private-event-4/
CATEGORIES:Special Hours
ATTACH;FMTTYPE=image/png:https://paramountclub.pgre.com/wp-content/uploads/2025/01/Atrium.png
END:VEVENT
BEGIN:VEVENT
DTSTART;TZID=America/New_York:20251028T150000
DTEND;TZID=America/New_York:20251028T220000
DTSTAMP:20260424T065905
CREATED:20251028T142836Z
LAST-MODIFIED:20251028T142836Z
UID:10003990-1761663600-1761688800@paramountclub.pgre.com
SUMMARY:Atrium Closure - Private Event
DESCRIPTION:On October 28th\, the Atrium will close at 3:00pm for a private event. The Wellness Center will operate normally during the closure. \nMake a future reservation. \nBook a wellness appointment.
URL:https://paramountclub.pgre.com/events-calendar/atrium-closure-private-event-8/
CATEGORIES:Special Hours
ATTACH;FMTTYPE=image/png:https://paramountclub.pgre.com/wp-content/uploads/2025/01/Atrium.png
END:VEVENT
END:VCALENDAR