BEGIN:VCALENDAR
VERSION:2.0
PRODID:-//Paramount Club - ECPv6.13.2.1//NONSGML v1.0//EN
CALSCALE:GREGORIAN
METHOD:PUBLISH
X-WR-CALNAME:Paramount Club
X-ORIGINAL-URL:https://paramountclub.pgre.com
X-WR-CALDESC:Events for Paramount Club
REFRESH-INTERVAL;VALUE=DURATION:PT1H
X-Robots-Tag:noindex
X-PUBLISHED-TTL:PT1H
BEGIN:VTIMEZONE
TZID:America/New_York
BEGIN:DAYLIGHT
TZOFFSETFROM:-0500
TZOFFSETTO:-0400
TZNAME:EDT
DTSTART:20250309T070000
END:DAYLIGHT
BEGIN:STANDARD
TZOFFSETFROM:-0400
TZOFFSETTO:-0500
TZNAME:EST
DTSTART:20251102T060000
END:STANDARD
BEGIN:DAYLIGHT
TZOFFSETFROM:-0500
TZOFFSETTO:-0400
TZNAME:EDT
DTSTART:20260308T070000
END:DAYLIGHT
BEGIN:STANDARD
TZOFFSETFROM:-0400
TZOFFSETTO:-0500
TZNAME:EST
DTSTART:20261101T060000
END:STANDARD
END:VTIMEZONE
BEGIN:VEVENT
DTSTART;TZID=America/New_York:20260409T140000
DTEND;TZID=America/New_York:20260409T190000
DTSTAMP:20260424T001720
CREATED:20260327T184915Z
LAST-MODIFIED:20260327T184915Z
UID:10005687-1775743200-1775761200@paramountclub.pgre.com
SUMMARY:Paramount Club Closure - Private Event
DESCRIPTION:The Paramount Club will be closed Thursday\, April 9th from 2:00pm–7:00pm for a private event. \nMake a Future Reservation.
URL:https://paramountclub.pgre.com/events-calendar/paramount-club-closure-private-event-11/
CATEGORIES:Special Hours
ATTACH;FMTTYPE=image/png:https://paramountclub.pgre.com/wp-content/uploads/2025/01/Atrium.png
END:VEVENT
BEGIN:VEVENT
DTSTART;TZID=America/New_York:20260408T150000
DTEND;TZID=America/New_York:20260408T220000
DTSTAMP:20260424T001720
CREATED:20260327T183824Z
LAST-MODIFIED:20260327T183824Z
UID:10005686-1775660400-1775685600@paramountclub.pgre.com
SUMMARY:Private Event - Atrium Closure
DESCRIPTION:On Wednesday\, April 8th the Atrium will close at 3:00pm for a private event. The Game Room\, Cafe\, and Wellness Center will operate normally during the closure.
URL:https://paramountclub.pgre.com/events-calendar/private-event-atrium-closure-2/
CATEGORIES:Special Hours
ATTACH;FMTTYPE=image/jpeg:https://paramountclub.pgre.com/wp-content/uploads/2025/04/DSC_1194_R.jpg
END:VEVENT
BEGIN:VEVENT
DTSTART;VALUE=DATE:20260403
DTEND;VALUE=DATE:20260404
DTSTAMP:20260424T001720
CREATED:20260327T180202Z
LAST-MODIFIED:20260327T180836Z
UID:10005684-1775174400-1775260799@paramountclub.pgre.com
SUMMARY:Paramount Club Closure - Good Friday
DESCRIPTION:The Paramount Club will be closed on Friday\, April 3rd in observance of Good Friday. \nMake a Future Reservation.
URL:https://paramountclub.pgre.com/events-calendar/paramount-club-closure-good-friday-2/
CATEGORIES:Special Hours
ATTACH;FMTTYPE=image/png:https://paramountclub.pgre.com/wp-content/uploads/2025/01/Atrium.png
END:VEVENT
BEGIN:VEVENT
DTSTART;VALUE=DATE:20260223
DTEND;VALUE=DATE:20260224
DTSTAMP:20260424T001720
CREATED:20260222T223954Z
LAST-MODIFIED:20260222T223954Z
UID:10005404-1771804800-1771891199@paramountclub.pgre.com
SUMMARY:Paramount Club Closure
DESCRIPTION:Due to the severity of the winter storm\, the Club will be closed on Monday\, February 23rd. \nWe will continue to monitor the weather and will follow all city guidelines making decisions with your safety as the top priority.
URL:https://paramountclub.pgre.com/events-calendar/paramount-club-closure/
CATEGORIES:Special Hours
ATTACH;FMTTYPE=image/png:https://paramountclub.pgre.com/wp-content/uploads/2026/02/Website-Event-Imagery-1080-x-710-px-45.png
END:VEVENT
BEGIN:VEVENT
DTSTART;VALUE=DATE:20260216
DTEND;VALUE=DATE:20260217
DTSTAMP:20260424T001720
CREATED:20260212T182308Z
LAST-MODIFIED:20260212T182314Z
UID:10005381-1771200000-1771286399@paramountclub.pgre.com
SUMMARY:Paramount Club Closure - Presidents' Day
DESCRIPTION:The Paramount Club will be closed on Monday\, February 16th for Presidents’ Day and will re-open on Tuesday\, February 17th at 7:00AM. \nMake a Future Reservation.
URL:https://paramountclub.pgre.com/events-calendar/paramount-club-closure-presidents-day-2/
CATEGORIES:Special Hours
ATTACH;FMTTYPE=image/png:https://paramountclub.pgre.com/wp-content/uploads/2025/06/Website-Event-Imagery-1080-x-710-px-7.png
END:VEVENT
BEGIN:VEVENT
DTSTART;TZID=America/New_York:20260126T070000
DTEND;TZID=America/New_York:20260126T160000
DTSTAMP:20260424T001720
CREATED:20260126T154001Z
LAST-MODIFIED:20260126T154001Z
UID:10005373-1769410800-1769443200@paramountclub.pgre.com
SUMMARY:Paramount Club Early Closure
DESCRIPTION:The Paramount Club will be open from 7:00am – 4:00pm on Monday\, January 26th. \nMake a Future Reservation.
URL:https://paramountclub.pgre.com/events-calendar/paramount-club-early-closure-7/
CATEGORIES:Special Hours
ATTACH;FMTTYPE=image/png:https://paramountclub.pgre.com/wp-content/uploads/2025/01/Atrium.png
END:VEVENT
BEGIN:VEVENT
DTSTART;VALUE=DATE:20260119
DTEND;VALUE=DATE:20260120
DTSTAMP:20260424T001720
CREATED:20260102T144418Z
LAST-MODIFIED:20260102T144418Z
UID:10005353-1768780800-1768867199@paramountclub.pgre.com
SUMMARY:Paramount Club Closure - Martin Luther King Jr. Day
DESCRIPTION:The Paramount Club will be closed on Monday\, January 19th for Martin Luther King\, Jr. Day and will re-open on Tuesday\, January 20th at 7:00AM. \nMake a Future Reservation.
URL:https://paramountclub.pgre.com/events-calendar/paramount-club-closure-martin-luther-king-jr-day-2/
CATEGORIES:Special Hours
ATTACH;FMTTYPE=image/png:https://paramountclub.pgre.com/wp-content/uploads/2025/06/Website-Event-Imagery-1080-x-710-px-7.png
END:VEVENT
BEGIN:VEVENT
DTSTART;TZID=America/New_York:20260108T150000
DTEND;TZID=America/New_York:20260108T220000
DTSTAMP:20260424T001720
CREATED:20251219T201540Z
LAST-MODIFIED:20251219T201540Z
UID:10005339-1767884400-1767909600@paramountclub.pgre.com
SUMMARY:Private Event - Atrium Closure
DESCRIPTION:On Thursday\, January 8th the Atrium will close at 3:00pm for a private event. The Wellness Center will remain open during the closure.
URL:https://paramountclub.pgre.com/events-calendar/private-event-atrium-closure/
CATEGORIES:Special Hours
ATTACH;FMTTYPE=image/png:https://paramountclub.pgre.com/wp-content/uploads/2025/12/Website-Event-Imagery-1080-x-710-px-32.png
END:VEVENT
BEGIN:VEVENT
DTSTART;TZID=America/New_York:20260102T070000
DTEND;TZID=America/New_York:20260102T160000
DTSTAMP:20260424T001720
CREATED:20251125T174956Z
LAST-MODIFIED:20251125T174956Z
UID:10004052-1767337200-1767369600@paramountclub.pgre.com
SUMMARY:Paramount Club Early Closure
DESCRIPTION:The Paramount Club will be open from 7:00am – 4:00pm on Friday\, January 2nd. \nMake a Future Reservation.
URL:https://paramountclub.pgre.com/events-calendar/paramount-club-early-closure-6/
CATEGORIES:Special Hours
ATTACH;FMTTYPE=image/png:https://paramountclub.pgre.com/wp-content/uploads/2025/01/Atrium.png
END:VEVENT
BEGIN:VEVENT
DTSTART;VALUE=DATE:20260102
DTEND;VALUE=DATE:20260103
DTSTAMP:20260424T001720
CREATED:20251217T192648Z
LAST-MODIFIED:20251219T175034Z
UID:10004160-1767312000-1767398399@paramountclub.pgre.com
SUMMARY:Paramount Wellness Closure - New Years
DESCRIPTION:Paramount Wellness will remain closed on Friday\, January 2nd for New Years. \nThe wellness center will re-open on Monday January 5th at 7am \n  \nFrom the entire wellness team\, we are wishing you a happy and healthy New Year!
URL:https://paramountclub.pgre.com/events-calendar/paramount-wellness-closed/
LOCATION:Paramount Wellness\, 1301 Avenue of the Americas\, New York\, NY\, 10019\, United States
CATEGORIES:Special Hours,Wellness
ATTACH;FMTTYPE=image/jpeg:https://paramountclub.pgre.com/wp-content/uploads/2025/01/Wellness_Studio_0055_R-scaled.jpg
END:VEVENT
BEGIN:VEVENT
DTSTART;VALUE=DATE:20251231
DTEND;VALUE=DATE:20260102
DTSTAMP:20260424T001720
CREATED:20251003T185755Z
LAST-MODIFIED:20251003T185755Z
UID:10003976-1767139200-1767311999@paramountclub.pgre.com
SUMMARY:Paramount Club Closure - New Years Eve & New Years Day
DESCRIPTION:The Paramount Club will be closed December 31st and January 1st for New Years. \nMake a Future Reservation.
URL:https://paramountclub.pgre.com/events-calendar/paramount-club-closure-new-years-eve-new-years-day/
CATEGORIES:Special Hours
ATTACH;FMTTYPE=image/png:https://paramountclub.pgre.com/wp-content/uploads/2025/01/Atrium.png
END:VEVENT
BEGIN:VEVENT
DTSTART;TZID=America/New_York:20251230T070000
DTEND;TZID=America/New_York:20251230T160000
DTSTAMP:20260424T001720
CREATED:20251009T163659Z
LAST-MODIFIED:20251009T163659Z
UID:10003980-1767078000-1767110400@paramountclub.pgre.com
SUMMARY:Paramount Club Early Closure
DESCRIPTION:The Paramount Club will be open from 7:00am – 4:00pm on Tuesday\, December 30th. \nMake a Future Reservation.
URL:https://paramountclub.pgre.com/events-calendar/paramount-club-early-closure-3/
CATEGORIES:Special Hours
ATTACH;FMTTYPE=image/png:https://paramountclub.pgre.com/wp-content/uploads/2025/01/Atrium.png
END:VEVENT
BEGIN:VEVENT
DTSTART;TZID=America/New_York:20251230T070000
DTEND;TZID=America/New_York:20251230T120000
DTSTAMP:20260424T001720
CREATED:20251217T202740Z
LAST-MODIFIED:20251217T202740Z
UID:10004162-1767078000-1767096000@paramountclub.pgre.com
SUMMARY:Paramount Wellness Early Closure
DESCRIPTION:The Paramount Wellness will be open from 7:00am – 12:00pm on Tuesday\, December 30th. \nBook a Service Here!
URL:https://paramountclub.pgre.com/events-calendar/paramount-wellness-early-closure-2/
LOCATION:Paramount Wellness\, 1301 Avenue of the Americas\, New York\, NY\, 10019\, United States
CATEGORIES:Special Hours,Wellness
ATTACH;FMTTYPE=image/jpeg:https://paramountclub.pgre.com/wp-content/uploads/2025/01/Wellness_Studio_0055_R-scaled.jpg
END:VEVENT
BEGIN:VEVENT
DTSTART;TZID=America/New_York:20251229T070000
DTEND;TZID=America/New_York:20251229T160000
DTSTAMP:20260424T001720
CREATED:20251009T163724Z
LAST-MODIFIED:20251009T163724Z
UID:10003981-1766991600-1767024000@paramountclub.pgre.com
SUMMARY:Paramount Club Early Closure
DESCRIPTION:The Paramount Club will be open from 7:00am – 4:00pm on Monday\, December 29th. \nMake a Future Reservation.
URL:https://paramountclub.pgre.com/events-calendar/paramount-club-early-closure-4/
CATEGORIES:Special Hours
ATTACH;FMTTYPE=image/png:https://paramountclub.pgre.com/wp-content/uploads/2025/01/Atrium.png
END:VEVENT
BEGIN:VEVENT
DTSTART;TZID=America/New_York:20251229T070000
DTEND;TZID=America/New_York:20251229T120000
DTSTAMP:20260424T001720
CREATED:20251217T202643Z
LAST-MODIFIED:20251217T202643Z
UID:10004161-1766991600-1767009600@paramountclub.pgre.com
SUMMARY:Paramount Wellness Early Closure
DESCRIPTION:The Paramount Wellness will be open from 7:00am – 12:00pm on Monday\, December 29th. \nBook a Service Here!
URL:https://paramountclub.pgre.com/events-calendar/paramount-wellness-early-closure/
LOCATION:Paramount Wellness\, 1301 Avenue of the Americas\, New York\, NY\, 10019\, United States
CATEGORIES:Special Hours,Wellness
ATTACH;FMTTYPE=image/jpeg:https://paramountclub.pgre.com/wp-content/uploads/2025/01/Wellness_Studio_0055_R-scaled.jpg
END:VEVENT
BEGIN:VEVENT
DTSTART;VALUE=DATE:20251224
DTEND;VALUE=DATE:20251227
DTSTAMP:20260424T001720
CREATED:20251003T185641Z
LAST-MODIFIED:20251003T185649Z
UID:10003975-1766534400-1766793599@paramountclub.pgre.com
SUMMARY:Paramount Club Closure - Christmas
DESCRIPTION:The Paramount Club will be closed December 24th through December 26th for Christmas. The Club will re-open on Monday\, December 29th with limited hours. \nMake a Future Reservation.
URL:https://paramountclub.pgre.com/events-calendar/paramount-club-closure-thanksgiving-2/
CATEGORIES:Special Hours
ATTACH;FMTTYPE=image/png:https://paramountclub.pgre.com/wp-content/uploads/2025/01/Atrium.png
END:VEVENT
BEGIN:VEVENT
DTSTART;TZID=America/New_York:20251223T070000
DTEND;TZID=America/New_York:20251223T160000
DTSTAMP:20260424T001720
CREATED:20251125T174750Z
LAST-MODIFIED:20251125T174750Z
UID:10004050-1766473200-1766505600@paramountclub.pgre.com
SUMMARY:Paramount Club Early Closure
DESCRIPTION:The Paramount Club will be open from 7:00am – 4:00pm on Tuesday\, December 23rd. \nMake a Future Reservation.
URL:https://paramountclub.pgre.com/events-calendar/paramount-club-early-closure-2/
CATEGORIES:Special Hours
ATTACH;FMTTYPE=image/png:https://paramountclub.pgre.com/wp-content/uploads/2025/01/Atrium.png
END:VEVENT
BEGIN:VEVENT
DTSTART;TZID=America/New_York:20251222T070000
DTEND;TZID=America/New_York:20251222T160000
DTSTAMP:20260424T001720
CREATED:20251125T174724Z
LAST-MODIFIED:20251125T174724Z
UID:10004049-1766386800-1766419200@paramountclub.pgre.com
SUMMARY:Paramount Club Early Closure
DESCRIPTION:The Paramount Club will be open from 7:00am – 4:00pm on Monday\, December 22nd. \nMake a Future Reservation.
URL:https://paramountclub.pgre.com/events-calendar/paramount-club-early-closure/
CATEGORIES:Special Hours
ATTACH;FMTTYPE=image/png:https://paramountclub.pgre.com/wp-content/uploads/2025/01/Atrium.png
END:VEVENT
BEGIN:VEVENT
DTSTART;TZID=America/New_York:20251219T070000
DTEND;TZID=America/New_York:20251219T160000
DTSTAMP:20260424T001720
CREATED:20251125T174926Z
LAST-MODIFIED:20251125T174926Z
UID:10004051-1766127600-1766160000@paramountclub.pgre.com
SUMMARY:Paramount Club Early Closure
DESCRIPTION:The Paramount Club will be open from 7:00am – 4:00pm on Friday\, December 19th. \nMake a Future Reservation.
URL:https://paramountclub.pgre.com/events-calendar/paramount-club-early-closure-5/
CATEGORIES:Special Hours
ATTACH;FMTTYPE=image/png:https://paramountclub.pgre.com/wp-content/uploads/2025/01/Atrium.png
END:VEVENT
BEGIN:VEVENT
DTSTART;TZID=America/New_York:20251217T150000
DTEND;TZID=America/New_York:20251217T220000
DTSTAMP:20260424T001720
CREATED:20251125T174548Z
LAST-MODIFIED:20251125T174548Z
UID:10004048-1765983600-1766008800@paramountclub.pgre.com
SUMMARY:Atrium Closure - Private Event
DESCRIPTION:On December 17th\, the Atrium will close at 3:00pm for a private event. The Wellness Center will operate normally during the closure. \nMake a future reservation. \nBook a wellness appointment.
URL:https://paramountclub.pgre.com/events-calendar/atrium-closure-private-event-12/
CATEGORIES:Special Hours
ATTACH;FMTTYPE=image/png:https://paramountclub.pgre.com/wp-content/uploads/2025/01/Atrium.png
END:VEVENT
BEGIN:VEVENT
DTSTART;TZID=America/New_York:20251212T150000
DTEND;TZID=America/New_York:20251212T220000
DTSTAMP:20260424T001720
CREATED:20251125T174158Z
LAST-MODIFIED:20251125T174158Z
UID:10004047-1765551600-1765576800@paramountclub.pgre.com
SUMMARY:Paramount Club Closure - Private Event
DESCRIPTION:The Paramount Club will be open from 7:00am to 3:00pm on Friday\, December 12th before closing for a private event. The Wellness Center will operate normally during the closure. \nMake a Future Reservation.
URL:https://paramountclub.pgre.com/events-calendar/paramount-club-closure-private-event-10/
CATEGORIES:Special Hours
ATTACH;FMTTYPE=image/png:https://paramountclub.pgre.com/wp-content/uploads/2025/01/Atrium.png
END:VEVENT
BEGIN:VEVENT
DTSTART;TZID=America/New_York:20251211T150000
DTEND;TZID=America/New_York:20251211T220000
DTSTAMP:20260424T001720
CREATED:20251125T174038Z
LAST-MODIFIED:20251125T174038Z
UID:10004046-1765465200-1765490400@paramountclub.pgre.com
SUMMARY:Paramount Club Closure - Private Event
DESCRIPTION:The Paramount Club will be open from 7:00am to 3:00pm on Thursday\, December 11th before closing for a private event. The Wellness Center will operate normally during the closure. \nMake a Future Reservation.
URL:https://paramountclub.pgre.com/events-calendar/paramount-club-closure-private-event-9/
CATEGORIES:Special Hours
ATTACH;FMTTYPE=image/png:https://paramountclub.pgre.com/wp-content/uploads/2025/01/Atrium.png
END:VEVENT
BEGIN:VEVENT
DTSTART;TZID=America/New_York:20251210T150000
DTEND;TZID=America/New_York:20251210T220000
DTSTAMP:20260424T001720
CREATED:20251125T173902Z
LAST-MODIFIED:20251125T174449Z
UID:10004045-1765378800-1765404000@paramountclub.pgre.com
SUMMARY:Atrium Closure - Private Event
DESCRIPTION:On December 10th\, the Atrium will close at 3:00pm for a private event. The Wellness Center will operate normally during the closure. \nMake a future reservation. \nBook a wellness appointment.
URL:https://paramountclub.pgre.com/events-calendar/atrium-closure-private-event-11/
CATEGORIES:Special Hours
ATTACH;FMTTYPE=image/png:https://paramountclub.pgre.com/wp-content/uploads/2025/01/Atrium.png
END:VEVENT
BEGIN:VEVENT
DTSTART;TZID=America/New_York:20251204T150000
DTEND;TZID=America/New_York:20251204T220000
DTSTAMP:20260424T001720
CREATED:20251125T173615Z
LAST-MODIFIED:20251125T173706Z
UID:10004044-1764860400-1764885600@paramountclub.pgre.com
SUMMARY:Paramount Club Closure - Private Event
DESCRIPTION:The Paramount Club will be open from 7:00am to 3:00pm on Thursday\, December 4th before closing for a private event. The Wellness Center will operate normally during the closure. \nMake a Future Reservation.
URL:https://paramountclub.pgre.com/events-calendar/paramount-club-closure-private-event-8/
CATEGORIES:Special Hours
ATTACH;FMTTYPE=image/png:https://paramountclub.pgre.com/wp-content/uploads/2025/01/Atrium.png
END:VEVENT
BEGIN:VEVENT
DTSTART;TZID=America/New_York:20251203T150000
DTEND;TZID=America/New_York:20251203T220000
DTSTAMP:20260424T001720
CREATED:20251125T173530Z
LAST-MODIFIED:20251125T173731Z
UID:10004043-1764774000-1764799200@paramountclub.pgre.com
SUMMARY:Paramount Club Closure - Private Event
DESCRIPTION:The Paramount Club will be open from 7:00am to 3:00pm on Wednesday\, December 3rd before closing for a private event. The Wellness Center will operate normally during the closure. \nMake a Future Reservation.
URL:https://paramountclub.pgre.com/events-calendar/paramount-club-closure-private-event-7/
CATEGORIES:Special Hours
ATTACH;FMTTYPE=image/png:https://paramountclub.pgre.com/wp-content/uploads/2025/01/Atrium.png
END:VEVENT
BEGIN:VEVENT
DTSTART;VALUE=DATE:20251127
DTEND;VALUE=DATE:20251129
DTSTAMP:20260424T001720
CREATED:20251003T163403Z
LAST-MODIFIED:20251003T165353Z
UID:10003972-1764201600-1764374399@paramountclub.pgre.com
SUMMARY:Paramount Club Closure - Thanksgiving
DESCRIPTION:The Paramount Club will close at 4:00pm on Wednesday\, November 26th and remain closed on Thursday\, November 27th and Friday\, November 28th for Thanksgiving. Paramount Club will re-open on Monday\, December 1st at 7:00am. \nMake a Future Reservation.
URL:https://paramountclub.pgre.com/events-calendar/paramount-club-closure-thanksgiving/
CATEGORIES:Special Hours
ATTACH;FMTTYPE=image/png:https://paramountclub.pgre.com/wp-content/uploads/2025/01/Atrium.png
END:VEVENT
BEGIN:VEVENT
DTSTART;TZID=America/New_York:20251126T070000
DTEND;TZID=America/New_York:20251126T160000
DTSTAMP:20260424T001720
CREATED:20251003T165502Z
LAST-MODIFIED:20251003T183844Z
UID:10003973-1764140400-1764172800@paramountclub.pgre.com
SUMMARY:Paramount Club Early Closure - Thanksgiving
DESCRIPTION:The Paramount Club will be open from 7:00am – 4:00pm on Wednesday\, November 26th before closing early ahead of Thanksgiving. \nMake a Future Reservation.
URL:https://paramountclub.pgre.com/events-calendar/paramount-club-early-closure-thanksgiving/
CATEGORIES:Special Hours
ATTACH;FMTTYPE=image/png:https://paramountclub.pgre.com/wp-content/uploads/2025/01/Atrium.png
END:VEVENT
BEGIN:VEVENT
DTSTART;TZID=America/New_York:20251124T100000
DTEND;TZID=America/New_York:20251124T160000
DTSTAMP:20260424T001720
CREATED:20251114T174836Z
LAST-MODIFIED:20251114T174836Z
UID:10004031-1763978400-1764000000@paramountclub.pgre.com
SUMMARY:Private Event Closure - Atrium
DESCRIPTION:On Monday\, November 24th\, the Atrium will close from 10am-4pm for a private event. \nThe Cafe & Wellness Center will operate normally during this time.
URL:https://paramountclub.pgre.com/events-calendar/private-event-closure-atrium/
CATEGORIES:Special Hours
ATTACH;FMTTYPE=image/jpeg:https://paramountclub.pgre.com/wp-content/uploads/2025/04/Atrium-scaled.jpg
END:VEVENT
BEGIN:VEVENT
DTSTART;TZID=America/New_York:20251113T140000
DTEND;TZID=America/New_York:20251113T220000
DTSTAMP:20260424T001720
CREATED:20251104T180951Z
LAST-MODIFIED:20251104T180951Z
UID:10004027-1763042400-1763071200@paramountclub.pgre.com
SUMMARY:Atrium Closure - Private Event
DESCRIPTION:On November 13th\, the Atrium will close at 2:00pm for a private event. The Wellness Center will operate normally during the closure. \nMake a future reservation. \nBook a wellness appointment.
URL:https://paramountclub.pgre.com/events-calendar/atrium-closure-private-event-10/
CATEGORIES:Special Hours
ATTACH;FMTTYPE=image/png:https://paramountclub.pgre.com/wp-content/uploads/2025/01/Atrium.png
END:VEVENT
BEGIN:VEVENT
DTSTART;TZID=America/New_York:20251112T140000
DTEND;TZID=America/New_York:20251112T220000
DTSTAMP:20260424T001720
CREATED:20251104T180927Z
LAST-MODIFIED:20251104T180927Z
UID:10004026-1762956000-1762984800@paramountclub.pgre.com
SUMMARY:Atrium Closure - Private Event
DESCRIPTION:On November 12th\, the Atrium will close at 2:00pm for a private event. The Wellness Center will operate normally during the closure. \nMake a future reservation. \nBook a wellness appointment.
URL:https://paramountclub.pgre.com/events-calendar/atrium-closure-private-event-9/
CATEGORIES:Special Hours
ATTACH;FMTTYPE=image/png:https://paramountclub.pgre.com/wp-content/uploads/2025/01/Atrium.png
END:VEVENT
END:VCALENDAR