BEGIN:VCALENDAR
VERSION:2.0
PRODID:-//Paramount Club - ECPv6.13.2.1//NONSGML v1.0//EN
CALSCALE:GREGORIAN
METHOD:PUBLISH
X-WR-CALNAME:Paramount Club
X-ORIGINAL-URL:https://paramountclub.pgre.com
X-WR-CALDESC:Events for Paramount Club
REFRESH-INTERVAL;VALUE=DURATION:PT1H
X-Robots-Tag:noindex
X-PUBLISHED-TTL:PT1H
BEGIN:VTIMEZONE
TZID:America/New_York
BEGIN:DAYLIGHT
TZOFFSETFROM:-0500
TZOFFSETTO:-0400
TZNAME:EDT
DTSTART:20250309T070000
END:DAYLIGHT
BEGIN:STANDARD
TZOFFSETFROM:-0400
TZOFFSETTO:-0500
TZNAME:EST
DTSTART:20251102T060000
END:STANDARD
END:VTIMEZONE
BEGIN:VEVENT
DTSTART;TZID=America/New_York:20250529T130000
DTEND;TZID=America/New_York:20250529T160000
DTSTAMP:20260424T084031
CREATED:20250523T154555Z
LAST-MODIFIED:20250523T154602Z
UID:2588-1748523600-1748534400@paramountclub.pgre.com
SUMMARY:Complimentary Balthazar Rhubarb Danish
DESCRIPTION:Stop by the Café and enjoy a complimentary Balthazar Rhubarb Danish with any coffee or tea purchase. Love it as much as we do? This delicious pastry will also be available for purchase in June. \nSave to Calendar
URL:https://paramountclub.pgre.com/events-calendar/complimentary-balthazar-rhubarb-danish/
CATEGORIES:Club Events
ATTACH;FMTTYPE=image/png:https://paramountclub.pgre.com/wp-content/uploads/2025/05/Website-Event-Imagery-1080-x-710-px-scaled.png
END:VEVENT
END:VCALENDAR