BEGIN:VCALENDAR
VERSION:2.0
PRODID:-//Paramount Club - ECPv6.13.2.1//NONSGML v1.0//EN
CALSCALE:GREGORIAN
METHOD:PUBLISH
X-WR-CALNAME:Paramount Club
X-ORIGINAL-URL:https://paramountclub.pgre.com
X-WR-CALDESC:Events for Paramount Club
REFRESH-INTERVAL;VALUE=DURATION:PT1H
X-Robots-Tag:noindex
X-PUBLISHED-TTL:PT1H
BEGIN:VTIMEZONE
TZID:America/New_York
BEGIN:DAYLIGHT
TZOFFSETFROM:-0500
TZOFFSETTO:-0400
TZNAME:EDT
DTSTART:20250309T070000
END:DAYLIGHT
BEGIN:STANDARD
TZOFFSETFROM:-0400
TZOFFSETTO:-0500
TZNAME:EST
DTSTART:20251102T060000
END:STANDARD
END:VTIMEZONE
BEGIN:VEVENT
DTSTART;TZID=America/New_York:20250610T150000
DTEND;TZID=America/New_York:20250610T170000
DTSTAMP:20260424T084244
CREATED:20250604T202913Z
LAST-MODIFIED:20250604T203440Z
UID:2654-1749567600-1749574800@paramountclub.pgre.com
SUMMARY:Complimentary Nutrition Consultations with Annie McKinley\, RD
DESCRIPTION:Meet\, Greet and receive a complimentary 10-minute consultation with our Registered Dietician\, Annie McKinley on Tuesday\, June 10th from 3:00pm-5:00pm.
URL:https://paramountclub.pgre.com/events-calendar/complimentary-nutrition-consultation-with-annie-mckinley-rd/
LOCATION:Paramount Wellness\, 1301 Avenue of the Americas\, New York\, NY\, 10019\, United States
CATEGORIES:Wellness
ATTACH;FMTTYPE=image/jpeg:https://paramountclub.pgre.com/wp-content/uploads/2025/06/anna-pelzer-IGfIGP5ONV0-unsplash-scaled.jpg
END:VEVENT
END:VCALENDAR