BEGIN:VCALENDAR
VERSION:2.0
PRODID:-//Paramount Club - ECPv6.13.2.1//NONSGML v1.0//EN
CALSCALE:GREGORIAN
METHOD:PUBLISH
X-WR-CALNAME:Paramount Club
X-ORIGINAL-URL:https://paramountclub.pgre.com
X-WR-CALDESC:Events for Paramount Club
REFRESH-INTERVAL;VALUE=DURATION:PT1H
X-Robots-Tag:noindex
X-PUBLISHED-TTL:PT1H
BEGIN:VTIMEZONE
TZID:America/New_York
BEGIN:DAYLIGHT
TZOFFSETFROM:-0500
TZOFFSETTO:-0400
TZNAME:EDT
DTSTART:20250309T070000
END:DAYLIGHT
BEGIN:STANDARD
TZOFFSETFROM:-0400
TZOFFSETTO:-0500
TZNAME:EST
DTSTART:20251102T060000
END:STANDARD
END:VTIMEZONE
BEGIN:VEVENT
DTSTART;TZID=America/New_York:20250409T130000
DTEND;TZID=America/New_York:20250409T150000
DTSTAMP:20260424T120137
CREATED:20250328T040039Z
LAST-MODIFIED:20250328T231034Z
UID:2135-1744203600-1744210800@paramountclub.pgre.com
SUMMARY:Complimentary Posture Assessments at Paramount Wellness!
DESCRIPTION:Complimentary Posture Assessments available at Paramount Wellness with our Chiropractor\, Dr Matthew Zimmerman on: \n  \nWednesday\, April 9th \n1:00pm-3:00pm \n  \nLimited spots available! \nTrouble scheduling? Email wellness@paramount.club
URL:https://paramountclub.pgre.com/events-calendar/complimentary-posture-assessments-at-paramount-wellness/
LOCATION:Paramount Wellness\, 1301 Avenue of the Americas\, New York\, NY\, 10019\, United States
CATEGORIES:Wellness
ATTACH;FMTTYPE=image/jpeg:https://paramountclub.pgre.com/wp-content/uploads/2025/03/DSC_0247_R.jpg
END:VEVENT
END:VCALENDAR