BEGIN:VCALENDAR
VERSION:2.0
PRODID:-//Paramount Club - ECPv6.13.2.1//NONSGML v1.0//EN
CALSCALE:GREGORIAN
METHOD:PUBLISH
X-WR-CALNAME:Paramount Club
X-ORIGINAL-URL:https://paramountclub.pgre.com
X-WR-CALDESC:Events for Paramount Club
REFRESH-INTERVAL;VALUE=DURATION:PT1H
X-Robots-Tag:noindex
X-PUBLISHED-TTL:PT1H
BEGIN:VTIMEZONE
TZID:America/New_York
BEGIN:DAYLIGHT
TZOFFSETFROM:-0500
TZOFFSETTO:-0400
TZNAME:EDT
DTSTART:20250309T070000
END:DAYLIGHT
BEGIN:STANDARD
TZOFFSETFROM:-0400
TZOFFSETTO:-0500
TZNAME:EST
DTSTART:20251102T060000
END:STANDARD
END:VTIMEZONE
BEGIN:VEVENT
DTSTART;TZID=America/New_York:20250410T110000
DTEND;TZID=America/New_York:20250410T140000
DTSTAMP:20260424T115755
CREATED:20250407T134504Z
LAST-MODIFIED:20250407T134504Z
UID:2313-1744282800-1744293600@paramountclub.pgre.com
SUMMARY:Complimentary Spring Latte
DESCRIPTION:Spring into a new flavor with the Iced Lavender Mint Latte. Drop by the Paramount Café to try our new seasonal latte.
URL:https://paramountclub.pgre.com/events-calendar/complimentary-spring-latte/
CATEGORIES:Club Events
ATTACH;FMTTYPE=image/png:https://paramountclub.pgre.com/wp-content/uploads/2025/04/Website-Event-Imagery-1080-x-710-px-4.png
END:VEVENT
END:VCALENDAR