BEGIN:VCALENDAR
VERSION:2.0
PRODID:-//Paramount Club - ECPv6.13.2.1//NONSGML v1.0//EN
CALSCALE:GREGORIAN
METHOD:PUBLISH
X-WR-CALNAME:Paramount Club
X-ORIGINAL-URL:https://paramountclub.pgre.com
X-WR-CALDESC:Events for Paramount Club
REFRESH-INTERVAL;VALUE=DURATION:PT1H
X-Robots-Tag:noindex
X-PUBLISHED-TTL:PT1H
BEGIN:VTIMEZONE
TZID:America/New_York
BEGIN:DAYLIGHT
TZOFFSETFROM:-0500
TZOFFSETTO:-0400
TZNAME:EDT
DTSTART:20250309T070000
END:DAYLIGHT
BEGIN:STANDARD
TZOFFSETFROM:-0400
TZOFFSETTO:-0500
TZNAME:EST
DTSTART:20251102T060000
END:STANDARD
END:VTIMEZONE
BEGIN:VEVENT
DTSTART;TZID=America/New_York:20250326T170000
DTEND;TZID=America/New_York:20250326T180000
DTSTAMP:20260424T134149
CREATED:20250320T163138Z
LAST-MODIFIED:20250320T163138Z
UID:2150-1743008400-1743012000@paramountclub.pgre.com
SUMMARY:Complimentary Tequila Tasting
DESCRIPTION:It’s Tequila time at the Paramount Club! Join us for a tasting of Maestro Dobel\, a new generation of Tequila. \nAdd to Calendar.
URL:https://paramountclub.pgre.com/events-calendar/complimentary-tequila-tasting-2/
CATEGORIES:Club Events
ATTACH;FMTTYPE=image/png:https://paramountclub.pgre.com/wp-content/uploads/2025/03/Website-Event-Imagery-1080-x-710-px-4.png
END:VEVENT
END:VCALENDAR