BEGIN:VCALENDAR
VERSION:2.0
PRODID:-//Paramount Club - ECPv6.13.2.1//NONSGML v1.0//EN
CALSCALE:GREGORIAN
METHOD:PUBLISH
X-WR-CALNAME:Paramount Club
X-ORIGINAL-URL:https://paramountclub.pgre.com
X-WR-CALDESC:Events for Paramount Club
REFRESH-INTERVAL;VALUE=DURATION:PT1H
X-Robots-Tag:noindex
X-PUBLISHED-TTL:PT1H
BEGIN:VTIMEZONE
TZID:America/New_York
BEGIN:DAYLIGHT
TZOFFSETFROM:-0500
TZOFFSETTO:-0400
TZNAME:EDT
DTSTART:20250309T070000
END:DAYLIGHT
BEGIN:STANDARD
TZOFFSETFROM:-0400
TZOFFSETTO:-0500
TZNAME:EST
DTSTART:20251102T060000
END:STANDARD
END:VTIMEZONE
BEGIN:VEVENT
DTSTART;TZID=America/New_York:20250618T170000
DTEND;TZID=America/New_York:20250618T180000
DTSTAMP:20260424T083714
CREATED:20250610T183136Z
LAST-MODIFIED:20250612T150654Z
UID:2700-1750266000-1750269600@paramountclub.pgre.com
SUMMARY:Honoring Juneteenth - Complimentary Cocktail Class & Tasting 
DESCRIPTION:Celebrate Juneteenth with the award-winning SirDavis whiskey. Discover how to craft a classic New York–Style Whiskey Sour and enjoy a  tasting of premium whiskey expressions. \nSave to Calendar
URL:https://paramountclub.pgre.com/events-calendar/honoring-juneteenth-complimentary-cocktail-class-tasting/
CATEGORIES:Club Events
ATTACH;FMTTYPE=image/png:https://paramountclub.pgre.com/wp-content/uploads/2025/06/Website-Event-Imagery-1080-x-710-px-4.png
END:VEVENT
END:VCALENDAR