BEGIN:VCALENDAR
VERSION:2.0
PRODID:-//Paramount Club - ECPv6.13.2.1//NONSGML v1.0//EN
CALSCALE:GREGORIAN
METHOD:PUBLISH
X-WR-CALNAME:Paramount Club
X-ORIGINAL-URL:https://paramountclub.pgre.com
X-WR-CALDESC:Events for Paramount Club
REFRESH-INTERVAL;VALUE=DURATION:PT1H
X-Robots-Tag:noindex
X-PUBLISHED-TTL:PT1H
BEGIN:VTIMEZONE
TZID:America/New_York
BEGIN:DAYLIGHT
TZOFFSETFROM:-0500
TZOFFSETTO:-0400
TZNAME:EDT
DTSTART:20250309T070000
END:DAYLIGHT
BEGIN:STANDARD
TZOFFSETFROM:-0400
TZOFFSETTO:-0500
TZNAME:EST
DTSTART:20251102T060000
END:STANDARD
END:VTIMEZONE
BEGIN:VEVENT
DTSTART;TZID=America/New_York:20250616T130000
DTEND;TZID=America/New_York:20250616T150000
DTSTAMP:20260424T083631
CREATED:20250609T170529Z
LAST-MODIFIED:20250609T171035Z
UID:2692-1750078800-1750086000@paramountclub.pgre.com
SUMMARY:Father's Day Wellness Treat
DESCRIPTION:Relax and enjoy a complimentary Father’s Day treat at Paramount Wellness with a 15-minute stretch session with our Chiropractor\, Dr Matthew Zimmerman! \nOffer Available on June 16th\, from 1:00pm-3:00pm.
URL:https://paramountclub.pgre.com/events-calendar/intern-body-composition-analysis/
LOCATION:Paramount Wellness\, 1301 Avenue of the Americas\, New York\, NY\, 10019\, United States
CATEGORIES:Wellness
ATTACH;FMTTYPE=image/jpeg:https://paramountclub.pgre.com/wp-content/uploads/2025/06/iStock-1299770398-scaled.jpg
END:VEVENT
END:VCALENDAR