BEGIN:VCALENDAR
VERSION:2.0
PRODID:-//Paramount Club - ECPv6.13.2.1//NONSGML v1.0//EN
CALSCALE:GREGORIAN
METHOD:PUBLISH
X-WR-CALNAME:Paramount Club
X-ORIGINAL-URL:https://paramountclub.pgre.com
X-WR-CALDESC:Events for Paramount Club
REFRESH-INTERVAL;VALUE=DURATION:PT1H
X-Robots-Tag:noindex
X-PUBLISHED-TTL:PT1H
BEGIN:VTIMEZONE
TZID:America/New_York
BEGIN:DAYLIGHT
TZOFFSETFROM:-0500
TZOFFSETTO:-0400
TZNAME:EDT
DTSTART:20250309T070000
END:DAYLIGHT
BEGIN:STANDARD
TZOFFSETFROM:-0400
TZOFFSETTO:-0500
TZNAME:EST
DTSTART:20251102T060000
END:STANDARD
END:VTIMEZONE
BEGIN:VEVENT
DTSTART;TZID=America/New_York:20250609T000000
DTEND;TZID=America/New_York:20250831T235900
DTSTAMP:20260424T051203
CREATED:20250609T110014Z
LAST-MODIFIED:20250610T221917Z
UID:2651-1749427200-1756684740@paramountclub.pgre.com
SUMMARY:Paramount Wellness: Summer Intern Promotions
DESCRIPTION:Welcome Summer Interns! \nTake advantage of Paramount Wellness’ exclusive intern promotions: \n  \nInternFit Personal Training Bundle— \n3 sessions and a full InBody Composition \nAnalysis for only $225 ($600 value) \n  \nAccess our state-of-the-art InBody770 scale for a detailed body composition breakdown \nSpecial rate of just $50 \n($150 value). \n  \nThese promotions are exclusive to interns only\, starting June 9th and ending August 31st.
URL:https://paramountclub.pgre.com/events-calendar/internfit-personal-training-promotion/
LOCATION:Paramount Wellness\, 1301 Avenue of the Americas\, New York\, NY\, 10019\, United States
CATEGORIES:Wellness
ATTACH;FMTTYPE=image/jpeg:https://paramountclub.pgre.com/wp-content/uploads/2025/06/InternFit-scaled.jpg
END:VEVENT
END:VCALENDAR