BEGIN:VCALENDAR
VERSION:2.0
PRODID:-//Paramount Club - ECPv6.13.2.1//NONSGML v1.0//EN
CALSCALE:GREGORIAN
METHOD:PUBLISH
X-WR-CALNAME:Paramount Club
X-ORIGINAL-URL:https://paramountclub.pgre.com
X-WR-CALDESC:Events for Paramount Club
REFRESH-INTERVAL;VALUE=DURATION:PT1H
X-Robots-Tag:noindex
X-PUBLISHED-TTL:PT1H
BEGIN:VTIMEZONE
TZID:America/New_York
BEGIN:DAYLIGHT
TZOFFSETFROM:-0500
TZOFFSETTO:-0400
TZNAME:EDT
DTSTART:20260308T070000
END:DAYLIGHT
BEGIN:STANDARD
TZOFFSETFROM:-0400
TZOFFSETTO:-0500
TZNAME:EST
DTSTART:20261101T060000
END:STANDARD
END:VTIMEZONE
BEGIN:VEVENT
DTSTART;TZID=America/New_York:20260507T180000
DTEND;TZID=America/New_York:20260507T190000
DTSTAMP:20260423T140051
CREATED:20251217T221003Z
LAST-MODIFIED:20251217T221004Z
UID:10005054-1778176800-1778180400@paramountclub.pgre.com
SUMMARY:Kickboxing/Boxing Class
DESCRIPTION:The Paramount Club Boxing/Kickboxing program is very unique. Derived from the Peek-A-Boo style of boxing taught to Mike Tyson intertwined with European Kick Boxing\, one will learn to develop the fundamentals of boxing\, kicking\, evasiveness and self-defense while getting an intense full-body workout. \nSign up for our kickboxing/boxing class every Thursday at 6:00pm\, at Paramount Wellness!
URL:https://paramountclub.pgre.com/events-calendar/kickboxing-boxing-class-2/2026-05-07/
LOCATION:Paramount Wellness\, 1301 Avenue of the Americas\, New York\, NY\, 10019\, United States
CATEGORIES:Wellness
ATTACH;FMTTYPE=image/jpeg:https://paramountclub.pgre.com/wp-content/uploads/2025/01/KB-pic.jpg
ORGANIZER;CN="Paramount Wellness":MAILTO:wellness@paramount.club
END:VEVENT
END:VCALENDAR