BEGIN:VCALENDAR
VERSION:2.0
PRODID:-//Paramount Club - ECPv6.13.2.1//NONSGML v1.0//EN
CALSCALE:GREGORIAN
METHOD:PUBLISH
X-WR-CALNAME:Paramount Club
X-ORIGINAL-URL:https://paramountclub.pgre.com
X-WR-CALDESC:Events for Paramount Club
REFRESH-INTERVAL;VALUE=DURATION:PT1H
X-Robots-Tag:noindex
X-PUBLISHED-TTL:PT1H
BEGIN:VTIMEZONE
TZID:America/New_York
BEGIN:DAYLIGHT
TZOFFSETFROM:-0500
TZOFFSETTO:-0400
TZNAME:EDT
DTSTART:20250309T070000
END:DAYLIGHT
BEGIN:STANDARD
TZOFFSETFROM:-0400
TZOFFSETTO:-0500
TZNAME:EST
DTSTART:20251102T060000
END:STANDARD
END:VTIMEZONE
BEGIN:VEVENT
DTSTART;TZID=America/New_York:20250116T160000
DTEND;TZID=America/New_York:20250116T200000
DTSTAMP:20260424T165048
CREATED:20250102T163340Z
LAST-MODIFIED:20250107T183633Z
UID:1670-1737043200-1737057600@paramountclub.pgre.com
SUMMARY:Live DJ at the Paramount Club
DESCRIPTION:Experience the Paramount Club with a live DJ and extended happy hour specials!\n3:00PM-5:00PM – Happy Hour\, including a Dry January Mocktail\n5:00PM-8:00PM – discounted bottles of wine
URL:https://paramountclub.pgre.com/events-calendar/live-dj/
CATEGORIES:Club Events
ATTACH;FMTTYPE=image/png:https://paramountclub.pgre.com/wp-content/uploads/2025/01/Live-DJ.png
END:VEVENT
END:VCALENDAR