BEGIN:VCALENDAR
VERSION:2.0
PRODID:-//Paramount Club - ECPv6.13.2.1//NONSGML v1.0//EN
CALSCALE:GREGORIAN
METHOD:PUBLISH
X-WR-CALNAME:Paramount Club
X-ORIGINAL-URL:https://paramountclub.pgre.com
X-WR-CALDESC:Events for Paramount Club
REFRESH-INTERVAL;VALUE=DURATION:PT1H
X-Robots-Tag:noindex
X-PUBLISHED-TTL:PT1H
BEGIN:VTIMEZONE
TZID:America/New_York
BEGIN:DAYLIGHT
TZOFFSETFROM:-0500
TZOFFSETTO:-0400
TZNAME:EDT
DTSTART:20260308T070000
END:DAYLIGHT
BEGIN:STANDARD
TZOFFSETFROM:-0400
TZOFFSETTO:-0500
TZNAME:EST
DTSTART:20261101T060000
END:STANDARD
END:VTIMEZONE
BEGIN:VEVENT
DTSTART;TZID=America/New_York:20260210T080000
DTEND;TZID=America/New_York:20260210T090000
DTSTAMP:20260423T185924
CREATED:20250103T174222Z
LAST-MODIFIED:20251219T175347Z
UID:10000944-1770710400-1770714000@paramountclub.pgre.com
SUMMARY:Mat Pilates Class
DESCRIPTION:Mat Pilates is a Pilates training practice that does not use the traditional equipment but requires an exercise mat. In this class\, you hold movements like planks\, side planks\, and a multitude of core exercises to strengthen and tone your entire body and spine. Your Pilates instructor may provide options to use bands\, exercise balls\, and sometimes even small weights to help elevate your Pilates experience. \nSign up for our mat pilates class every Tuesday at 8am\, at Paramount Wellness!
URL:https://paramountclub.pgre.com/events-calendar/mat-pilates-class/2026-02-10/
LOCATION:Paramount Wellness\, 1301 Avenue of the Americas\, New York\, NY\, 10019\, United States
CATEGORIES:Wellness
ATTACH;FMTTYPE=image/jpeg:https://paramountclub.pgre.com/wp-content/uploads/2025/01/Pilates-Pic.jpg
ORGANIZER;CN="Paramount Wellness":MAILTO:wellness@paramount.club
END:VEVENT
END:VCALENDAR