BEGIN:VCALENDAR
VERSION:2.0
PRODID:-//Paramount Club - ECPv6.13.2.1//NONSGML v1.0//EN
CALSCALE:GREGORIAN
METHOD:PUBLISH
X-WR-CALNAME:Paramount Club
X-ORIGINAL-URL:https://paramountclub.pgre.com
X-WR-CALDESC:Events for Paramount Club
REFRESH-INTERVAL;VALUE=DURATION:PT1H
X-Robots-Tag:noindex
X-PUBLISHED-TTL:PT1H
BEGIN:VTIMEZONE
TZID:America/New_York
BEGIN:DAYLIGHT
TZOFFSETFROM:-0500
TZOFFSETTO:-0400
TZNAME:EDT
DTSTART:20250309T070000
END:DAYLIGHT
BEGIN:STANDARD
TZOFFSETFROM:-0400
TZOFFSETTO:-0500
TZNAME:EST
DTSTART:20251102T060000
END:STANDARD
END:VTIMEZONE
BEGIN:VEVENT
DTSTART;TZID=America/New_York:20250508T180000
DTEND;TZID=America/New_York:20250508T193000
DTSTAMP:20260424T101436
CREATED:20250416T194819Z
LAST-MODIFIED:20250416T194932Z
UID:2339-1746727200-1746732600@paramountclub.pgre.com
SUMMARY:Mother's Day Flower Arranging Workshop
DESCRIPTION:Come join us for a fun and creative event just in time for Mother’s Day! At this gathering\, you’ll learn how to create stunning floral arrangements that will surely impress Mom. Whether you’re a seasoned pro or a complete beginner\, we will guide you every step of the way. \nPurchase your Ticket.  \nIn this guided experience\, each guest will handpick their own selection of fresh\, seasonal flowers and learn the fundamentals of color theory\, balance\, and texture. Together\, we’ll explore unique and artistic ways to arrange flowers—whether you prefer something wild and whimsical or clean and classic. \nNo experience necessary—just come ready to play with petals\, get inspired\, and leave with your own stunning arrangement to take home. \nEach ticket includes 1.5 hours of instruction\, an assortment of seasonal flowers and all tools and supplies needed. \nGet ready to unleash your inner artist and craft a beautiful bouquet to show your appreciation for the special women in your life. Don’t miss out on this opportunity to make Mother’s Day extra memorable!
URL:https://paramountclub.pgre.com/events-calendar/mothers-day-flower-arranging-workshop/
CATEGORIES:Club Events
ATTACH;FMTTYPE=image/png:https://paramountclub.pgre.com/wp-content/uploads/2025/04/Website-Event-Imagery-1080-x-710-px-8-scaled.png
END:VEVENT
END:VCALENDAR