BEGIN:VCALENDAR
VERSION:2.0
PRODID:-//Paramount Club - ECPv6.13.2.1//NONSGML v1.0//EN
CALSCALE:GREGORIAN
METHOD:PUBLISH
X-WR-CALNAME:Paramount Club
X-ORIGINAL-URL:https://paramountclub.pgre.com
X-WR-CALDESC:Events for Paramount Club
REFRESH-INTERVAL;VALUE=DURATION:PT1H
X-Robots-Tag:noindex
X-PUBLISHED-TTL:PT1H
BEGIN:VTIMEZONE
TZID:America/New_York
BEGIN:DAYLIGHT
TZOFFSETFROM:-0500
TZOFFSETTO:-0400
TZNAME:EDT
DTSTART:20250309T070000
END:DAYLIGHT
BEGIN:STANDARD
TZOFFSETFROM:-0400
TZOFFSETTO:-0500
TZNAME:EST
DTSTART:20251102T060000
END:STANDARD
END:VTIMEZONE
BEGIN:VEVENT
DTSTART;TZID=America/New_York:20251208T110000
DTEND;TZID=America/New_York:20251208T140000
DTSTAMP:20260423T235958
CREATED:20251125T175358Z
LAST-MODIFIED:20251125T180006Z
UID:3137-1765191600-1765202400@paramountclub.pgre.com
SUMMARY:National Brownie Day at Paramount Club
DESCRIPTION:We’re celebrating National Brownie Day at the Paramount Club. Purchase any coffee or tea at the Café and enjoy a complimentary brownie — your choice of classic or chocolate peppermint. Available until 2:00pm\, while supplies last. \n 
URL:https://paramountclub.pgre.com/events-calendar/national-brownie-day-at-paramount-club/
CATEGORIES:Club Events
ATTACH;FMTTYPE=image/png:https://paramountclub.pgre.com/wp-content/uploads/2025/11/Website-Event-Imagery-1080-x-710-px-34.png
END:VEVENT
END:VCALENDAR