BEGIN:VCALENDAR
VERSION:2.0
PRODID:-//Paramount Club - ECPv6.13.2.1//NONSGML v1.0//EN
CALSCALE:GREGORIAN
METHOD:PUBLISH
X-WR-CALNAME:Paramount Club
X-ORIGINAL-URL:https://paramountclub.pgre.com
X-WR-CALDESC:Events for Paramount Club
REFRESH-INTERVAL;VALUE=DURATION:PT1H
X-Robots-Tag:noindex
X-PUBLISHED-TTL:PT1H
BEGIN:VTIMEZONE
TZID:America/New_York
BEGIN:DAYLIGHT
TZOFFSETFROM:-0500
TZOFFSETTO:-0400
TZNAME:EDT
DTSTART:20250309T070000
END:DAYLIGHT
BEGIN:STANDARD
TZOFFSETFROM:-0400
TZOFFSETTO:-0500
TZNAME:EST
DTSTART:20251102T060000
END:STANDARD
END:VTIMEZONE
BEGIN:VEVENT
DTSTART;TZID=America/New_York:20250523T160000
DTEND;TZID=America/New_York:20250527T070000
DTSTAMP:20260424T084017
CREATED:20250108T154450Z
LAST-MODIFIED:20250519T133142Z
UID:1793-1748016000-1748329200@paramountclub.pgre.com
SUMMARY:Paramount Club Closure - Memorial Day
DESCRIPTION:The Paramount Club will close at 4:00PM on Friday\, May 23rd and remain closed on Monday\, May 26th for Memorial Day. Paramount Club will re-open on Tuesday\, May 27th at 7:00AM. \nMake a Future Reservation.
URL:https://paramountclub.pgre.com/events-calendar/paramount-club-closure-memorial-day/
CATEGORIES:Special Hours
ATTACH;FMTTYPE=image/png:https://paramountclub.pgre.com/wp-content/uploads/2025/01/Atrium.png
END:VEVENT
END:VCALENDAR