BEGIN:VCALENDAR
VERSION:2.0
PRODID:-//Paramount Club - ECPv6.13.2.1//NONSGML v1.0//EN
CALSCALE:GREGORIAN
METHOD:PUBLISH
X-WR-CALNAME:Paramount Club
X-ORIGINAL-URL:https://paramountclub.pgre.com
X-WR-CALDESC:Events for Paramount Club
REFRESH-INTERVAL;VALUE=DURATION:PT1H
X-Robots-Tag:noindex
X-PUBLISHED-TTL:PT1H
BEGIN:VTIMEZONE
TZID:America/New_York
BEGIN:DAYLIGHT
TZOFFSETFROM:-0500
TZOFFSETTO:-0400
TZNAME:EDT
DTSTART:20250309T070000
END:DAYLIGHT
BEGIN:STANDARD
TZOFFSETFROM:-0400
TZOFFSETTO:-0500
TZNAME:EST
DTSTART:20251102T060000
END:STANDARD
END:VTIMEZONE
BEGIN:VEVENT
DTSTART;TZID=America/New_York:20251229T070000
DTEND;TZID=America/New_York:20251229T120000
DTSTAMP:20260423T203333
CREATED:20251217T202643Z
LAST-MODIFIED:20251217T202643Z
UID:3178-1766991600-1767009600@paramountclub.pgre.com
SUMMARY:Paramount Wellness Early Closure
DESCRIPTION:The Paramount Wellness will be open from 7:00am – 12:00pm on Monday\, December 29th. \nBook a Service Here!
URL:https://paramountclub.pgre.com/events-calendar/paramount-wellness-early-closure/
LOCATION:Paramount Wellness\, 1301 Avenue of the Americas\, New York\, NY\, 10019\, United States
CATEGORIES:Special Hours,Wellness
ATTACH;FMTTYPE=image/jpeg:https://paramountclub.pgre.com/wp-content/uploads/2025/01/Wellness_Studio_0055_R-scaled.jpg
END:VEVENT
END:VCALENDAR