BEGIN:VCALENDAR
VERSION:2.0
PRODID:-//Paramount Club - ECPv6.13.2.1//NONSGML v1.0//EN
CALSCALE:GREGORIAN
METHOD:PUBLISH
X-WR-CALNAME:Paramount Club
X-ORIGINAL-URL:https://paramountclub.pgre.com
X-WR-CALDESC:Events for Paramount Club
REFRESH-INTERVAL;VALUE=DURATION:PT1H
X-Robots-Tag:noindex
X-PUBLISHED-TTL:PT1H
BEGIN:VTIMEZONE
TZID:America/New_York
BEGIN:DAYLIGHT
TZOFFSETFROM:-0500
TZOFFSETTO:-0400
TZNAME:EDT
DTSTART:20250309T070000
END:DAYLIGHT
BEGIN:STANDARD
TZOFFSETFROM:-0400
TZOFFSETTO:-0500
TZNAME:EST
DTSTART:20251102T060000
END:STANDARD
END:VTIMEZONE
BEGIN:VEVENT
DTSTART;VALUE=DATE:20250415
DTEND;VALUE=DATE:20250601
DTSTAMP:20260424T084031
CREATED:20250415T213800Z
LAST-MODIFIED:20250530T213628Z
UID:2335-1744675200-1748735999@paramountclub.pgre.com
SUMMARY:Paramount Wellness May Promotion: 20% off Personal Training
DESCRIPTION:Heating Up for the Summer! \nTake 20% off of our Personal Training session and bundles — offer available until May 31st! \n  \nUse Promo Code \nSUMMERBOD25 \nwhen booking using the MindBody website. \n  \nContact wellness@paramount.club or call (212) 237-3188 if you have any questions or are having trouble booking.
URL:https://paramountclub.pgre.com/events-calendar/paramount-wellness-may-promotion-20-off-personal-training/
LOCATION:Paramount Wellness\, 1301 Avenue of the Americas\, New York\, NY\, 10019\, United States
CATEGORIES:Wellness
ATTACH;FMTTYPE=image/jpeg:https://paramountclub.pgre.com/wp-content/uploads/2025/04/jonathan-borba-R0y_bEUjiOM-unsplash-scaled.jpg
END:VEVENT
END:VCALENDAR