BEGIN:VCALENDAR
VERSION:2.0
PRODID:-//Paramount Club - ECPv6.13.2.1//NONSGML v1.0//EN
CALSCALE:GREGORIAN
METHOD:PUBLISH
X-WR-CALNAME:Paramount Club
X-ORIGINAL-URL:https://paramountclub.pgre.com
X-WR-CALDESC:Events for Paramount Club
REFRESH-INTERVAL;VALUE=DURATION:PT1H
X-Robots-Tag:noindex
X-PUBLISHED-TTL:PT1H
BEGIN:VTIMEZONE
TZID:America/New_York
BEGIN:DAYLIGHT
TZOFFSETFROM:-0500
TZOFFSETTO:-0400
TZNAME:EDT
DTSTART:20250309T070000
END:DAYLIGHT
BEGIN:STANDARD
TZOFFSETFROM:-0400
TZOFFSETTO:-0500
TZNAME:EST
DTSTART:20251102T060000
END:STANDARD
END:VTIMEZONE
BEGIN:VEVENT
DTSTART;TZID=America/New_York:20250723T070000
DTEND;TZID=America/New_York:20250723T190000
DTSTAMP:20260424T065920
CREATED:20250702T224030Z
LAST-MODIFIED:20250702T224030Z
UID:2762-1753254000-1753297200@paramountclub.pgre.com
SUMMARY:Paramount Wellness Open House & Grip Strength Challenge for Interns & Summer Analysts
DESCRIPTION:Visit the wellness center to learn about our fitness\, medical & wellness offerings and participate in our Grip Strength Challenge for a chance to win a Free Personal Training Session! \n  \nWednesday\, July 23rd \n7:00am – 7:00pm \n  \n\n\n\nNo sign up required. \n\n\nMust be a Summer Analyst or Intern to be eligible to win Grip Strength Challenge Prize.
URL:https://paramountclub.pgre.com/events-calendar/paramount-wellness-open-house-grip-strength-challenge-for-interns-summer-analysts/
LOCATION:Paramount Wellness\, 1301 Avenue of the Americas\, New York\, NY\, 10019\, United States
CATEGORIES:Wellness
ATTACH;FMTTYPE=image/jpeg:https://paramountclub.pgre.com/wp-content/uploads/2025/07/iStock-2163606925-scaled.jpg
END:VEVENT
END:VCALENDAR