BEGIN:VCALENDAR
VERSION:2.0
PRODID:-//Paramount Club - ECPv6.13.2.1//NONSGML v1.0//EN
CALSCALE:GREGORIAN
METHOD:PUBLISH
X-WR-CALNAME:Paramount Club
X-ORIGINAL-URL:https://paramountclub.pgre.com
X-WR-CALDESC:Events for Paramount Club
REFRESH-INTERVAL;VALUE=DURATION:PT1H
X-Robots-Tag:noindex
X-PUBLISHED-TTL:PT1H
BEGIN:VTIMEZONE
TZID:America/New_York
BEGIN:DAYLIGHT
TZOFFSETFROM:-0500
TZOFFSETTO:-0400
TZNAME:EDT
DTSTART:20250309T070000
END:DAYLIGHT
BEGIN:STANDARD
TZOFFSETFROM:-0400
TZOFFSETTO:-0500
TZNAME:EST
DTSTART:20251102T060000
END:STANDARD
END:VTIMEZONE
BEGIN:VEVENT
DTSTART;VALUE=DATE:20250106
DTEND;VALUE=DATE:20250301
DTSTAMP:20260424T134035
CREATED:20250102T165259Z
LAST-MODIFIED:20250131T190436Z
UID:1679-1736121600-1740787199@paramountclub.pgre.com
SUMMARY:Paramount Wellness Bundle: 5 Salads + 5 Wellness Classes for $175!
DESCRIPTION:Start the year off right with a fresh\, healthy Paramount Wellness Bundle \nFor only $175 (a $250 Value) you receive: \n5 Energizing Fitness Classes at Paramount Wellness – Choose from Yoga\, Boxing\, Kickboxing\, Mat Pilates\, Barre\, Body Sculpt & Stretch\, Tai Chi/Qigong\, Sound Bath Meditation\, Self Defense\, HIIT\, Aerobyx\, and Sound Assisted Yoga – all designed to enhance your strength\, endurance\, and overall well-being. \n5 Delicious Salads from the cafe – Choose from a Cobb Salad\, Caesar Salad\, Chicory Salad\, and Spinach Salad. \nTreat yourself to health\, energy\, and balance by purchasing the package today. \nPurchase the Package \nPromotion details: \n\nLimit of one package per member.\nMust purchase the package before February\, 28th.\nProof of purchase required to redeem salads at the café.\nSalads must be redeemed before March 31st.\nClasses must be redeemed 3 months from package purchase date.\nClasses and salads can be redeemed in the same visit to the club or on separate visits.\n\nContact wellness@paramount.club if you have any questions.
URL:https://paramountclub.pgre.com/events-calendar/paramountwellnessbundle/
CATEGORIES:Wellness
ATTACH;FMTTYPE=image/jpeg:https://paramountclub.pgre.com/wp-content/uploads/2025/01/Wellness_Studio_0055_R-scaled.jpg
END:VEVENT
END:VCALENDAR