BEGIN:VCALENDAR
VERSION:2.0
PRODID:-//Paramount Club - ECPv6.13.2.1//NONSGML v1.0//EN
CALSCALE:GREGORIAN
METHOD:PUBLISH
X-WR-CALNAME:Paramount Club
X-ORIGINAL-URL:https://paramountclub.pgre.com
X-WR-CALDESC:Events for Paramount Club
REFRESH-INTERVAL;VALUE=DURATION:PT1H
X-Robots-Tag:noindex
X-PUBLISHED-TTL:PT1H
BEGIN:VTIMEZONE
TZID:America/New_York
BEGIN:DAYLIGHT
TZOFFSETFROM:-0500
TZOFFSETTO:-0400
TZNAME:EDT
DTSTART:20260308T070000
END:DAYLIGHT
BEGIN:STANDARD
TZOFFSETFROM:-0400
TZOFFSETTO:-0500
TZNAME:EST
DTSTART:20261101T060000
END:STANDARD
END:VTIMEZONE
BEGIN:VEVENT
DTSTART;TZID=America/New_York:20260212T180000
DTEND;TZID=America/New_York:20260212T193000
DTSTAMP:20260423T184537
CREATED:20260126T140530Z
LAST-MODIFIED:20260126T140530Z
UID:3276-1770919200-1770924600@paramountclub.pgre.com
SUMMARY:Sip & Script - Galentine's Day Edition
DESCRIPTION:Join us for a modern calligraphy workshop\, perfect for beginners and craft enthusiasts alike. Learn the basics of pointed pen calligraphy add special lettered details to your Galentine’s cards\,  and take home a complete beginner’s kit. \nSecure Your Ticket 
URL:https://paramountclub.pgre.com/events-calendar/sip-script-galentines-day-edition/
CATEGORIES:Club Events
ATTACH;FMTTYPE=image/png:https://paramountclub.pgre.com/wp-content/uploads/2025/01/Sip-script-website.png
END:VEVENT
END:VCALENDAR