BEGIN:VCALENDAR
VERSION:2.0
PRODID:-//Paramount Club - ECPv6.13.2.1//NONSGML v1.0//EN
CALSCALE:GREGORIAN
METHOD:PUBLISH
X-WR-CALNAME:Paramount Club
X-ORIGINAL-URL:https://paramountclub.pgre.com
X-WR-CALDESC:Events for Paramount Club
REFRESH-INTERVAL;VALUE=DURATION:PT1H
X-Robots-Tag:noindex
X-PUBLISHED-TTL:PT1H
BEGIN:VTIMEZONE
TZID:America/New_York
BEGIN:DAYLIGHT
TZOFFSETFROM:-0500
TZOFFSETTO:-0400
TZNAME:EDT
DTSTART:20250309T070000
END:DAYLIGHT
BEGIN:STANDARD
TZOFFSETFROM:-0400
TZOFFSETTO:-0500
TZNAME:EST
DTSTART:20251102T060000
END:STANDARD
END:VTIMEZONE
BEGIN:VEVENT
DTSTART;TZID=America/New_York:20251202T180000
DTEND;TZID=America/New_York:20251202T193000
DTSTAMP:20260423T215746
CREATED:20251121T152103Z
LAST-MODIFIED:20251121T152154Z
UID:3090-1764698400-1764703800@paramountclub.pgre.com
SUMMARY:Sip & Script - Holiday Edition
DESCRIPTION:Join us for a festive workshop of holiday fun and pretty lettering for beginners! Whether you’re a stationery nerd\, DIY Bride-to-be\, or just a crafty individual\, in this workshop you’ll be learning an introduction to modern calligraphy with a pointed dip pen and ink. We will cover all the basics and get you ready to add those special lettered details to all your holiday tables\, Christmas trees\, hostess gifts\, gift tags\, holiday card mailings and more! \nSecure your Ticket \nClass includes 1.5 hours of instruction and demonstration\, our beginner’s calligraphy kit (two nibs\, black ink pot\, 2 letter guides\, tracing paper and straight pen holder)\, and all materials to write on. Everything is yours to keep at the end of the workshop! Additionally\, we will be covering tips and tricks for lettering on your gift tags at the end of our class time\, and each student will receive a pack of gift tags to personalize!
URL:https://paramountclub.pgre.com/events-calendar/sip-script-holiday-edition/
CATEGORIES:Club Events
ATTACH;FMTTYPE=image/png:https://paramountclub.pgre.com/wp-content/uploads/2025/01/Sip-script-website.png
END:VEVENT
END:VCALENDAR