BEGIN:VCALENDAR
VERSION:2.0
PRODID:-//Paramount Club - ECPv6.13.2.1//NONSGML v1.0//EN
CALSCALE:GREGORIAN
METHOD:PUBLISH
X-WR-CALNAME:Paramount Club
X-ORIGINAL-URL:https://paramountclub.pgre.com
X-WR-CALDESC:Events for Paramount Club
REFRESH-INTERVAL;VALUE=DURATION:PT1H
X-Robots-Tag:noindex
X-PUBLISHED-TTL:PT1H
BEGIN:VTIMEZONE
TZID:America/New_York
BEGIN:DAYLIGHT
TZOFFSETFROM:-0500
TZOFFSETTO:-0400
TZNAME:EDT
DTSTART:20250309T070000
END:DAYLIGHT
BEGIN:STANDARD
TZOFFSETFROM:-0400
TZOFFSETTO:-0500
TZNAME:EST
DTSTART:20251102T060000
END:STANDARD
END:VTIMEZONE
BEGIN:VEVENT
DTSTART;TZID=America/New_York:20250617T173000
DTEND;TZID=America/New_York:20250617T190000
DTSTAMP:20260424T084016
CREATED:20250529T170534Z
LAST-MODIFIED:20250529T160137Z
UID:2602-1750181400-1750186800@paramountclub.pgre.com
SUMMARY:SotoMethod Pop-Up Class
DESCRIPTION:Paramount Wellness is excited to host a pop-up class in collaboration with SotoMethod and Rhone. Get ready to sweat\, sculpt\, and push your limits with an immersive\, full-body workout designed to ignite your strength and endurance — all powered by The SotoMethod’s signature style. \nPurchase Your Ticket \nTICKET INCLUDES \nHeavily discounted SotoMethod Class \nFree 1-month SotoMethod virtual class membership \nRhone Everyday Hat \n20% off first Rhone purchase \nOpportunity to shop and demo Stakt products \nIn Body Composition Scan from Paramount Wellness (to be redeemed at a later date) \nExclusive Tour of the Wellness Center \nComplimentary smoothies
URL:https://paramountclub.pgre.com/events-calendar/sotomethod-at-paramount-club/
CATEGORIES:Club Events
ATTACH;FMTTYPE=image/png:https://paramountclub.pgre.com/wp-content/uploads/2025/05/Website-Event-Imagery-1080-x-710-px-2.png
END:VEVENT
END:VCALENDAR