BEGIN:VCALENDAR
VERSION:2.0
PRODID:-//Paramount Club - ECPv6.13.2.1//NONSGML v1.0//EN
CALSCALE:GREGORIAN
METHOD:PUBLISH
X-WR-CALNAME:Paramount Club
X-ORIGINAL-URL:https://paramountclub.pgre.com
X-WR-CALDESC:Events for Paramount Club
REFRESH-INTERVAL;VALUE=DURATION:PT1H
X-Robots-Tag:noindex
X-PUBLISHED-TTL:PT1H
BEGIN:VTIMEZONE
TZID:America/New_York
BEGIN:DAYLIGHT
TZOFFSETFROM:-0500
TZOFFSETTO:-0400
TZNAME:EDT
DTSTART:20260308T070000
END:DAYLIGHT
BEGIN:STANDARD
TZOFFSETFROM:-0400
TZOFFSETTO:-0500
TZNAME:EST
DTSTART:20261101T060000
END:STANDARD
END:VTIMEZONE
BEGIN:VEVENT
DTSTART;TZID=America/New_York:20260326T080000
DTEND;TZID=America/New_York:20260326T090000
DTSTAMP:20260423T173237
CREATED:20250103T175612Z
LAST-MODIFIED:20251217T192234Z
UID:10002248-1774512000-1774515600@paramountclub.pgre.com
SUMMARY:Sound Assisted Yoga Class
DESCRIPTION:Similar to our Yoga class\, the Sound Assisted Yoga class will combine techniques and methods from various Yoga disciplines into a 50-minute class and the combination of music\, mantra and breathwork that will leave you refreshed\, relaxed but invigorated. You will learn to balance the mind\, body and spirit though exercise poses\, meditation and deep breathing. You may also use props to elevate the workout or help support the body. \nSign up for our Sound Assisted Yoga Class every Thursday at 8am\, at Paramount Wellness!
URL:https://paramountclub.pgre.com/events-calendar/sound-assisted-yoga-class/2026-03-26/
LOCATION:Paramount Wellness\, 1301 Avenue of the Americas\, New York\, NY\, 10019\, United States
CATEGORIES:Wellness
ATTACH;FMTTYPE=image/jpeg:https://paramountclub.pgre.com/wp-content/uploads/2025/01/Group-Pic-of-Mats.jpg
ORGANIZER;CN="Paramount Wellness":MAILTO:wellness@paramount.club
END:VEVENT
END:VCALENDAR