BEGIN:VCALENDAR
VERSION:2.0
PRODID:-//Paramount Club - ECPv6.13.2.1//NONSGML v1.0//EN
CALSCALE:GREGORIAN
METHOD:PUBLISH
X-ORIGINAL-URL:https://paramountclub.pgre.com
X-WR-CALDESC:Events for Paramount Club
REFRESH-INTERVAL;VALUE=DURATION:PT1H
X-Robots-Tag:noindex
X-PUBLISHED-TTL:PT1H
BEGIN:VTIMEZONE
TZID:America/New_York
BEGIN:DAYLIGHT
TZOFFSETFROM:-0500
TZOFFSETTO:-0400
TZNAME:EDT
DTSTART:20260308T070000
END:DAYLIGHT
BEGIN:STANDARD
TZOFFSETFROM:-0400
TZOFFSETTO:-0500
TZNAME:EST
DTSTART:20261101T060000
END:STANDARD
END:VTIMEZONE
BEGIN:VEVENT
DTSTART;TZID=America/New_York:20260504T170000
DTEND;TZID=America/New_York:20260504T180000
DTSTAMP:20260423T165652
CREATED:20260417T130926Z
LAST-MODIFIED:20260417T131020Z
UID:10005697-1777914000-1777917600@paramountclub.pgre.com
SUMMARY:Meditation Mondays at Paramount Wellness
DESCRIPTION:Join the complimentary Qigong Meditation at Paramount Wellness & receive 20% off your next fitness class purchase\, in honor of Mental Health Awareness Month.\n\nAvailable Dates:\nMonday\, May 4th at 5:00pm\nMonday\, May 11th at 5:00pm\nMonday\, May 18th at 5:00pm\n  \nWhat is Qigong? \nQigong (pronounced “Chee-gong”) is an ancient Chinese practice that combines gentle movement\, breathing techniques\, and focused intention to cultivate and balance the body’s vital energy\, or “qi.” Rooted in traditional Chinese medicine and philosophy\, it has been practiced for thousands of years to support health\, healing\, and longevity. At its core\, qigong emphasizes slow\, flowing movements paired with deep\, controlled breathing and a calm\, meditative state\, making it accessible to people of all ages and fitness levels. It is widely valued for its ability to reduce stress\, improve circulation\, enhance flexibility and balance\, and promote overall well-being\, while also supporting mental clarity and emotional stability. In today’s fast-paced world\, qigong offers a simple yet powerful way to counter stress and reconnect with the body\, helping individuals feel more grounded\, energized\, and centered. \nAttendees of the above meditation sessions will receive an exclusive promo code to redeem the 20% off their next fitness class purchase. \nPromo code expires 6/30/2026.
URL:https://paramountclub.pgre.com/events-calendar/meditation-mondays-at-paramount-wellness/2026-05-04/
LOCATION:Paramount Wellness\, 1301 Avenue of the Americas\, New York\, NY\, 10019\, United States
CATEGORIES:Wellness
ATTACH;FMTTYPE=image/jpeg:https://paramountclub.pgre.com/wp-content/uploads/2026/04/iStock-2235886462-1-scaled.jpg
END:VEVENT
BEGIN:VEVENT
DTSTART;TZID=America/New_York:20260511T170000
DTEND;TZID=America/New_York:20260511T180000
DTSTAMP:20260423T165652
CREATED:20260417T130926Z
LAST-MODIFIED:20260417T131020Z
UID:10005698-1778518800-1778522400@paramountclub.pgre.com
SUMMARY:Meditation Mondays at Paramount Wellness
DESCRIPTION:Join the complimentary Qigong Meditation at Paramount Wellness & receive 20% off your next fitness class purchase\, in honor of Mental Health Awareness Month.\n\nAvailable Dates:\nMonday\, May 4th at 5:00pm\nMonday\, May 11th at 5:00pm\nMonday\, May 18th at 5:00pm\n  \nWhat is Qigong? \nQigong (pronounced “Chee-gong”) is an ancient Chinese practice that combines gentle movement\, breathing techniques\, and focused intention to cultivate and balance the body’s vital energy\, or “qi.” Rooted in traditional Chinese medicine and philosophy\, it has been practiced for thousands of years to support health\, healing\, and longevity. At its core\, qigong emphasizes slow\, flowing movements paired with deep\, controlled breathing and a calm\, meditative state\, making it accessible to people of all ages and fitness levels. It is widely valued for its ability to reduce stress\, improve circulation\, enhance flexibility and balance\, and promote overall well-being\, while also supporting mental clarity and emotional stability. In today’s fast-paced world\, qigong offers a simple yet powerful way to counter stress and reconnect with the body\, helping individuals feel more grounded\, energized\, and centered. \nAttendees of the above meditation sessions will receive an exclusive promo code to redeem the 20% off their next fitness class purchase. \nPromo code expires 6/30/2026.
URL:https://paramountclub.pgre.com/events-calendar/meditation-mondays-at-paramount-wellness/2026-05-11/
LOCATION:Paramount Wellness\, 1301 Avenue of the Americas\, New York\, NY\, 10019\, United States
CATEGORIES:Wellness
ATTACH;FMTTYPE=image/jpeg:https://paramountclub.pgre.com/wp-content/uploads/2026/04/iStock-2235886462-1-scaled.jpg
END:VEVENT
BEGIN:VEVENT
DTSTART;TZID=America/New_York:20260518T170000
DTEND;TZID=America/New_York:20260518T180000
DTSTAMP:20260423T165652
CREATED:20260417T130926Z
LAST-MODIFIED:20260417T131020Z
UID:10005699-1779123600-1779127200@paramountclub.pgre.com
SUMMARY:Meditation Mondays at Paramount Wellness
DESCRIPTION:Join the complimentary Qigong Meditation at Paramount Wellness & receive 20% off your next fitness class purchase\, in honor of Mental Health Awareness Month.\n\nAvailable Dates:\nMonday\, May 4th at 5:00pm\nMonday\, May 11th at 5:00pm\nMonday\, May 18th at 5:00pm\n  \nWhat is Qigong? \nQigong (pronounced “Chee-gong”) is an ancient Chinese practice that combines gentle movement\, breathing techniques\, and focused intention to cultivate and balance the body’s vital energy\, or “qi.” Rooted in traditional Chinese medicine and philosophy\, it has been practiced for thousands of years to support health\, healing\, and longevity. At its core\, qigong emphasizes slow\, flowing movements paired with deep\, controlled breathing and a calm\, meditative state\, making it accessible to people of all ages and fitness levels. It is widely valued for its ability to reduce stress\, improve circulation\, enhance flexibility and balance\, and promote overall well-being\, while also supporting mental clarity and emotional stability. In today’s fast-paced world\, qigong offers a simple yet powerful way to counter stress and reconnect with the body\, helping individuals feel more grounded\, energized\, and centered. \nAttendees of the above meditation sessions will receive an exclusive promo code to redeem the 20% off their next fitness class purchase. \nPromo code expires 6/30/2026.
URL:https://paramountclub.pgre.com/events-calendar/meditation-mondays-at-paramount-wellness/2026-05-18/
LOCATION:Paramount Wellness\, 1301 Avenue of the Americas\, New York\, NY\, 10019\, United States
CATEGORIES:Wellness
ATTACH;FMTTYPE=image/jpeg:https://paramountclub.pgre.com/wp-content/uploads/2026/04/iStock-2235886462-1-scaled.jpg
END:VEVENT
END:VCALENDAR