BEGIN:VCALENDAR
VERSION:2.0
PRODID:-//Paramount Club - ECPv6.13.2.1//NONSGML v1.0//EN
CALSCALE:GREGORIAN
METHOD:PUBLISH
X-WR-CALNAME:Paramount Club
X-ORIGINAL-URL:https://paramountclub.pgre.com
X-WR-CALDESC:Events for Paramount Club
REFRESH-INTERVAL;VALUE=DURATION:PT1H
X-Robots-Tag:noindex
X-PUBLISHED-TTL:PT1H
BEGIN:VTIMEZONE
TZID:America/New_York
BEGIN:DAYLIGHT
TZOFFSETFROM:-0500
TZOFFSETTO:-0400
TZNAME:EDT
DTSTART:20280312T070000
END:DAYLIGHT
BEGIN:STANDARD
TZOFFSETFROM:-0400
TZOFFSETTO:-0500
TZNAME:EST
DTSTART:20281105T060000
END:STANDARD
END:VTIMEZONE
BEGIN:VEVENT
DTSTART;TZID=America/New_York:20280524T121500
DTEND;TZID=America/New_York:20280524T131500
DTSTAMP:20260424T104611
CREATED:20250103T174953Z
LAST-MODIFIED:20251126T194456Z
UID:10002102-1842783300-1842786900@paramountclub.pgre.com
SUMMARY:Barre Class
DESCRIPTION:Barre class is a workout technique inspired by elements of ballet\, yoga\, and Pilates. It focuses on low-impact\, high-intensity movements using the ballet bar and other props to support and lengthen the spine and extremities. \nSign up for our barre class every Wednesday at 12:15pm\, at Paramount Wellness!
URL:https://paramountclub.pgre.com/events-calendar/barre-class/2028-05-24/
LOCATION:Paramount Wellness\, 1301 Avenue of the Americas\, New York\, NY\, 10019\, United States
CATEGORIES:Wellness
ATTACH;FMTTYPE=image/jpeg:https://paramountclub.pgre.com/wp-content/uploads/2025/01/Barre.jpg
ORGANIZER;CN="Paramount Wellness":MAILTO:wellness@paramount.club
END:VEVENT
BEGIN:VEVENT
DTSTART;TZID=America/New_York:20280531T121500
DTEND;TZID=America/New_York:20280531T131500
DTSTAMP:20260424T104611
CREATED:20250103T174953Z
LAST-MODIFIED:20251126T194456Z
UID:10002103-1843388100-1843391700@paramountclub.pgre.com
SUMMARY:Barre Class
DESCRIPTION:Barre class is a workout technique inspired by elements of ballet\, yoga\, and Pilates. It focuses on low-impact\, high-intensity movements using the ballet bar and other props to support and lengthen the spine and extremities. \nSign up for our barre class every Wednesday at 12:15pm\, at Paramount Wellness!
URL:https://paramountclub.pgre.com/events-calendar/barre-class/2028-05-31/
LOCATION:Paramount Wellness\, 1301 Avenue of the Americas\, New York\, NY\, 10019\, United States
CATEGORIES:Wellness
ATTACH;FMTTYPE=image/jpeg:https://paramountclub.pgre.com/wp-content/uploads/2025/01/Barre.jpg
ORGANIZER;CN="Paramount Wellness":MAILTO:wellness@paramount.club
END:VEVENT
BEGIN:VEVENT
DTSTART;TZID=America/New_York:20280607T121500
DTEND;TZID=America/New_York:20280607T131500
DTSTAMP:20260424T104611
CREATED:20250103T174953Z
LAST-MODIFIED:20251126T194456Z
UID:10002104-1843992900-1843996500@paramountclub.pgre.com
SUMMARY:Barre Class
DESCRIPTION:Barre class is a workout technique inspired by elements of ballet\, yoga\, and Pilates. It focuses on low-impact\, high-intensity movements using the ballet bar and other props to support and lengthen the spine and extremities. \nSign up for our barre class every Wednesday at 12:15pm\, at Paramount Wellness!
URL:https://paramountclub.pgre.com/events-calendar/barre-class/2028-06-07/
LOCATION:Paramount Wellness\, 1301 Avenue of the Americas\, New York\, NY\, 10019\, United States
CATEGORIES:Wellness
ATTACH;FMTTYPE=image/jpeg:https://paramountclub.pgre.com/wp-content/uploads/2025/01/Barre.jpg
ORGANIZER;CN="Paramount Wellness":MAILTO:wellness@paramount.club
END:VEVENT
BEGIN:VEVENT
DTSTART;TZID=America/New_York:20280614T121500
DTEND;TZID=America/New_York:20280614T131500
DTSTAMP:20260424T104611
CREATED:20250103T174953Z
LAST-MODIFIED:20251126T194456Z
UID:10002105-1844597700-1844601300@paramountclub.pgre.com
SUMMARY:Barre Class
DESCRIPTION:Barre class is a workout technique inspired by elements of ballet\, yoga\, and Pilates. It focuses on low-impact\, high-intensity movements using the ballet bar and other props to support and lengthen the spine and extremities. \nSign up for our barre class every Wednesday at 12:15pm\, at Paramount Wellness!
URL:https://paramountclub.pgre.com/events-calendar/barre-class/2028-06-14/
LOCATION:Paramount Wellness\, 1301 Avenue of the Americas\, New York\, NY\, 10019\, United States
CATEGORIES:Wellness
ATTACH;FMTTYPE=image/jpeg:https://paramountclub.pgre.com/wp-content/uploads/2025/01/Barre.jpg
ORGANIZER;CN="Paramount Wellness":MAILTO:wellness@paramount.club
END:VEVENT
BEGIN:VEVENT
DTSTART;TZID=America/New_York:20280621T121500
DTEND;TZID=America/New_York:20280621T131500
DTSTAMP:20260424T104611
CREATED:20250103T174953Z
LAST-MODIFIED:20251126T194456Z
UID:10002106-1845202500-1845206100@paramountclub.pgre.com
SUMMARY:Barre Class
DESCRIPTION:Barre class is a workout technique inspired by elements of ballet\, yoga\, and Pilates. It focuses on low-impact\, high-intensity movements using the ballet bar and other props to support and lengthen the spine and extremities. \nSign up for our barre class every Wednesday at 12:15pm\, at Paramount Wellness!
URL:https://paramountclub.pgre.com/events-calendar/barre-class/2028-06-21/
LOCATION:Paramount Wellness\, 1301 Avenue of the Americas\, New York\, NY\, 10019\, United States
CATEGORIES:Wellness
ATTACH;FMTTYPE=image/jpeg:https://paramountclub.pgre.com/wp-content/uploads/2025/01/Barre.jpg
ORGANIZER;CN="Paramount Wellness":MAILTO:wellness@paramount.club
END:VEVENT
BEGIN:VEVENT
DTSTART;TZID=America/New_York:20280628T121500
DTEND;TZID=America/New_York:20280628T131500
DTSTAMP:20260424T104611
CREATED:20250103T174953Z
LAST-MODIFIED:20251126T194456Z
UID:10002107-1845807300-1845810900@paramountclub.pgre.com
SUMMARY:Barre Class
DESCRIPTION:Barre class is a workout technique inspired by elements of ballet\, yoga\, and Pilates. It focuses on low-impact\, high-intensity movements using the ballet bar and other props to support and lengthen the spine and extremities. \nSign up for our barre class every Wednesday at 12:15pm\, at Paramount Wellness!
URL:https://paramountclub.pgre.com/events-calendar/barre-class/2028-06-28/
LOCATION:Paramount Wellness\, 1301 Avenue of the Americas\, New York\, NY\, 10019\, United States
CATEGORIES:Wellness
ATTACH;FMTTYPE=image/jpeg:https://paramountclub.pgre.com/wp-content/uploads/2025/01/Barre.jpg
ORGANIZER;CN="Paramount Wellness":MAILTO:wellness@paramount.club
END:VEVENT
BEGIN:VEVENT
DTSTART;TZID=America/New_York:20280705T121500
DTEND;TZID=America/New_York:20280705T131500
DTSTAMP:20260424T104611
CREATED:20250103T174953Z
LAST-MODIFIED:20251126T194456Z
UID:10002108-1846412100-1846415700@paramountclub.pgre.com
SUMMARY:Barre Class
DESCRIPTION:Barre class is a workout technique inspired by elements of ballet\, yoga\, and Pilates. It focuses on low-impact\, high-intensity movements using the ballet bar and other props to support and lengthen the spine and extremities. \nSign up for our barre class every Wednesday at 12:15pm\, at Paramount Wellness!
URL:https://paramountclub.pgre.com/events-calendar/barre-class/2028-07-05/
LOCATION:Paramount Wellness\, 1301 Avenue of the Americas\, New York\, NY\, 10019\, United States
CATEGORIES:Wellness
ATTACH;FMTTYPE=image/jpeg:https://paramountclub.pgre.com/wp-content/uploads/2025/01/Barre.jpg
ORGANIZER;CN="Paramount Wellness":MAILTO:wellness@paramount.club
END:VEVENT
BEGIN:VEVENT
DTSTART;TZID=America/New_York:20280712T121500
DTEND;TZID=America/New_York:20280712T131500
DTSTAMP:20260424T104611
CREATED:20250103T174953Z
LAST-MODIFIED:20251126T194456Z
UID:10002109-1847016900-1847020500@paramountclub.pgre.com
SUMMARY:Barre Class
DESCRIPTION:Barre class is a workout technique inspired by elements of ballet\, yoga\, and Pilates. It focuses on low-impact\, high-intensity movements using the ballet bar and other props to support and lengthen the spine and extremities. \nSign up for our barre class every Wednesday at 12:15pm\, at Paramount Wellness!
URL:https://paramountclub.pgre.com/events-calendar/barre-class/2028-07-12/
LOCATION:Paramount Wellness\, 1301 Avenue of the Americas\, New York\, NY\, 10019\, United States
CATEGORIES:Wellness
ATTACH;FMTTYPE=image/jpeg:https://paramountclub.pgre.com/wp-content/uploads/2025/01/Barre.jpg
ORGANIZER;CN="Paramount Wellness":MAILTO:wellness@paramount.club
END:VEVENT
BEGIN:VEVENT
DTSTART;TZID=America/New_York:20280719T121500
DTEND;TZID=America/New_York:20280719T131500
DTSTAMP:20260424T104611
CREATED:20250103T174953Z
LAST-MODIFIED:20251126T194456Z
UID:10002110-1847621700-1847625300@paramountclub.pgre.com
SUMMARY:Barre Class
DESCRIPTION:Barre class is a workout technique inspired by elements of ballet\, yoga\, and Pilates. It focuses on low-impact\, high-intensity movements using the ballet bar and other props to support and lengthen the spine and extremities. \nSign up for our barre class every Wednesday at 12:15pm\, at Paramount Wellness!
URL:https://paramountclub.pgre.com/events-calendar/barre-class/2028-07-19/
LOCATION:Paramount Wellness\, 1301 Avenue of the Americas\, New York\, NY\, 10019\, United States
CATEGORIES:Wellness
ATTACH;FMTTYPE=image/jpeg:https://paramountclub.pgre.com/wp-content/uploads/2025/01/Barre.jpg
ORGANIZER;CN="Paramount Wellness":MAILTO:wellness@paramount.club
END:VEVENT
BEGIN:VEVENT
DTSTART;TZID=America/New_York:20280726T121500
DTEND;TZID=America/New_York:20280726T131500
DTSTAMP:20260424T104611
CREATED:20250103T174953Z
LAST-MODIFIED:20251126T194456Z
UID:10002111-1848226500-1848230100@paramountclub.pgre.com
SUMMARY:Barre Class
DESCRIPTION:Barre class is a workout technique inspired by elements of ballet\, yoga\, and Pilates. It focuses on low-impact\, high-intensity movements using the ballet bar and other props to support and lengthen the spine and extremities. \nSign up for our barre class every Wednesday at 12:15pm\, at Paramount Wellness!
URL:https://paramountclub.pgre.com/events-calendar/barre-class/2028-07-26/
LOCATION:Paramount Wellness\, 1301 Avenue of the Americas\, New York\, NY\, 10019\, United States
CATEGORIES:Wellness
ATTACH;FMTTYPE=image/jpeg:https://paramountclub.pgre.com/wp-content/uploads/2025/01/Barre.jpg
ORGANIZER;CN="Paramount Wellness":MAILTO:wellness@paramount.club
END:VEVENT
BEGIN:VEVENT
DTSTART;TZID=America/New_York:20280802T121500
DTEND;TZID=America/New_York:20280802T131500
DTSTAMP:20260424T104611
CREATED:20250103T174953Z
LAST-MODIFIED:20251126T194456Z
UID:10002112-1848831300-1848834900@paramountclub.pgre.com
SUMMARY:Barre Class
DESCRIPTION:Barre class is a workout technique inspired by elements of ballet\, yoga\, and Pilates. It focuses on low-impact\, high-intensity movements using the ballet bar and other props to support and lengthen the spine and extremities. \nSign up for our barre class every Wednesday at 12:15pm\, at Paramount Wellness!
URL:https://paramountclub.pgre.com/events-calendar/barre-class/2028-08-02/
LOCATION:Paramount Wellness\, 1301 Avenue of the Americas\, New York\, NY\, 10019\, United States
CATEGORIES:Wellness
ATTACH;FMTTYPE=image/jpeg:https://paramountclub.pgre.com/wp-content/uploads/2025/01/Barre.jpg
ORGANIZER;CN="Paramount Wellness":MAILTO:wellness@paramount.club
END:VEVENT
BEGIN:VEVENT
DTSTART;TZID=America/New_York:20280809T121500
DTEND;TZID=America/New_York:20280809T131500
DTSTAMP:20260424T104611
CREATED:20250103T174953Z
LAST-MODIFIED:20251126T194456Z
UID:10002113-1849436100-1849439700@paramountclub.pgre.com
SUMMARY:Barre Class
DESCRIPTION:Barre class is a workout technique inspired by elements of ballet\, yoga\, and Pilates. It focuses on low-impact\, high-intensity movements using the ballet bar and other props to support and lengthen the spine and extremities. \nSign up for our barre class every Wednesday at 12:15pm\, at Paramount Wellness!
URL:https://paramountclub.pgre.com/events-calendar/barre-class/2028-08-09/
LOCATION:Paramount Wellness\, 1301 Avenue of the Americas\, New York\, NY\, 10019\, United States
CATEGORIES:Wellness
ATTACH;FMTTYPE=image/jpeg:https://paramountclub.pgre.com/wp-content/uploads/2025/01/Barre.jpg
ORGANIZER;CN="Paramount Wellness":MAILTO:wellness@paramount.club
END:VEVENT
BEGIN:VEVENT
DTSTART;TZID=America/New_York:20280816T121500
DTEND;TZID=America/New_York:20280816T131500
DTSTAMP:20260424T104611
CREATED:20250103T174953Z
LAST-MODIFIED:20251126T194456Z
UID:10002114-1850040900-1850044500@paramountclub.pgre.com
SUMMARY:Barre Class
DESCRIPTION:Barre class is a workout technique inspired by elements of ballet\, yoga\, and Pilates. It focuses on low-impact\, high-intensity movements using the ballet bar and other props to support and lengthen the spine and extremities. \nSign up for our barre class every Wednesday at 12:15pm\, at Paramount Wellness!
URL:https://paramountclub.pgre.com/events-calendar/barre-class/2028-08-16/
LOCATION:Paramount Wellness\, 1301 Avenue of the Americas\, New York\, NY\, 10019\, United States
CATEGORIES:Wellness
ATTACH;FMTTYPE=image/jpeg:https://paramountclub.pgre.com/wp-content/uploads/2025/01/Barre.jpg
ORGANIZER;CN="Paramount Wellness":MAILTO:wellness@paramount.club
END:VEVENT
BEGIN:VEVENT
DTSTART;TZID=America/New_York:20280823T121500
DTEND;TZID=America/New_York:20280823T131500
DTSTAMP:20260424T104611
CREATED:20250103T174953Z
LAST-MODIFIED:20251126T194456Z
UID:10002115-1850645700-1850649300@paramountclub.pgre.com
SUMMARY:Barre Class
DESCRIPTION:Barre class is a workout technique inspired by elements of ballet\, yoga\, and Pilates. It focuses on low-impact\, high-intensity movements using the ballet bar and other props to support and lengthen the spine and extremities. \nSign up for our barre class every Wednesday at 12:15pm\, at Paramount Wellness!
URL:https://paramountclub.pgre.com/events-calendar/barre-class/2028-08-23/
LOCATION:Paramount Wellness\, 1301 Avenue of the Americas\, New York\, NY\, 10019\, United States
CATEGORIES:Wellness
ATTACH;FMTTYPE=image/jpeg:https://paramountclub.pgre.com/wp-content/uploads/2025/01/Barre.jpg
ORGANIZER;CN="Paramount Wellness":MAILTO:wellness@paramount.club
END:VEVENT
BEGIN:VEVENT
DTSTART;TZID=America/New_York:20280830T121500
DTEND;TZID=America/New_York:20280830T131500
DTSTAMP:20260424T104611
CREATED:20250103T174953Z
LAST-MODIFIED:20251126T194456Z
UID:10002116-1851250500-1851254100@paramountclub.pgre.com
SUMMARY:Barre Class
DESCRIPTION:Barre class is a workout technique inspired by elements of ballet\, yoga\, and Pilates. It focuses on low-impact\, high-intensity movements using the ballet bar and other props to support and lengthen the spine and extremities. \nSign up for our barre class every Wednesday at 12:15pm\, at Paramount Wellness!
URL:https://paramountclub.pgre.com/events-calendar/barre-class/2028-08-30/
LOCATION:Paramount Wellness\, 1301 Avenue of the Americas\, New York\, NY\, 10019\, United States
CATEGORIES:Wellness
ATTACH;FMTTYPE=image/jpeg:https://paramountclub.pgre.com/wp-content/uploads/2025/01/Barre.jpg
ORGANIZER;CN="Paramount Wellness":MAILTO:wellness@paramount.club
END:VEVENT
BEGIN:VEVENT
DTSTART;TZID=America/New_York:20280906T121500
DTEND;TZID=America/New_York:20280906T131500
DTSTAMP:20260424T104611
CREATED:20250103T174953Z
LAST-MODIFIED:20251126T194456Z
UID:10002117-1851855300-1851858900@paramountclub.pgre.com
SUMMARY:Barre Class
DESCRIPTION:Barre class is a workout technique inspired by elements of ballet\, yoga\, and Pilates. It focuses on low-impact\, high-intensity movements using the ballet bar and other props to support and lengthen the spine and extremities. \nSign up for our barre class every Wednesday at 12:15pm\, at Paramount Wellness!
URL:https://paramountclub.pgre.com/events-calendar/barre-class/2028-09-06/
LOCATION:Paramount Wellness\, 1301 Avenue of the Americas\, New York\, NY\, 10019\, United States
CATEGORIES:Wellness
ATTACH;FMTTYPE=image/jpeg:https://paramountclub.pgre.com/wp-content/uploads/2025/01/Barre.jpg
ORGANIZER;CN="Paramount Wellness":MAILTO:wellness@paramount.club
END:VEVENT
BEGIN:VEVENT
DTSTART;TZID=America/New_York:20280913T121500
DTEND;TZID=America/New_York:20280913T131500
DTSTAMP:20260424T104611
CREATED:20250103T174953Z
LAST-MODIFIED:20251126T194456Z
UID:10002118-1852460100-1852463700@paramountclub.pgre.com
SUMMARY:Barre Class
DESCRIPTION:Barre class is a workout technique inspired by elements of ballet\, yoga\, and Pilates. It focuses on low-impact\, high-intensity movements using the ballet bar and other props to support and lengthen the spine and extremities. \nSign up for our barre class every Wednesday at 12:15pm\, at Paramount Wellness!
URL:https://paramountclub.pgre.com/events-calendar/barre-class/2028-09-13/
LOCATION:Paramount Wellness\, 1301 Avenue of the Americas\, New York\, NY\, 10019\, United States
CATEGORIES:Wellness
ATTACH;FMTTYPE=image/jpeg:https://paramountclub.pgre.com/wp-content/uploads/2025/01/Barre.jpg
ORGANIZER;CN="Paramount Wellness":MAILTO:wellness@paramount.club
END:VEVENT
BEGIN:VEVENT
DTSTART;TZID=America/New_York:20280920T121500
DTEND;TZID=America/New_York:20280920T131500
DTSTAMP:20260424T104611
CREATED:20250103T174953Z
LAST-MODIFIED:20251126T194456Z
UID:10002119-1853064900-1853068500@paramountclub.pgre.com
SUMMARY:Barre Class
DESCRIPTION:Barre class is a workout technique inspired by elements of ballet\, yoga\, and Pilates. It focuses on low-impact\, high-intensity movements using the ballet bar and other props to support and lengthen the spine and extremities. \nSign up for our barre class every Wednesday at 12:15pm\, at Paramount Wellness!
URL:https://paramountclub.pgre.com/events-calendar/barre-class/2028-09-20/
LOCATION:Paramount Wellness\, 1301 Avenue of the Americas\, New York\, NY\, 10019\, United States
CATEGORIES:Wellness
ATTACH;FMTTYPE=image/jpeg:https://paramountclub.pgre.com/wp-content/uploads/2025/01/Barre.jpg
ORGANIZER;CN="Paramount Wellness":MAILTO:wellness@paramount.club
END:VEVENT
BEGIN:VEVENT
DTSTART;TZID=America/New_York:20280927T121500
DTEND;TZID=America/New_York:20280927T131500
DTSTAMP:20260424T104611
CREATED:20250103T174953Z
LAST-MODIFIED:20251126T194456Z
UID:10002120-1853669700-1853673300@paramountclub.pgre.com
SUMMARY:Barre Class
DESCRIPTION:Barre class is a workout technique inspired by elements of ballet\, yoga\, and Pilates. It focuses on low-impact\, high-intensity movements using the ballet bar and other props to support and lengthen the spine and extremities. \nSign up for our barre class every Wednesday at 12:15pm\, at Paramount Wellness!
URL:https://paramountclub.pgre.com/events-calendar/barre-class/2028-09-27/
LOCATION:Paramount Wellness\, 1301 Avenue of the Americas\, New York\, NY\, 10019\, United States
CATEGORIES:Wellness
ATTACH;FMTTYPE=image/jpeg:https://paramountclub.pgre.com/wp-content/uploads/2025/01/Barre.jpg
ORGANIZER;CN="Paramount Wellness":MAILTO:wellness@paramount.club
END:VEVENT
BEGIN:VEVENT
DTSTART;TZID=America/New_York:20281004T121500
DTEND;TZID=America/New_York:20281004T131500
DTSTAMP:20260424T104611
CREATED:20250103T174953Z
LAST-MODIFIED:20251126T194456Z
UID:10002121-1854274500-1854278100@paramountclub.pgre.com
SUMMARY:Barre Class
DESCRIPTION:Barre class is a workout technique inspired by elements of ballet\, yoga\, and Pilates. It focuses on low-impact\, high-intensity movements using the ballet bar and other props to support and lengthen the spine and extremities. \nSign up for our barre class every Wednesday at 12:15pm\, at Paramount Wellness!
URL:https://paramountclub.pgre.com/events-calendar/barre-class/2028-10-04/
LOCATION:Paramount Wellness\, 1301 Avenue of the Americas\, New York\, NY\, 10019\, United States
CATEGORIES:Wellness
ATTACH;FMTTYPE=image/jpeg:https://paramountclub.pgre.com/wp-content/uploads/2025/01/Barre.jpg
ORGANIZER;CN="Paramount Wellness":MAILTO:wellness@paramount.club
END:VEVENT
BEGIN:VEVENT
DTSTART;TZID=America/New_York:20281011T121500
DTEND;TZID=America/New_York:20281011T131500
DTSTAMP:20260424T104611
CREATED:20250103T174953Z
LAST-MODIFIED:20251126T194456Z
UID:10002122-1854879300-1854882900@paramountclub.pgre.com
SUMMARY:Barre Class
DESCRIPTION:Barre class is a workout technique inspired by elements of ballet\, yoga\, and Pilates. It focuses on low-impact\, high-intensity movements using the ballet bar and other props to support and lengthen the spine and extremities. \nSign up for our barre class every Wednesday at 12:15pm\, at Paramount Wellness!
URL:https://paramountclub.pgre.com/events-calendar/barre-class/2028-10-11/
LOCATION:Paramount Wellness\, 1301 Avenue of the Americas\, New York\, NY\, 10019\, United States
CATEGORIES:Wellness
ATTACH;FMTTYPE=image/jpeg:https://paramountclub.pgre.com/wp-content/uploads/2025/01/Barre.jpg
ORGANIZER;CN="Paramount Wellness":MAILTO:wellness@paramount.club
END:VEVENT
BEGIN:VEVENT
DTSTART;TZID=America/New_York:20281018T121500
DTEND;TZID=America/New_York:20281018T131500
DTSTAMP:20260424T104611
CREATED:20250103T174953Z
LAST-MODIFIED:20251126T194456Z
UID:10002123-1855484100-1855487700@paramountclub.pgre.com
SUMMARY:Barre Class
DESCRIPTION:Barre class is a workout technique inspired by elements of ballet\, yoga\, and Pilates. It focuses on low-impact\, high-intensity movements using the ballet bar and other props to support and lengthen the spine and extremities. \nSign up for our barre class every Wednesday at 12:15pm\, at Paramount Wellness!
URL:https://paramountclub.pgre.com/events-calendar/barre-class/2028-10-18/
LOCATION:Paramount Wellness\, 1301 Avenue of the Americas\, New York\, NY\, 10019\, United States
CATEGORIES:Wellness
ATTACH;FMTTYPE=image/jpeg:https://paramountclub.pgre.com/wp-content/uploads/2025/01/Barre.jpg
ORGANIZER;CN="Paramount Wellness":MAILTO:wellness@paramount.club
END:VEVENT
BEGIN:VEVENT
DTSTART;TZID=America/New_York:20281025T121500
DTEND;TZID=America/New_York:20281025T131500
DTSTAMP:20260424T104611
CREATED:20250103T174953Z
LAST-MODIFIED:20251126T194456Z
UID:10002124-1856088900-1856092500@paramountclub.pgre.com
SUMMARY:Barre Class
DESCRIPTION:Barre class is a workout technique inspired by elements of ballet\, yoga\, and Pilates. It focuses on low-impact\, high-intensity movements using the ballet bar and other props to support and lengthen the spine and extremities. \nSign up for our barre class every Wednesday at 12:15pm\, at Paramount Wellness!
URL:https://paramountclub.pgre.com/events-calendar/barre-class/2028-10-25/
LOCATION:Paramount Wellness\, 1301 Avenue of the Americas\, New York\, NY\, 10019\, United States
CATEGORIES:Wellness
ATTACH;FMTTYPE=image/jpeg:https://paramountclub.pgre.com/wp-content/uploads/2025/01/Barre.jpg
ORGANIZER;CN="Paramount Wellness":MAILTO:wellness@paramount.club
END:VEVENT
BEGIN:VEVENT
DTSTART;TZID=America/New_York:20281101T121500
DTEND;TZID=America/New_York:20281101T131500
DTSTAMP:20260424T104611
CREATED:20250103T174953Z
LAST-MODIFIED:20251126T194456Z
UID:10002125-1856693700-1856697300@paramountclub.pgre.com
SUMMARY:Barre Class
DESCRIPTION:Barre class is a workout technique inspired by elements of ballet\, yoga\, and Pilates. It focuses on low-impact\, high-intensity movements using the ballet bar and other props to support and lengthen the spine and extremities. \nSign up for our barre class every Wednesday at 12:15pm\, at Paramount Wellness!
URL:https://paramountclub.pgre.com/events-calendar/barre-class/2028-11-01/
LOCATION:Paramount Wellness\, 1301 Avenue of the Americas\, New York\, NY\, 10019\, United States
CATEGORIES:Wellness
ATTACH;FMTTYPE=image/jpeg:https://paramountclub.pgre.com/wp-content/uploads/2025/01/Barre.jpg
ORGANIZER;CN="Paramount Wellness":MAILTO:wellness@paramount.club
END:VEVENT
BEGIN:VEVENT
DTSTART;TZID=America/New_York:20281108T121500
DTEND;TZID=America/New_York:20281108T131500
DTSTAMP:20260424T104611
CREATED:20250103T174953Z
LAST-MODIFIED:20251126T194456Z
UID:10002126-1857298500-1857302100@paramountclub.pgre.com
SUMMARY:Barre Class
DESCRIPTION:Barre class is a workout technique inspired by elements of ballet\, yoga\, and Pilates. It focuses on low-impact\, high-intensity movements using the ballet bar and other props to support and lengthen the spine and extremities. \nSign up for our barre class every Wednesday at 12:15pm\, at Paramount Wellness!
URL:https://paramountclub.pgre.com/events-calendar/barre-class/2028-11-08/
LOCATION:Paramount Wellness\, 1301 Avenue of the Americas\, New York\, NY\, 10019\, United States
CATEGORIES:Wellness
ATTACH;FMTTYPE=image/jpeg:https://paramountclub.pgre.com/wp-content/uploads/2025/01/Barre.jpg
ORGANIZER;CN="Paramount Wellness":MAILTO:wellness@paramount.club
END:VEVENT
BEGIN:VEVENT
DTSTART;TZID=America/New_York:20281115T121500
DTEND;TZID=America/New_York:20281115T131500
DTSTAMP:20260424T104611
CREATED:20250103T174953Z
LAST-MODIFIED:20251126T194456Z
UID:10002127-1857903300-1857906900@paramountclub.pgre.com
SUMMARY:Barre Class
DESCRIPTION:Barre class is a workout technique inspired by elements of ballet\, yoga\, and Pilates. It focuses on low-impact\, high-intensity movements using the ballet bar and other props to support and lengthen the spine and extremities. \nSign up for our barre class every Wednesday at 12:15pm\, at Paramount Wellness!
URL:https://paramountclub.pgre.com/events-calendar/barre-class/2028-11-15/
LOCATION:Paramount Wellness\, 1301 Avenue of the Americas\, New York\, NY\, 10019\, United States
CATEGORIES:Wellness
ATTACH;FMTTYPE=image/jpeg:https://paramountclub.pgre.com/wp-content/uploads/2025/01/Barre.jpg
ORGANIZER;CN="Paramount Wellness":MAILTO:wellness@paramount.club
END:VEVENT
BEGIN:VEVENT
DTSTART;TZID=America/New_York:20281122T121500
DTEND;TZID=America/New_York:20281122T131500
DTSTAMP:20260424T104611
CREATED:20250103T174953Z
LAST-MODIFIED:20251126T194456Z
UID:10002128-1858508100-1858511700@paramountclub.pgre.com
SUMMARY:Barre Class
DESCRIPTION:Barre class is a workout technique inspired by elements of ballet\, yoga\, and Pilates. It focuses on low-impact\, high-intensity movements using the ballet bar and other props to support and lengthen the spine and extremities. \nSign up for our barre class every Wednesday at 12:15pm\, at Paramount Wellness!
URL:https://paramountclub.pgre.com/events-calendar/barre-class/2028-11-22/
LOCATION:Paramount Wellness\, 1301 Avenue of the Americas\, New York\, NY\, 10019\, United States
CATEGORIES:Wellness
ATTACH;FMTTYPE=image/jpeg:https://paramountclub.pgre.com/wp-content/uploads/2025/01/Barre.jpg
ORGANIZER;CN="Paramount Wellness":MAILTO:wellness@paramount.club
END:VEVENT
BEGIN:VEVENT
DTSTART;TZID=America/New_York:20281129T121500
DTEND;TZID=America/New_York:20281129T131500
DTSTAMP:20260424T104611
CREATED:20250103T174953Z
LAST-MODIFIED:20251126T194456Z
UID:10002129-1859112900-1859116500@paramountclub.pgre.com
SUMMARY:Barre Class
DESCRIPTION:Barre class is a workout technique inspired by elements of ballet\, yoga\, and Pilates. It focuses on low-impact\, high-intensity movements using the ballet bar and other props to support and lengthen the spine and extremities. \nSign up for our barre class every Wednesday at 12:15pm\, at Paramount Wellness!
URL:https://paramountclub.pgre.com/events-calendar/barre-class/2028-11-29/
LOCATION:Paramount Wellness\, 1301 Avenue of the Americas\, New York\, NY\, 10019\, United States
CATEGORIES:Wellness
ATTACH;FMTTYPE=image/jpeg:https://paramountclub.pgre.com/wp-content/uploads/2025/01/Barre.jpg
ORGANIZER;CN="Paramount Wellness":MAILTO:wellness@paramount.club
END:VEVENT
BEGIN:VEVENT
DTSTART;TZID=America/New_York:20281206T121500
DTEND;TZID=America/New_York:20281206T131500
DTSTAMP:20260424T104611
CREATED:20250103T174953Z
LAST-MODIFIED:20251126T194456Z
UID:10002130-1859717700-1859721300@paramountclub.pgre.com
SUMMARY:Barre Class
DESCRIPTION:Barre class is a workout technique inspired by elements of ballet\, yoga\, and Pilates. It focuses on low-impact\, high-intensity movements using the ballet bar and other props to support and lengthen the spine and extremities. \nSign up for our barre class every Wednesday at 12:15pm\, at Paramount Wellness!
URL:https://paramountclub.pgre.com/events-calendar/barre-class/2028-12-06/
LOCATION:Paramount Wellness\, 1301 Avenue of the Americas\, New York\, NY\, 10019\, United States
CATEGORIES:Wellness
ATTACH;FMTTYPE=image/jpeg:https://paramountclub.pgre.com/wp-content/uploads/2025/01/Barre.jpg
ORGANIZER;CN="Paramount Wellness":MAILTO:wellness@paramount.club
END:VEVENT
BEGIN:VEVENT
DTSTART;TZID=America/New_York:20281213T121500
DTEND;TZID=America/New_York:20281213T131500
DTSTAMP:20260424T104611
CREATED:20250103T174953Z
LAST-MODIFIED:20251126T194456Z
UID:10002131-1860322500-1860326100@paramountclub.pgre.com
SUMMARY:Barre Class
DESCRIPTION:Barre class is a workout technique inspired by elements of ballet\, yoga\, and Pilates. It focuses on low-impact\, high-intensity movements using the ballet bar and other props to support and lengthen the spine and extremities. \nSign up for our barre class every Wednesday at 12:15pm\, at Paramount Wellness!
URL:https://paramountclub.pgre.com/events-calendar/barre-class/2028-12-13/
LOCATION:Paramount Wellness\, 1301 Avenue of the Americas\, New York\, NY\, 10019\, United States
CATEGORIES:Wellness
ATTACH;FMTTYPE=image/jpeg:https://paramountclub.pgre.com/wp-content/uploads/2025/01/Barre.jpg
ORGANIZER;CN="Paramount Wellness":MAILTO:wellness@paramount.club
END:VEVENT
END:VCALENDAR