BEGIN:VCALENDAR
VERSION:2.0
PRODID:-//Paramount Club - ECPv6.13.2.1//NONSGML v1.0//EN
CALSCALE:GREGORIAN
METHOD:PUBLISH
X-WR-CALNAME:Paramount Club
X-ORIGINAL-URL:https://paramountclub.pgre.com
X-WR-CALDESC:Events for Paramount Club
REFRESH-INTERVAL;VALUE=DURATION:PT1H
X-Robots-Tag:noindex
X-PUBLISHED-TTL:PT1H
BEGIN:VTIMEZONE
TZID:America/New_York
BEGIN:DAYLIGHT
TZOFFSETFROM:-0500
TZOFFSETTO:-0400
TZNAME:EDT
DTSTART:20290311T070000
END:DAYLIGHT
BEGIN:STANDARD
TZOFFSETFROM:-0400
TZOFFSETTO:-0500
TZNAME:EST
DTSTART:20291104T060000
END:STANDARD
END:VTIMEZONE
BEGIN:VEVENT
DTSTART;TZID=America/New_York:20290430T180000
DTEND;TZID=America/New_York:20290430T190000
DTSTAMP:20260424T135657
CREATED:20260220T174858Z
LAST-MODIFIED:20260220T175013Z
UID:10004952-1872266400-1872270000@paramountclub.pgre.com
SUMMARY:Self-Defense Class
DESCRIPTION:Protect & defend yourself and learn how to safely escape dangerous situations. \nSign up for our self-defense class every Monday at 6:00pm\, at Paramount Wellness!
URL:https://paramountclub.pgre.com/events-calendar/self-defense-class-2-2-2/2029-04-30/
LOCATION:Paramount Wellness\, 1301 Avenue of the Americas\, New York\, NY\, 10019\, United States
CATEGORIES:Wellness
ATTACH;FMTTYPE=image/jpeg:https://paramountclub.pgre.com/wp-content/uploads/2025/01/BoxKB-Pic.jpg
ORGANIZER;CN="Paramount Wellness":MAILTO:wellness@paramount.club
END:VEVENT
BEGIN:VEVENT
DTSTART;TZID=America/New_York:20290507T180000
DTEND;TZID=America/New_York:20290507T190000
DTSTAMP:20260424T135657
CREATED:20260220T174858Z
LAST-MODIFIED:20260220T175013Z
UID:10004953-1872871200-1872874800@paramountclub.pgre.com
SUMMARY:Self-Defense Class
DESCRIPTION:Protect & defend yourself and learn how to safely escape dangerous situations. \nSign up for our self-defense class every Monday at 6:00pm\, at Paramount Wellness!
URL:https://paramountclub.pgre.com/events-calendar/self-defense-class-2-2-2/2029-05-07/
LOCATION:Paramount Wellness\, 1301 Avenue of the Americas\, New York\, NY\, 10019\, United States
CATEGORIES:Wellness
ATTACH;FMTTYPE=image/jpeg:https://paramountclub.pgre.com/wp-content/uploads/2025/01/BoxKB-Pic.jpg
ORGANIZER;CN="Paramount Wellness":MAILTO:wellness@paramount.club
END:VEVENT
BEGIN:VEVENT
DTSTART;TZID=America/New_York:20290514T180000
DTEND;TZID=America/New_York:20290514T190000
DTSTAMP:20260424T135657
CREATED:20260220T174858Z
LAST-MODIFIED:20260220T175013Z
UID:10004954-1873476000-1873479600@paramountclub.pgre.com
SUMMARY:Self-Defense Class
DESCRIPTION:Protect & defend yourself and learn how to safely escape dangerous situations. \nSign up for our self-defense class every Monday at 6:00pm\, at Paramount Wellness!
URL:https://paramountclub.pgre.com/events-calendar/self-defense-class-2-2-2/2029-05-14/
LOCATION:Paramount Wellness\, 1301 Avenue of the Americas\, New York\, NY\, 10019\, United States
CATEGORIES:Wellness
ATTACH;FMTTYPE=image/jpeg:https://paramountclub.pgre.com/wp-content/uploads/2025/01/BoxKB-Pic.jpg
ORGANIZER;CN="Paramount Wellness":MAILTO:wellness@paramount.club
END:VEVENT
BEGIN:VEVENT
DTSTART;TZID=America/New_York:20290521T180000
DTEND;TZID=America/New_York:20290521T190000
DTSTAMP:20260424T135657
CREATED:20260220T174858Z
LAST-MODIFIED:20260220T175013Z
UID:10004955-1874080800-1874084400@paramountclub.pgre.com
SUMMARY:Self-Defense Class
DESCRIPTION:Protect & defend yourself and learn how to safely escape dangerous situations. \nSign up for our self-defense class every Monday at 6:00pm\, at Paramount Wellness!
URL:https://paramountclub.pgre.com/events-calendar/self-defense-class-2-2-2/2029-05-21/
LOCATION:Paramount Wellness\, 1301 Avenue of the Americas\, New York\, NY\, 10019\, United States
CATEGORIES:Wellness
ATTACH;FMTTYPE=image/jpeg:https://paramountclub.pgre.com/wp-content/uploads/2025/01/BoxKB-Pic.jpg
ORGANIZER;CN="Paramount Wellness":MAILTO:wellness@paramount.club
END:VEVENT
BEGIN:VEVENT
DTSTART;TZID=America/New_York:20290528T180000
DTEND;TZID=America/New_York:20290528T190000
DTSTAMP:20260424T135657
CREATED:20260220T174858Z
LAST-MODIFIED:20260220T175013Z
UID:10004956-1874685600-1874689200@paramountclub.pgre.com
SUMMARY:Self-Defense Class
DESCRIPTION:Protect & defend yourself and learn how to safely escape dangerous situations. \nSign up for our self-defense class every Monday at 6:00pm\, at Paramount Wellness!
URL:https://paramountclub.pgre.com/events-calendar/self-defense-class-2-2-2/2029-05-28/
LOCATION:Paramount Wellness\, 1301 Avenue of the Americas\, New York\, NY\, 10019\, United States
CATEGORIES:Wellness
ATTACH;FMTTYPE=image/jpeg:https://paramountclub.pgre.com/wp-content/uploads/2025/01/BoxKB-Pic.jpg
ORGANIZER;CN="Paramount Wellness":MAILTO:wellness@paramount.club
END:VEVENT
BEGIN:VEVENT
DTSTART;TZID=America/New_York:20290604T180000
DTEND;TZID=America/New_York:20290604T190000
DTSTAMP:20260424T135657
CREATED:20260220T174858Z
LAST-MODIFIED:20260220T175013Z
UID:10004957-1875290400-1875294000@paramountclub.pgre.com
SUMMARY:Self-Defense Class
DESCRIPTION:Protect & defend yourself and learn how to safely escape dangerous situations. \nSign up for our self-defense class every Monday at 6:00pm\, at Paramount Wellness!
URL:https://paramountclub.pgre.com/events-calendar/self-defense-class-2-2-2/2029-06-04/
LOCATION:Paramount Wellness\, 1301 Avenue of the Americas\, New York\, NY\, 10019\, United States
CATEGORIES:Wellness
ATTACH;FMTTYPE=image/jpeg:https://paramountclub.pgre.com/wp-content/uploads/2025/01/BoxKB-Pic.jpg
ORGANIZER;CN="Paramount Wellness":MAILTO:wellness@paramount.club
END:VEVENT
BEGIN:VEVENT
DTSTART;TZID=America/New_York:20290611T180000
DTEND;TZID=America/New_York:20290611T190000
DTSTAMP:20260424T135657
CREATED:20260220T174858Z
LAST-MODIFIED:20260220T175013Z
UID:10004958-1875895200-1875898800@paramountclub.pgre.com
SUMMARY:Self-Defense Class
DESCRIPTION:Protect & defend yourself and learn how to safely escape dangerous situations. \nSign up for our self-defense class every Monday at 6:00pm\, at Paramount Wellness!
URL:https://paramountclub.pgre.com/events-calendar/self-defense-class-2-2-2/2029-06-11/
LOCATION:Paramount Wellness\, 1301 Avenue of the Americas\, New York\, NY\, 10019\, United States
CATEGORIES:Wellness
ATTACH;FMTTYPE=image/jpeg:https://paramountclub.pgre.com/wp-content/uploads/2025/01/BoxKB-Pic.jpg
ORGANIZER;CN="Paramount Wellness":MAILTO:wellness@paramount.club
END:VEVENT
BEGIN:VEVENT
DTSTART;TZID=America/New_York:20290618T180000
DTEND;TZID=America/New_York:20290618T190000
DTSTAMP:20260424T135657
CREATED:20260220T174858Z
LAST-MODIFIED:20260220T175013Z
UID:10004959-1876500000-1876503600@paramountclub.pgre.com
SUMMARY:Self-Defense Class
DESCRIPTION:Protect & defend yourself and learn how to safely escape dangerous situations. \nSign up for our self-defense class every Monday at 6:00pm\, at Paramount Wellness!
URL:https://paramountclub.pgre.com/events-calendar/self-defense-class-2-2-2/2029-06-18/
LOCATION:Paramount Wellness\, 1301 Avenue of the Americas\, New York\, NY\, 10019\, United States
CATEGORIES:Wellness
ATTACH;FMTTYPE=image/jpeg:https://paramountclub.pgre.com/wp-content/uploads/2025/01/BoxKB-Pic.jpg
ORGANIZER;CN="Paramount Wellness":MAILTO:wellness@paramount.club
END:VEVENT
BEGIN:VEVENT
DTSTART;TZID=America/New_York:20290625T180000
DTEND;TZID=America/New_York:20290625T190000
DTSTAMP:20260424T135657
CREATED:20260220T174858Z
LAST-MODIFIED:20260220T175013Z
UID:10004960-1877104800-1877108400@paramountclub.pgre.com
SUMMARY:Self-Defense Class
DESCRIPTION:Protect & defend yourself and learn how to safely escape dangerous situations. \nSign up for our self-defense class every Monday at 6:00pm\, at Paramount Wellness!
URL:https://paramountclub.pgre.com/events-calendar/self-defense-class-2-2-2/2029-06-25/
LOCATION:Paramount Wellness\, 1301 Avenue of the Americas\, New York\, NY\, 10019\, United States
CATEGORIES:Wellness
ATTACH;FMTTYPE=image/jpeg:https://paramountclub.pgre.com/wp-content/uploads/2025/01/BoxKB-Pic.jpg
ORGANIZER;CN="Paramount Wellness":MAILTO:wellness@paramount.club
END:VEVENT
BEGIN:VEVENT
DTSTART;TZID=America/New_York:20290702T180000
DTEND;TZID=America/New_York:20290702T190000
DTSTAMP:20260424T135657
CREATED:20260220T174858Z
LAST-MODIFIED:20260220T175013Z
UID:10004961-1877709600-1877713200@paramountclub.pgre.com
SUMMARY:Self-Defense Class
DESCRIPTION:Protect & defend yourself and learn how to safely escape dangerous situations. \nSign up for our self-defense class every Monday at 6:00pm\, at Paramount Wellness!
URL:https://paramountclub.pgre.com/events-calendar/self-defense-class-2-2-2/2029-07-02/
LOCATION:Paramount Wellness\, 1301 Avenue of the Americas\, New York\, NY\, 10019\, United States
CATEGORIES:Wellness
ATTACH;FMTTYPE=image/jpeg:https://paramountclub.pgre.com/wp-content/uploads/2025/01/BoxKB-Pic.jpg
ORGANIZER;CN="Paramount Wellness":MAILTO:wellness@paramount.club
END:VEVENT
BEGIN:VEVENT
DTSTART;TZID=America/New_York:20290709T180000
DTEND;TZID=America/New_York:20290709T190000
DTSTAMP:20260424T135657
CREATED:20260220T174858Z
LAST-MODIFIED:20260220T175013Z
UID:10004962-1878314400-1878318000@paramountclub.pgre.com
SUMMARY:Self-Defense Class
DESCRIPTION:Protect & defend yourself and learn how to safely escape dangerous situations. \nSign up for our self-defense class every Monday at 6:00pm\, at Paramount Wellness!
URL:https://paramountclub.pgre.com/events-calendar/self-defense-class-2-2-2/2029-07-09/
LOCATION:Paramount Wellness\, 1301 Avenue of the Americas\, New York\, NY\, 10019\, United States
CATEGORIES:Wellness
ATTACH;FMTTYPE=image/jpeg:https://paramountclub.pgre.com/wp-content/uploads/2025/01/BoxKB-Pic.jpg
ORGANIZER;CN="Paramount Wellness":MAILTO:wellness@paramount.club
END:VEVENT
BEGIN:VEVENT
DTSTART;TZID=America/New_York:20290716T180000
DTEND;TZID=America/New_York:20290716T190000
DTSTAMP:20260424T135657
CREATED:20260220T174858Z
LAST-MODIFIED:20260220T175013Z
UID:10004963-1878919200-1878922800@paramountclub.pgre.com
SUMMARY:Self-Defense Class
DESCRIPTION:Protect & defend yourself and learn how to safely escape dangerous situations. \nSign up for our self-defense class every Monday at 6:00pm\, at Paramount Wellness!
URL:https://paramountclub.pgre.com/events-calendar/self-defense-class-2-2-2/2029-07-16/
LOCATION:Paramount Wellness\, 1301 Avenue of the Americas\, New York\, NY\, 10019\, United States
CATEGORIES:Wellness
ATTACH;FMTTYPE=image/jpeg:https://paramountclub.pgre.com/wp-content/uploads/2025/01/BoxKB-Pic.jpg
ORGANIZER;CN="Paramount Wellness":MAILTO:wellness@paramount.club
END:VEVENT
BEGIN:VEVENT
DTSTART;TZID=America/New_York:20290723T180000
DTEND;TZID=America/New_York:20290723T190000
DTSTAMP:20260424T135657
CREATED:20260220T174858Z
LAST-MODIFIED:20260220T175013Z
UID:10004964-1879524000-1879527600@paramountclub.pgre.com
SUMMARY:Self-Defense Class
DESCRIPTION:Protect & defend yourself and learn how to safely escape dangerous situations. \nSign up for our self-defense class every Monday at 6:00pm\, at Paramount Wellness!
URL:https://paramountclub.pgre.com/events-calendar/self-defense-class-2-2-2/2029-07-23/
LOCATION:Paramount Wellness\, 1301 Avenue of the Americas\, New York\, NY\, 10019\, United States
CATEGORIES:Wellness
ATTACH;FMTTYPE=image/jpeg:https://paramountclub.pgre.com/wp-content/uploads/2025/01/BoxKB-Pic.jpg
ORGANIZER;CN="Paramount Wellness":MAILTO:wellness@paramount.club
END:VEVENT
BEGIN:VEVENT
DTSTART;TZID=America/New_York:20290730T180000
DTEND;TZID=America/New_York:20290730T190000
DTSTAMP:20260424T135657
CREATED:20260220T174858Z
LAST-MODIFIED:20260220T175013Z
UID:10004965-1880128800-1880132400@paramountclub.pgre.com
SUMMARY:Self-Defense Class
DESCRIPTION:Protect & defend yourself and learn how to safely escape dangerous situations. \nSign up for our self-defense class every Monday at 6:00pm\, at Paramount Wellness!
URL:https://paramountclub.pgre.com/events-calendar/self-defense-class-2-2-2/2029-07-30/
LOCATION:Paramount Wellness\, 1301 Avenue of the Americas\, New York\, NY\, 10019\, United States
CATEGORIES:Wellness
ATTACH;FMTTYPE=image/jpeg:https://paramountclub.pgre.com/wp-content/uploads/2025/01/BoxKB-Pic.jpg
ORGANIZER;CN="Paramount Wellness":MAILTO:wellness@paramount.club
END:VEVENT
BEGIN:VEVENT
DTSTART;TZID=America/New_York:20290806T180000
DTEND;TZID=America/New_York:20290806T190000
DTSTAMP:20260424T135657
CREATED:20260220T174858Z
LAST-MODIFIED:20260220T175013Z
UID:10004966-1880733600-1880737200@paramountclub.pgre.com
SUMMARY:Self-Defense Class
DESCRIPTION:Protect & defend yourself and learn how to safely escape dangerous situations. \nSign up for our self-defense class every Monday at 6:00pm\, at Paramount Wellness!
URL:https://paramountclub.pgre.com/events-calendar/self-defense-class-2-2-2/2029-08-06/
LOCATION:Paramount Wellness\, 1301 Avenue of the Americas\, New York\, NY\, 10019\, United States
CATEGORIES:Wellness
ATTACH;FMTTYPE=image/jpeg:https://paramountclub.pgre.com/wp-content/uploads/2025/01/BoxKB-Pic.jpg
ORGANIZER;CN="Paramount Wellness":MAILTO:wellness@paramount.club
END:VEVENT
BEGIN:VEVENT
DTSTART;TZID=America/New_York:20290813T180000
DTEND;TZID=America/New_York:20290813T190000
DTSTAMP:20260424T135657
CREATED:20260220T174858Z
LAST-MODIFIED:20260220T175013Z
UID:10004967-1881338400-1881342000@paramountclub.pgre.com
SUMMARY:Self-Defense Class
DESCRIPTION:Protect & defend yourself and learn how to safely escape dangerous situations. \nSign up for our self-defense class every Monday at 6:00pm\, at Paramount Wellness!
URL:https://paramountclub.pgre.com/events-calendar/self-defense-class-2-2-2/2029-08-13/
LOCATION:Paramount Wellness\, 1301 Avenue of the Americas\, New York\, NY\, 10019\, United States
CATEGORIES:Wellness
ATTACH;FMTTYPE=image/jpeg:https://paramountclub.pgre.com/wp-content/uploads/2025/01/BoxKB-Pic.jpg
ORGANIZER;CN="Paramount Wellness":MAILTO:wellness@paramount.club
END:VEVENT
BEGIN:VEVENT
DTSTART;TZID=America/New_York:20290820T180000
DTEND;TZID=America/New_York:20290820T190000
DTSTAMP:20260424T135657
CREATED:20260220T174858Z
LAST-MODIFIED:20260220T175013Z
UID:10004968-1881943200-1881946800@paramountclub.pgre.com
SUMMARY:Self-Defense Class
DESCRIPTION:Protect & defend yourself and learn how to safely escape dangerous situations. \nSign up for our self-defense class every Monday at 6:00pm\, at Paramount Wellness!
URL:https://paramountclub.pgre.com/events-calendar/self-defense-class-2-2-2/2029-08-20/
LOCATION:Paramount Wellness\, 1301 Avenue of the Americas\, New York\, NY\, 10019\, United States
CATEGORIES:Wellness
ATTACH;FMTTYPE=image/jpeg:https://paramountclub.pgre.com/wp-content/uploads/2025/01/BoxKB-Pic.jpg
ORGANIZER;CN="Paramount Wellness":MAILTO:wellness@paramount.club
END:VEVENT
BEGIN:VEVENT
DTSTART;TZID=America/New_York:20290827T180000
DTEND;TZID=America/New_York:20290827T190000
DTSTAMP:20260424T135657
CREATED:20260220T174858Z
LAST-MODIFIED:20260220T175013Z
UID:10004969-1882548000-1882551600@paramountclub.pgre.com
SUMMARY:Self-Defense Class
DESCRIPTION:Protect & defend yourself and learn how to safely escape dangerous situations. \nSign up for our self-defense class every Monday at 6:00pm\, at Paramount Wellness!
URL:https://paramountclub.pgre.com/events-calendar/self-defense-class-2-2-2/2029-08-27/
LOCATION:Paramount Wellness\, 1301 Avenue of the Americas\, New York\, NY\, 10019\, United States
CATEGORIES:Wellness
ATTACH;FMTTYPE=image/jpeg:https://paramountclub.pgre.com/wp-content/uploads/2025/01/BoxKB-Pic.jpg
ORGANIZER;CN="Paramount Wellness":MAILTO:wellness@paramount.club
END:VEVENT
BEGIN:VEVENT
DTSTART;TZID=America/New_York:20290903T180000
DTEND;TZID=America/New_York:20290903T190000
DTSTAMP:20260424T135657
CREATED:20260220T174858Z
LAST-MODIFIED:20260220T175013Z
UID:10004970-1883152800-1883156400@paramountclub.pgre.com
SUMMARY:Self-Defense Class
DESCRIPTION:Protect & defend yourself and learn how to safely escape dangerous situations. \nSign up for our self-defense class every Monday at 6:00pm\, at Paramount Wellness!
URL:https://paramountclub.pgre.com/events-calendar/self-defense-class-2-2-2/2029-09-03/
LOCATION:Paramount Wellness\, 1301 Avenue of the Americas\, New York\, NY\, 10019\, United States
CATEGORIES:Wellness
ATTACH;FMTTYPE=image/jpeg:https://paramountclub.pgre.com/wp-content/uploads/2025/01/BoxKB-Pic.jpg
ORGANIZER;CN="Paramount Wellness":MAILTO:wellness@paramount.club
END:VEVENT
BEGIN:VEVENT
DTSTART;TZID=America/New_York:20290910T180000
DTEND;TZID=America/New_York:20290910T190000
DTSTAMP:20260424T135657
CREATED:20260220T174858Z
LAST-MODIFIED:20260220T175013Z
UID:10004971-1883757600-1883761200@paramountclub.pgre.com
SUMMARY:Self-Defense Class
DESCRIPTION:Protect & defend yourself and learn how to safely escape dangerous situations. \nSign up for our self-defense class every Monday at 6:00pm\, at Paramount Wellness!
URL:https://paramountclub.pgre.com/events-calendar/self-defense-class-2-2-2/2029-09-10/
LOCATION:Paramount Wellness\, 1301 Avenue of the Americas\, New York\, NY\, 10019\, United States
CATEGORIES:Wellness
ATTACH;FMTTYPE=image/jpeg:https://paramountclub.pgre.com/wp-content/uploads/2025/01/BoxKB-Pic.jpg
ORGANIZER;CN="Paramount Wellness":MAILTO:wellness@paramount.club
END:VEVENT
BEGIN:VEVENT
DTSTART;TZID=America/New_York:20290917T180000
DTEND;TZID=America/New_York:20290917T190000
DTSTAMP:20260424T135657
CREATED:20260220T174858Z
LAST-MODIFIED:20260220T175013Z
UID:10004972-1884362400-1884366000@paramountclub.pgre.com
SUMMARY:Self-Defense Class
DESCRIPTION:Protect & defend yourself and learn how to safely escape dangerous situations. \nSign up for our self-defense class every Monday at 6:00pm\, at Paramount Wellness!
URL:https://paramountclub.pgre.com/events-calendar/self-defense-class-2-2-2/2029-09-17/
LOCATION:Paramount Wellness\, 1301 Avenue of the Americas\, New York\, NY\, 10019\, United States
CATEGORIES:Wellness
ATTACH;FMTTYPE=image/jpeg:https://paramountclub.pgre.com/wp-content/uploads/2025/01/BoxKB-Pic.jpg
ORGANIZER;CN="Paramount Wellness":MAILTO:wellness@paramount.club
END:VEVENT
BEGIN:VEVENT
DTSTART;TZID=America/New_York:20290924T180000
DTEND;TZID=America/New_York:20290924T190000
DTSTAMP:20260424T135657
CREATED:20260220T174858Z
LAST-MODIFIED:20260220T175013Z
UID:10004973-1884967200-1884970800@paramountclub.pgre.com
SUMMARY:Self-Defense Class
DESCRIPTION:Protect & defend yourself and learn how to safely escape dangerous situations. \nSign up for our self-defense class every Monday at 6:00pm\, at Paramount Wellness!
URL:https://paramountclub.pgre.com/events-calendar/self-defense-class-2-2-2/2029-09-24/
LOCATION:Paramount Wellness\, 1301 Avenue of the Americas\, New York\, NY\, 10019\, United States
CATEGORIES:Wellness
ATTACH;FMTTYPE=image/jpeg:https://paramountclub.pgre.com/wp-content/uploads/2025/01/BoxKB-Pic.jpg
ORGANIZER;CN="Paramount Wellness":MAILTO:wellness@paramount.club
END:VEVENT
BEGIN:VEVENT
DTSTART;TZID=America/New_York:20291001T180000
DTEND;TZID=America/New_York:20291001T190000
DTSTAMP:20260424T135657
CREATED:20260220T174858Z
LAST-MODIFIED:20260220T175013Z
UID:10004974-1885572000-1885575600@paramountclub.pgre.com
SUMMARY:Self-Defense Class
DESCRIPTION:Protect & defend yourself and learn how to safely escape dangerous situations. \nSign up for our self-defense class every Monday at 6:00pm\, at Paramount Wellness!
URL:https://paramountclub.pgre.com/events-calendar/self-defense-class-2-2-2/2029-10-01/
LOCATION:Paramount Wellness\, 1301 Avenue of the Americas\, New York\, NY\, 10019\, United States
CATEGORIES:Wellness
ATTACH;FMTTYPE=image/jpeg:https://paramountclub.pgre.com/wp-content/uploads/2025/01/BoxKB-Pic.jpg
ORGANIZER;CN="Paramount Wellness":MAILTO:wellness@paramount.club
END:VEVENT
BEGIN:VEVENT
DTSTART;TZID=America/New_York:20291008T180000
DTEND;TZID=America/New_York:20291008T190000
DTSTAMP:20260424T135657
CREATED:20260220T174858Z
LAST-MODIFIED:20260220T175013Z
UID:10004975-1886176800-1886180400@paramountclub.pgre.com
SUMMARY:Self-Defense Class
DESCRIPTION:Protect & defend yourself and learn how to safely escape dangerous situations. \nSign up for our self-defense class every Monday at 6:00pm\, at Paramount Wellness!
URL:https://paramountclub.pgre.com/events-calendar/self-defense-class-2-2-2/2029-10-08/
LOCATION:Paramount Wellness\, 1301 Avenue of the Americas\, New York\, NY\, 10019\, United States
CATEGORIES:Wellness
ATTACH;FMTTYPE=image/jpeg:https://paramountclub.pgre.com/wp-content/uploads/2025/01/BoxKB-Pic.jpg
ORGANIZER;CN="Paramount Wellness":MAILTO:wellness@paramount.club
END:VEVENT
BEGIN:VEVENT
DTSTART;TZID=America/New_York:20291015T180000
DTEND;TZID=America/New_York:20291015T190000
DTSTAMP:20260424T135657
CREATED:20260220T174858Z
LAST-MODIFIED:20260220T175013Z
UID:10004976-1886781600-1886785200@paramountclub.pgre.com
SUMMARY:Self-Defense Class
DESCRIPTION:Protect & defend yourself and learn how to safely escape dangerous situations. \nSign up for our self-defense class every Monday at 6:00pm\, at Paramount Wellness!
URL:https://paramountclub.pgre.com/events-calendar/self-defense-class-2-2-2/2029-10-15/
LOCATION:Paramount Wellness\, 1301 Avenue of the Americas\, New York\, NY\, 10019\, United States
CATEGORIES:Wellness
ATTACH;FMTTYPE=image/jpeg:https://paramountclub.pgre.com/wp-content/uploads/2025/01/BoxKB-Pic.jpg
ORGANIZER;CN="Paramount Wellness":MAILTO:wellness@paramount.club
END:VEVENT
BEGIN:VEVENT
DTSTART;TZID=America/New_York:20291022T180000
DTEND;TZID=America/New_York:20291022T190000
DTSTAMP:20260424T135657
CREATED:20260220T174858Z
LAST-MODIFIED:20260220T175013Z
UID:10004977-1887386400-1887390000@paramountclub.pgre.com
SUMMARY:Self-Defense Class
DESCRIPTION:Protect & defend yourself and learn how to safely escape dangerous situations. \nSign up for our self-defense class every Monday at 6:00pm\, at Paramount Wellness!
URL:https://paramountclub.pgre.com/events-calendar/self-defense-class-2-2-2/2029-10-22/
LOCATION:Paramount Wellness\, 1301 Avenue of the Americas\, New York\, NY\, 10019\, United States
CATEGORIES:Wellness
ATTACH;FMTTYPE=image/jpeg:https://paramountclub.pgre.com/wp-content/uploads/2025/01/BoxKB-Pic.jpg
ORGANIZER;CN="Paramount Wellness":MAILTO:wellness@paramount.club
END:VEVENT
BEGIN:VEVENT
DTSTART;TZID=America/New_York:20291029T180000
DTEND;TZID=America/New_York:20291029T190000
DTSTAMP:20260424T135657
CREATED:20260220T174858Z
LAST-MODIFIED:20260220T175013Z
UID:10004978-1887991200-1887994800@paramountclub.pgre.com
SUMMARY:Self-Defense Class
DESCRIPTION:Protect & defend yourself and learn how to safely escape dangerous situations. \nSign up for our self-defense class every Monday at 6:00pm\, at Paramount Wellness!
URL:https://paramountclub.pgre.com/events-calendar/self-defense-class-2-2-2/2029-10-29/
LOCATION:Paramount Wellness\, 1301 Avenue of the Americas\, New York\, NY\, 10019\, United States
CATEGORIES:Wellness
ATTACH;FMTTYPE=image/jpeg:https://paramountclub.pgre.com/wp-content/uploads/2025/01/BoxKB-Pic.jpg
ORGANIZER;CN="Paramount Wellness":MAILTO:wellness@paramount.club
END:VEVENT
BEGIN:VEVENT
DTSTART;TZID=America/New_York:20291105T180000
DTEND;TZID=America/New_York:20291105T190000
DTSTAMP:20260424T135657
CREATED:20260220T174858Z
LAST-MODIFIED:20260220T175013Z
UID:10004979-1888596000-1888599600@paramountclub.pgre.com
SUMMARY:Self-Defense Class
DESCRIPTION:Protect & defend yourself and learn how to safely escape dangerous situations. \nSign up for our self-defense class every Monday at 6:00pm\, at Paramount Wellness!
URL:https://paramountclub.pgre.com/events-calendar/self-defense-class-2-2-2/2029-11-05/
LOCATION:Paramount Wellness\, 1301 Avenue of the Americas\, New York\, NY\, 10019\, United States
CATEGORIES:Wellness
ATTACH;FMTTYPE=image/jpeg:https://paramountclub.pgre.com/wp-content/uploads/2025/01/BoxKB-Pic.jpg
ORGANIZER;CN="Paramount Wellness":MAILTO:wellness@paramount.club
END:VEVENT
BEGIN:VEVENT
DTSTART;TZID=America/New_York:20291112T180000
DTEND;TZID=America/New_York:20291112T190000
DTSTAMP:20260424T135657
CREATED:20260220T174858Z
LAST-MODIFIED:20260220T175013Z
UID:10004980-1889200800-1889204400@paramountclub.pgre.com
SUMMARY:Self-Defense Class
DESCRIPTION:Protect & defend yourself and learn how to safely escape dangerous situations. \nSign up for our self-defense class every Monday at 6:00pm\, at Paramount Wellness!
URL:https://paramountclub.pgre.com/events-calendar/self-defense-class-2-2-2/2029-11-12/
LOCATION:Paramount Wellness\, 1301 Avenue of the Americas\, New York\, NY\, 10019\, United States
CATEGORIES:Wellness
ATTACH;FMTTYPE=image/jpeg:https://paramountclub.pgre.com/wp-content/uploads/2025/01/BoxKB-Pic.jpg
ORGANIZER;CN="Paramount Wellness":MAILTO:wellness@paramount.club
END:VEVENT
BEGIN:VEVENT
DTSTART;TZID=America/New_York:20291119T180000
DTEND;TZID=America/New_York:20291119T190000
DTSTAMP:20260424T135657
CREATED:20260220T174858Z
LAST-MODIFIED:20260220T175013Z
UID:10004981-1889805600-1889809200@paramountclub.pgre.com
SUMMARY:Self-Defense Class
DESCRIPTION:Protect & defend yourself and learn how to safely escape dangerous situations. \nSign up for our self-defense class every Monday at 6:00pm\, at Paramount Wellness!
URL:https://paramountclub.pgre.com/events-calendar/self-defense-class-2-2-2/2029-11-19/
LOCATION:Paramount Wellness\, 1301 Avenue of the Americas\, New York\, NY\, 10019\, United States
CATEGORIES:Wellness
ATTACH;FMTTYPE=image/jpeg:https://paramountclub.pgre.com/wp-content/uploads/2025/01/BoxKB-Pic.jpg
ORGANIZER;CN="Paramount Wellness":MAILTO:wellness@paramount.club
END:VEVENT
END:VCALENDAR