BEGIN:VCALENDAR
VERSION:2.0
PRODID:-//Paramount Club - ECPv6.13.2.1//NONSGML v1.0//EN
CALSCALE:GREGORIAN
METHOD:PUBLISH
X-WR-CALNAME:Paramount Club
X-ORIGINAL-URL:https://paramountclub.pgre.com
X-WR-CALDESC:Events for Paramount Club
REFRESH-INTERVAL;VALUE=DURATION:PT1H
X-Robots-Tag:noindex
X-PUBLISHED-TTL:PT1H
BEGIN:VTIMEZONE
TZID:America/New_York
BEGIN:DAYLIGHT
TZOFFSETFROM:-0500
TZOFFSETTO:-0400
TZNAME:EDT
DTSTART:20290311T070000
END:DAYLIGHT
BEGIN:STANDARD
TZOFFSETFROM:-0400
TZOFFSETTO:-0500
TZNAME:EST
DTSTART:20291104T060000
END:STANDARD
BEGIN:DAYLIGHT
TZOFFSETFROM:-0500
TZOFFSETTO:-0400
TZNAME:EDT
DTSTART:20300310T070000
END:DAYLIGHT
BEGIN:STANDARD
TZOFFSETFROM:-0400
TZOFFSETTO:-0500
TZNAME:EST
DTSTART:20301103T060000
END:STANDARD
END:VTIMEZONE
BEGIN:VEVENT
DTSTART;TZID=America/New_York:20290718T121500
DTEND;TZID=America/New_York:20290718T131500
DTSTAMP:20260424T165713
CREATED:20250103T174953Z
LAST-MODIFIED:20251126T194456Z
UID:10002162-1879071300-1879074900@paramountclub.pgre.com
SUMMARY:Barre Class
DESCRIPTION:Barre class is a workout technique inspired by elements of ballet\, yoga\, and Pilates. It focuses on low-impact\, high-intensity movements using the ballet bar and other props to support and lengthen the spine and extremities. \nSign up for our barre class every Wednesday at 12:15pm\, at Paramount Wellness!
URL:https://paramountclub.pgre.com/events-calendar/barre-class/2029-07-18/
LOCATION:Paramount Wellness\, 1301 Avenue of the Americas\, New York\, NY\, 10019\, United States
CATEGORIES:Wellness
ATTACH;FMTTYPE=image/jpeg:https://paramountclub.pgre.com/wp-content/uploads/2025/01/Barre.jpg
ORGANIZER;CN="Paramount Wellness":MAILTO:wellness@paramount.club
END:VEVENT
BEGIN:VEVENT
DTSTART;TZID=America/New_York:20290725T121500
DTEND;TZID=America/New_York:20290725T131500
DTSTAMP:20260424T165713
CREATED:20250103T174953Z
LAST-MODIFIED:20251126T194456Z
UID:10002163-1879676100-1879679700@paramountclub.pgre.com
SUMMARY:Barre Class
DESCRIPTION:Barre class is a workout technique inspired by elements of ballet\, yoga\, and Pilates. It focuses on low-impact\, high-intensity movements using the ballet bar and other props to support and lengthen the spine and extremities. \nSign up for our barre class every Wednesday at 12:15pm\, at Paramount Wellness!
URL:https://paramountclub.pgre.com/events-calendar/barre-class/2029-07-25/
LOCATION:Paramount Wellness\, 1301 Avenue of the Americas\, New York\, NY\, 10019\, United States
CATEGORIES:Wellness
ATTACH;FMTTYPE=image/jpeg:https://paramountclub.pgre.com/wp-content/uploads/2025/01/Barre.jpg
ORGANIZER;CN="Paramount Wellness":MAILTO:wellness@paramount.club
END:VEVENT
BEGIN:VEVENT
DTSTART;TZID=America/New_York:20290801T121500
DTEND;TZID=America/New_York:20290801T131500
DTSTAMP:20260424T165713
CREATED:20250103T174953Z
LAST-MODIFIED:20251126T194456Z
UID:10002164-1880280900-1880284500@paramountclub.pgre.com
SUMMARY:Barre Class
DESCRIPTION:Barre class is a workout technique inspired by elements of ballet\, yoga\, and Pilates. It focuses on low-impact\, high-intensity movements using the ballet bar and other props to support and lengthen the spine and extremities. \nSign up for our barre class every Wednesday at 12:15pm\, at Paramount Wellness!
URL:https://paramountclub.pgre.com/events-calendar/barre-class/2029-08-01/
LOCATION:Paramount Wellness\, 1301 Avenue of the Americas\, New York\, NY\, 10019\, United States
CATEGORIES:Wellness
ATTACH;FMTTYPE=image/jpeg:https://paramountclub.pgre.com/wp-content/uploads/2025/01/Barre.jpg
ORGANIZER;CN="Paramount Wellness":MAILTO:wellness@paramount.club
END:VEVENT
BEGIN:VEVENT
DTSTART;TZID=America/New_York:20290808T121500
DTEND;TZID=America/New_York:20290808T131500
DTSTAMP:20260424T165713
CREATED:20250103T174953Z
LAST-MODIFIED:20251126T194456Z
UID:10002165-1880885700-1880889300@paramountclub.pgre.com
SUMMARY:Barre Class
DESCRIPTION:Barre class is a workout technique inspired by elements of ballet\, yoga\, and Pilates. It focuses on low-impact\, high-intensity movements using the ballet bar and other props to support and lengthen the spine and extremities. \nSign up for our barre class every Wednesday at 12:15pm\, at Paramount Wellness!
URL:https://paramountclub.pgre.com/events-calendar/barre-class/2029-08-08/
LOCATION:Paramount Wellness\, 1301 Avenue of the Americas\, New York\, NY\, 10019\, United States
CATEGORIES:Wellness
ATTACH;FMTTYPE=image/jpeg:https://paramountclub.pgre.com/wp-content/uploads/2025/01/Barre.jpg
ORGANIZER;CN="Paramount Wellness":MAILTO:wellness@paramount.club
END:VEVENT
BEGIN:VEVENT
DTSTART;TZID=America/New_York:20290815T121500
DTEND;TZID=America/New_York:20290815T131500
DTSTAMP:20260424T165713
CREATED:20250103T174953Z
LAST-MODIFIED:20251126T194456Z
UID:10002166-1881490500-1881494100@paramountclub.pgre.com
SUMMARY:Barre Class
DESCRIPTION:Barre class is a workout technique inspired by elements of ballet\, yoga\, and Pilates. It focuses on low-impact\, high-intensity movements using the ballet bar and other props to support and lengthen the spine and extremities. \nSign up for our barre class every Wednesday at 12:15pm\, at Paramount Wellness!
URL:https://paramountclub.pgre.com/events-calendar/barre-class/2029-08-15/
LOCATION:Paramount Wellness\, 1301 Avenue of the Americas\, New York\, NY\, 10019\, United States
CATEGORIES:Wellness
ATTACH;FMTTYPE=image/jpeg:https://paramountclub.pgre.com/wp-content/uploads/2025/01/Barre.jpg
ORGANIZER;CN="Paramount Wellness":MAILTO:wellness@paramount.club
END:VEVENT
BEGIN:VEVENT
DTSTART;TZID=America/New_York:20290822T121500
DTEND;TZID=America/New_York:20290822T131500
DTSTAMP:20260424T165713
CREATED:20250103T174953Z
LAST-MODIFIED:20251126T194456Z
UID:10002167-1882095300-1882098900@paramountclub.pgre.com
SUMMARY:Barre Class
DESCRIPTION:Barre class is a workout technique inspired by elements of ballet\, yoga\, and Pilates. It focuses on low-impact\, high-intensity movements using the ballet bar and other props to support and lengthen the spine and extremities. \nSign up for our barre class every Wednesday at 12:15pm\, at Paramount Wellness!
URL:https://paramountclub.pgre.com/events-calendar/barre-class/2029-08-22/
LOCATION:Paramount Wellness\, 1301 Avenue of the Americas\, New York\, NY\, 10019\, United States
CATEGORIES:Wellness
ATTACH;FMTTYPE=image/jpeg:https://paramountclub.pgre.com/wp-content/uploads/2025/01/Barre.jpg
ORGANIZER;CN="Paramount Wellness":MAILTO:wellness@paramount.club
END:VEVENT
BEGIN:VEVENT
DTSTART;TZID=America/New_York:20290829T121500
DTEND;TZID=America/New_York:20290829T131500
DTSTAMP:20260424T165713
CREATED:20250103T174953Z
LAST-MODIFIED:20251126T194456Z
UID:10002168-1882700100-1882703700@paramountclub.pgre.com
SUMMARY:Barre Class
DESCRIPTION:Barre class is a workout technique inspired by elements of ballet\, yoga\, and Pilates. It focuses on low-impact\, high-intensity movements using the ballet bar and other props to support and lengthen the spine and extremities. \nSign up for our barre class every Wednesday at 12:15pm\, at Paramount Wellness!
URL:https://paramountclub.pgre.com/events-calendar/barre-class/2029-08-29/
LOCATION:Paramount Wellness\, 1301 Avenue of the Americas\, New York\, NY\, 10019\, United States
CATEGORIES:Wellness
ATTACH;FMTTYPE=image/jpeg:https://paramountclub.pgre.com/wp-content/uploads/2025/01/Barre.jpg
ORGANIZER;CN="Paramount Wellness":MAILTO:wellness@paramount.club
END:VEVENT
BEGIN:VEVENT
DTSTART;TZID=America/New_York:20290905T121500
DTEND;TZID=America/New_York:20290905T131500
DTSTAMP:20260424T165713
CREATED:20250103T174953Z
LAST-MODIFIED:20251126T194456Z
UID:10002169-1883304900-1883308500@paramountclub.pgre.com
SUMMARY:Barre Class
DESCRIPTION:Barre class is a workout technique inspired by elements of ballet\, yoga\, and Pilates. It focuses on low-impact\, high-intensity movements using the ballet bar and other props to support and lengthen the spine and extremities. \nSign up for our barre class every Wednesday at 12:15pm\, at Paramount Wellness!
URL:https://paramountclub.pgre.com/events-calendar/barre-class/2029-09-05/
LOCATION:Paramount Wellness\, 1301 Avenue of the Americas\, New York\, NY\, 10019\, United States
CATEGORIES:Wellness
ATTACH;FMTTYPE=image/jpeg:https://paramountclub.pgre.com/wp-content/uploads/2025/01/Barre.jpg
ORGANIZER;CN="Paramount Wellness":MAILTO:wellness@paramount.club
END:VEVENT
BEGIN:VEVENT
DTSTART;TZID=America/New_York:20290912T121500
DTEND;TZID=America/New_York:20290912T131500
DTSTAMP:20260424T165713
CREATED:20250103T174953Z
LAST-MODIFIED:20251126T194456Z
UID:10002170-1883909700-1883913300@paramountclub.pgre.com
SUMMARY:Barre Class
DESCRIPTION:Barre class is a workout technique inspired by elements of ballet\, yoga\, and Pilates. It focuses on low-impact\, high-intensity movements using the ballet bar and other props to support and lengthen the spine and extremities. \nSign up for our barre class every Wednesday at 12:15pm\, at Paramount Wellness!
URL:https://paramountclub.pgre.com/events-calendar/barre-class/2029-09-12/
LOCATION:Paramount Wellness\, 1301 Avenue of the Americas\, New York\, NY\, 10019\, United States
CATEGORIES:Wellness
ATTACH;FMTTYPE=image/jpeg:https://paramountclub.pgre.com/wp-content/uploads/2025/01/Barre.jpg
ORGANIZER;CN="Paramount Wellness":MAILTO:wellness@paramount.club
END:VEVENT
BEGIN:VEVENT
DTSTART;TZID=America/New_York:20290919T121500
DTEND;TZID=America/New_York:20290919T131500
DTSTAMP:20260424T165713
CREATED:20250103T174953Z
LAST-MODIFIED:20251126T194456Z
UID:10002171-1884514500-1884518100@paramountclub.pgre.com
SUMMARY:Barre Class
DESCRIPTION:Barre class is a workout technique inspired by elements of ballet\, yoga\, and Pilates. It focuses on low-impact\, high-intensity movements using the ballet bar and other props to support and lengthen the spine and extremities. \nSign up for our barre class every Wednesday at 12:15pm\, at Paramount Wellness!
URL:https://paramountclub.pgre.com/events-calendar/barre-class/2029-09-19/
LOCATION:Paramount Wellness\, 1301 Avenue of the Americas\, New York\, NY\, 10019\, United States
CATEGORIES:Wellness
ATTACH;FMTTYPE=image/jpeg:https://paramountclub.pgre.com/wp-content/uploads/2025/01/Barre.jpg
ORGANIZER;CN="Paramount Wellness":MAILTO:wellness@paramount.club
END:VEVENT
BEGIN:VEVENT
DTSTART;TZID=America/New_York:20290926T121500
DTEND;TZID=America/New_York:20290926T131500
DTSTAMP:20260424T165713
CREATED:20250103T174953Z
LAST-MODIFIED:20251126T194456Z
UID:10002172-1885119300-1885122900@paramountclub.pgre.com
SUMMARY:Barre Class
DESCRIPTION:Barre class is a workout technique inspired by elements of ballet\, yoga\, and Pilates. It focuses on low-impact\, high-intensity movements using the ballet bar and other props to support and lengthen the spine and extremities. \nSign up for our barre class every Wednesday at 12:15pm\, at Paramount Wellness!
URL:https://paramountclub.pgre.com/events-calendar/barre-class/2029-09-26/
LOCATION:Paramount Wellness\, 1301 Avenue of the Americas\, New York\, NY\, 10019\, United States
CATEGORIES:Wellness
ATTACH;FMTTYPE=image/jpeg:https://paramountclub.pgre.com/wp-content/uploads/2025/01/Barre.jpg
ORGANIZER;CN="Paramount Wellness":MAILTO:wellness@paramount.club
END:VEVENT
BEGIN:VEVENT
DTSTART;TZID=America/New_York:20291003T121500
DTEND;TZID=America/New_York:20291003T131500
DTSTAMP:20260424T165713
CREATED:20250103T174953Z
LAST-MODIFIED:20251126T194456Z
UID:10002173-1885724100-1885727700@paramountclub.pgre.com
SUMMARY:Barre Class
DESCRIPTION:Barre class is a workout technique inspired by elements of ballet\, yoga\, and Pilates. It focuses on low-impact\, high-intensity movements using the ballet bar and other props to support and lengthen the spine and extremities. \nSign up for our barre class every Wednesday at 12:15pm\, at Paramount Wellness!
URL:https://paramountclub.pgre.com/events-calendar/barre-class/2029-10-03/
LOCATION:Paramount Wellness\, 1301 Avenue of the Americas\, New York\, NY\, 10019\, United States
CATEGORIES:Wellness
ATTACH;FMTTYPE=image/jpeg:https://paramountclub.pgre.com/wp-content/uploads/2025/01/Barre.jpg
ORGANIZER;CN="Paramount Wellness":MAILTO:wellness@paramount.club
END:VEVENT
BEGIN:VEVENT
DTSTART;TZID=America/New_York:20291010T121500
DTEND;TZID=America/New_York:20291010T131500
DTSTAMP:20260424T165713
CREATED:20250103T174953Z
LAST-MODIFIED:20251126T194456Z
UID:10002174-1886328900-1886332500@paramountclub.pgre.com
SUMMARY:Barre Class
DESCRIPTION:Barre class is a workout technique inspired by elements of ballet\, yoga\, and Pilates. It focuses on low-impact\, high-intensity movements using the ballet bar and other props to support and lengthen the spine and extremities. \nSign up for our barre class every Wednesday at 12:15pm\, at Paramount Wellness!
URL:https://paramountclub.pgre.com/events-calendar/barre-class/2029-10-10/
LOCATION:Paramount Wellness\, 1301 Avenue of the Americas\, New York\, NY\, 10019\, United States
CATEGORIES:Wellness
ATTACH;FMTTYPE=image/jpeg:https://paramountclub.pgre.com/wp-content/uploads/2025/01/Barre.jpg
ORGANIZER;CN="Paramount Wellness":MAILTO:wellness@paramount.club
END:VEVENT
BEGIN:VEVENT
DTSTART;TZID=America/New_York:20291017T121500
DTEND;TZID=America/New_York:20291017T131500
DTSTAMP:20260424T165713
CREATED:20250103T174953Z
LAST-MODIFIED:20251126T194456Z
UID:10002175-1886933700-1886937300@paramountclub.pgre.com
SUMMARY:Barre Class
DESCRIPTION:Barre class is a workout technique inspired by elements of ballet\, yoga\, and Pilates. It focuses on low-impact\, high-intensity movements using the ballet bar and other props to support and lengthen the spine and extremities. \nSign up for our barre class every Wednesday at 12:15pm\, at Paramount Wellness!
URL:https://paramountclub.pgre.com/events-calendar/barre-class/2029-10-17/
LOCATION:Paramount Wellness\, 1301 Avenue of the Americas\, New York\, NY\, 10019\, United States
CATEGORIES:Wellness
ATTACH;FMTTYPE=image/jpeg:https://paramountclub.pgre.com/wp-content/uploads/2025/01/Barre.jpg
ORGANIZER;CN="Paramount Wellness":MAILTO:wellness@paramount.club
END:VEVENT
BEGIN:VEVENT
DTSTART;TZID=America/New_York:20291024T121500
DTEND;TZID=America/New_York:20291024T131500
DTSTAMP:20260424T165713
CREATED:20250103T174953Z
LAST-MODIFIED:20251126T194456Z
UID:10002176-1887538500-1887542100@paramountclub.pgre.com
SUMMARY:Barre Class
DESCRIPTION:Barre class is a workout technique inspired by elements of ballet\, yoga\, and Pilates. It focuses on low-impact\, high-intensity movements using the ballet bar and other props to support and lengthen the spine and extremities. \nSign up for our barre class every Wednesday at 12:15pm\, at Paramount Wellness!
URL:https://paramountclub.pgre.com/events-calendar/barre-class/2029-10-24/
LOCATION:Paramount Wellness\, 1301 Avenue of the Americas\, New York\, NY\, 10019\, United States
CATEGORIES:Wellness
ATTACH;FMTTYPE=image/jpeg:https://paramountclub.pgre.com/wp-content/uploads/2025/01/Barre.jpg
ORGANIZER;CN="Paramount Wellness":MAILTO:wellness@paramount.club
END:VEVENT
BEGIN:VEVENT
DTSTART;TZID=America/New_York:20291031T121500
DTEND;TZID=America/New_York:20291031T131500
DTSTAMP:20260424T165713
CREATED:20250103T174953Z
LAST-MODIFIED:20251126T194456Z
UID:10002177-1888143300-1888146900@paramountclub.pgre.com
SUMMARY:Barre Class
DESCRIPTION:Barre class is a workout technique inspired by elements of ballet\, yoga\, and Pilates. It focuses on low-impact\, high-intensity movements using the ballet bar and other props to support and lengthen the spine and extremities. \nSign up for our barre class every Wednesday at 12:15pm\, at Paramount Wellness!
URL:https://paramountclub.pgre.com/events-calendar/barre-class/2029-10-31/
LOCATION:Paramount Wellness\, 1301 Avenue of the Americas\, New York\, NY\, 10019\, United States
CATEGORIES:Wellness
ATTACH;FMTTYPE=image/jpeg:https://paramountclub.pgre.com/wp-content/uploads/2025/01/Barre.jpg
ORGANIZER;CN="Paramount Wellness":MAILTO:wellness@paramount.club
END:VEVENT
BEGIN:VEVENT
DTSTART;TZID=America/New_York:20291107T121500
DTEND;TZID=America/New_York:20291107T131500
DTSTAMP:20260424T165713
CREATED:20250103T174953Z
LAST-MODIFIED:20251126T194456Z
UID:10002178-1888748100-1888751700@paramountclub.pgre.com
SUMMARY:Barre Class
DESCRIPTION:Barre class is a workout technique inspired by elements of ballet\, yoga\, and Pilates. It focuses on low-impact\, high-intensity movements using the ballet bar and other props to support and lengthen the spine and extremities. \nSign up for our barre class every Wednesday at 12:15pm\, at Paramount Wellness!
URL:https://paramountclub.pgre.com/events-calendar/barre-class/2029-11-07/
LOCATION:Paramount Wellness\, 1301 Avenue of the Americas\, New York\, NY\, 10019\, United States
CATEGORIES:Wellness
ATTACH;FMTTYPE=image/jpeg:https://paramountclub.pgre.com/wp-content/uploads/2025/01/Barre.jpg
ORGANIZER;CN="Paramount Wellness":MAILTO:wellness@paramount.club
END:VEVENT
BEGIN:VEVENT
DTSTART;TZID=America/New_York:20291114T121500
DTEND;TZID=America/New_York:20291114T131500
DTSTAMP:20260424T165713
CREATED:20250103T174953Z
LAST-MODIFIED:20251126T194456Z
UID:10002179-1889352900-1889356500@paramountclub.pgre.com
SUMMARY:Barre Class
DESCRIPTION:Barre class is a workout technique inspired by elements of ballet\, yoga\, and Pilates. It focuses on low-impact\, high-intensity movements using the ballet bar and other props to support and lengthen the spine and extremities. \nSign up for our barre class every Wednesday at 12:15pm\, at Paramount Wellness!
URL:https://paramountclub.pgre.com/events-calendar/barre-class/2029-11-14/
LOCATION:Paramount Wellness\, 1301 Avenue of the Americas\, New York\, NY\, 10019\, United States
CATEGORIES:Wellness
ATTACH;FMTTYPE=image/jpeg:https://paramountclub.pgre.com/wp-content/uploads/2025/01/Barre.jpg
ORGANIZER;CN="Paramount Wellness":MAILTO:wellness@paramount.club
END:VEVENT
BEGIN:VEVENT
DTSTART;TZID=America/New_York:20291121T121500
DTEND;TZID=America/New_York:20291121T131500
DTSTAMP:20260424T165713
CREATED:20250103T174953Z
LAST-MODIFIED:20251126T194456Z
UID:10002180-1889957700-1889961300@paramountclub.pgre.com
SUMMARY:Barre Class
DESCRIPTION:Barre class is a workout technique inspired by elements of ballet\, yoga\, and Pilates. It focuses on low-impact\, high-intensity movements using the ballet bar and other props to support and lengthen the spine and extremities. \nSign up for our barre class every Wednesday at 12:15pm\, at Paramount Wellness!
URL:https://paramountclub.pgre.com/events-calendar/barre-class/2029-11-21/
LOCATION:Paramount Wellness\, 1301 Avenue of the Americas\, New York\, NY\, 10019\, United States
CATEGORIES:Wellness
ATTACH;FMTTYPE=image/jpeg:https://paramountclub.pgre.com/wp-content/uploads/2025/01/Barre.jpg
ORGANIZER;CN="Paramount Wellness":MAILTO:wellness@paramount.club
END:VEVENT
BEGIN:VEVENT
DTSTART;TZID=America/New_York:20291128T121500
DTEND;TZID=America/New_York:20291128T131500
DTSTAMP:20260424T165713
CREATED:20250103T174953Z
LAST-MODIFIED:20251126T194456Z
UID:10002181-1890562500-1890566100@paramountclub.pgre.com
SUMMARY:Barre Class
DESCRIPTION:Barre class is a workout technique inspired by elements of ballet\, yoga\, and Pilates. It focuses on low-impact\, high-intensity movements using the ballet bar and other props to support and lengthen the spine and extremities. \nSign up for our barre class every Wednesday at 12:15pm\, at Paramount Wellness!
URL:https://paramountclub.pgre.com/events-calendar/barre-class/2029-11-28/
LOCATION:Paramount Wellness\, 1301 Avenue of the Americas\, New York\, NY\, 10019\, United States
CATEGORIES:Wellness
ATTACH;FMTTYPE=image/jpeg:https://paramountclub.pgre.com/wp-content/uploads/2025/01/Barre.jpg
ORGANIZER;CN="Paramount Wellness":MAILTO:wellness@paramount.club
END:VEVENT
BEGIN:VEVENT
DTSTART;TZID=America/New_York:20291205T121500
DTEND;TZID=America/New_York:20291205T131500
DTSTAMP:20260424T165713
CREATED:20250103T174953Z
LAST-MODIFIED:20251126T194456Z
UID:10002182-1891167300-1891170900@paramountclub.pgre.com
SUMMARY:Barre Class
DESCRIPTION:Barre class is a workout technique inspired by elements of ballet\, yoga\, and Pilates. It focuses on low-impact\, high-intensity movements using the ballet bar and other props to support and lengthen the spine and extremities. \nSign up for our barre class every Wednesday at 12:15pm\, at Paramount Wellness!
URL:https://paramountclub.pgre.com/events-calendar/barre-class/2029-12-05/
LOCATION:Paramount Wellness\, 1301 Avenue of the Americas\, New York\, NY\, 10019\, United States
CATEGORIES:Wellness
ATTACH;FMTTYPE=image/jpeg:https://paramountclub.pgre.com/wp-content/uploads/2025/01/Barre.jpg
ORGANIZER;CN="Paramount Wellness":MAILTO:wellness@paramount.club
END:VEVENT
BEGIN:VEVENT
DTSTART;TZID=America/New_York:20291212T121500
DTEND;TZID=America/New_York:20291212T131500
DTSTAMP:20260424T165713
CREATED:20250103T174953Z
LAST-MODIFIED:20251126T194456Z
UID:10002183-1891772100-1891775700@paramountclub.pgre.com
SUMMARY:Barre Class
DESCRIPTION:Barre class is a workout technique inspired by elements of ballet\, yoga\, and Pilates. It focuses on low-impact\, high-intensity movements using the ballet bar and other props to support and lengthen the spine and extremities. \nSign up for our barre class every Wednesday at 12:15pm\, at Paramount Wellness!
URL:https://paramountclub.pgre.com/events-calendar/barre-class/2029-12-12/
LOCATION:Paramount Wellness\, 1301 Avenue of the Americas\, New York\, NY\, 10019\, United States
CATEGORIES:Wellness
ATTACH;FMTTYPE=image/jpeg:https://paramountclub.pgre.com/wp-content/uploads/2025/01/Barre.jpg
ORGANIZER;CN="Paramount Wellness":MAILTO:wellness@paramount.club
END:VEVENT
BEGIN:VEVENT
DTSTART;TZID=America/New_York:20291219T121500
DTEND;TZID=America/New_York:20291219T131500
DTSTAMP:20260424T165713
CREATED:20250103T174953Z
LAST-MODIFIED:20251126T194456Z
UID:10002184-1892376900-1892380500@paramountclub.pgre.com
SUMMARY:Barre Class
DESCRIPTION:Barre class is a workout technique inspired by elements of ballet\, yoga\, and Pilates. It focuses on low-impact\, high-intensity movements using the ballet bar and other props to support and lengthen the spine and extremities. \nSign up for our barre class every Wednesday at 12:15pm\, at Paramount Wellness!
URL:https://paramountclub.pgre.com/events-calendar/barre-class/2029-12-19/
LOCATION:Paramount Wellness\, 1301 Avenue of the Americas\, New York\, NY\, 10019\, United States
CATEGORIES:Wellness
ATTACH;FMTTYPE=image/jpeg:https://paramountclub.pgre.com/wp-content/uploads/2025/01/Barre.jpg
ORGANIZER;CN="Paramount Wellness":MAILTO:wellness@paramount.club
END:VEVENT
BEGIN:VEVENT
DTSTART;TZID=America/New_York:20291226T121500
DTEND;TZID=America/New_York:20291226T131500
DTSTAMP:20260424T165713
CREATED:20250103T174953Z
LAST-MODIFIED:20251126T194456Z
UID:10002185-1892981700-1892985300@paramountclub.pgre.com
SUMMARY:Barre Class
DESCRIPTION:Barre class is a workout technique inspired by elements of ballet\, yoga\, and Pilates. It focuses on low-impact\, high-intensity movements using the ballet bar and other props to support and lengthen the spine and extremities. \nSign up for our barre class every Wednesday at 12:15pm\, at Paramount Wellness!
URL:https://paramountclub.pgre.com/events-calendar/barre-class/2029-12-26/
LOCATION:Paramount Wellness\, 1301 Avenue of the Americas\, New York\, NY\, 10019\, United States
CATEGORIES:Wellness
ATTACH;FMTTYPE=image/jpeg:https://paramountclub.pgre.com/wp-content/uploads/2025/01/Barre.jpg
ORGANIZER;CN="Paramount Wellness":MAILTO:wellness@paramount.club
END:VEVENT
BEGIN:VEVENT
DTSTART;TZID=America/New_York:20300102T121500
DTEND;TZID=America/New_York:20300102T131500
DTSTAMP:20260424T165713
CREATED:20250103T174953Z
LAST-MODIFIED:20251126T194456Z
UID:10002186-1893586500-1893590100@paramountclub.pgre.com
SUMMARY:Barre Class
DESCRIPTION:Barre class is a workout technique inspired by elements of ballet\, yoga\, and Pilates. It focuses on low-impact\, high-intensity movements using the ballet bar and other props to support and lengthen the spine and extremities. \nSign up for our barre class every Wednesday at 12:15pm\, at Paramount Wellness!
URL:https://paramountclub.pgre.com/events-calendar/barre-class/2030-01-02/
LOCATION:Paramount Wellness\, 1301 Avenue of the Americas\, New York\, NY\, 10019\, United States
CATEGORIES:Wellness
ATTACH;FMTTYPE=image/jpeg:https://paramountclub.pgre.com/wp-content/uploads/2025/01/Barre.jpg
ORGANIZER;CN="Paramount Wellness":MAILTO:wellness@paramount.club
END:VEVENT
BEGIN:VEVENT
DTSTART;TZID=America/New_York:20300109T121500
DTEND;TZID=America/New_York:20300109T131500
DTSTAMP:20260424T165713
CREATED:20250103T174953Z
LAST-MODIFIED:20251126T194456Z
UID:10002187-1894191300-1894194900@paramountclub.pgre.com
SUMMARY:Barre Class
DESCRIPTION:Barre class is a workout technique inspired by elements of ballet\, yoga\, and Pilates. It focuses on low-impact\, high-intensity movements using the ballet bar and other props to support and lengthen the spine and extremities. \nSign up for our barre class every Wednesday at 12:15pm\, at Paramount Wellness!
URL:https://paramountclub.pgre.com/events-calendar/barre-class/2030-01-09/
LOCATION:Paramount Wellness\, 1301 Avenue of the Americas\, New York\, NY\, 10019\, United States
CATEGORIES:Wellness
ATTACH;FMTTYPE=image/jpeg:https://paramountclub.pgre.com/wp-content/uploads/2025/01/Barre.jpg
ORGANIZER;CN="Paramount Wellness":MAILTO:wellness@paramount.club
END:VEVENT
BEGIN:VEVENT
DTSTART;TZID=America/New_York:20300116T121500
DTEND;TZID=America/New_York:20300116T131500
DTSTAMP:20260424T165713
CREATED:20250103T174953Z
LAST-MODIFIED:20251126T194456Z
UID:10002188-1894796100-1894799700@paramountclub.pgre.com
SUMMARY:Barre Class
DESCRIPTION:Barre class is a workout technique inspired by elements of ballet\, yoga\, and Pilates. It focuses on low-impact\, high-intensity movements using the ballet bar and other props to support and lengthen the spine and extremities. \nSign up for our barre class every Wednesday at 12:15pm\, at Paramount Wellness!
URL:https://paramountclub.pgre.com/events-calendar/barre-class/2030-01-16/
LOCATION:Paramount Wellness\, 1301 Avenue of the Americas\, New York\, NY\, 10019\, United States
CATEGORIES:Wellness
ATTACH;FMTTYPE=image/jpeg:https://paramountclub.pgre.com/wp-content/uploads/2025/01/Barre.jpg
ORGANIZER;CN="Paramount Wellness":MAILTO:wellness@paramount.club
END:VEVENT
BEGIN:VEVENT
DTSTART;TZID=America/New_York:20300123T121500
DTEND;TZID=America/New_York:20300123T131500
DTSTAMP:20260424T165713
CREATED:20250103T174953Z
LAST-MODIFIED:20251126T194456Z
UID:10002189-1895400900-1895404500@paramountclub.pgre.com
SUMMARY:Barre Class
DESCRIPTION:Barre class is a workout technique inspired by elements of ballet\, yoga\, and Pilates. It focuses on low-impact\, high-intensity movements using the ballet bar and other props to support and lengthen the spine and extremities. \nSign up for our barre class every Wednesday at 12:15pm\, at Paramount Wellness!
URL:https://paramountclub.pgre.com/events-calendar/barre-class/2030-01-23/
LOCATION:Paramount Wellness\, 1301 Avenue of the Americas\, New York\, NY\, 10019\, United States
CATEGORIES:Wellness
ATTACH;FMTTYPE=image/jpeg:https://paramountclub.pgre.com/wp-content/uploads/2025/01/Barre.jpg
ORGANIZER;CN="Paramount Wellness":MAILTO:wellness@paramount.club
END:VEVENT
BEGIN:VEVENT
DTSTART;TZID=America/New_York:20300130T121500
DTEND;TZID=America/New_York:20300130T131500
DTSTAMP:20260424T165713
CREATED:20250103T174953Z
LAST-MODIFIED:20251126T194456Z
UID:10002190-1896005700-1896009300@paramountclub.pgre.com
SUMMARY:Barre Class
DESCRIPTION:Barre class is a workout technique inspired by elements of ballet\, yoga\, and Pilates. It focuses on low-impact\, high-intensity movements using the ballet bar and other props to support and lengthen the spine and extremities. \nSign up for our barre class every Wednesday at 12:15pm\, at Paramount Wellness!
URL:https://paramountclub.pgre.com/events-calendar/barre-class/2030-01-30/
LOCATION:Paramount Wellness\, 1301 Avenue of the Americas\, New York\, NY\, 10019\, United States
CATEGORIES:Wellness
ATTACH;FMTTYPE=image/jpeg:https://paramountclub.pgre.com/wp-content/uploads/2025/01/Barre.jpg
ORGANIZER;CN="Paramount Wellness":MAILTO:wellness@paramount.club
END:VEVENT
BEGIN:VEVENT
DTSTART;TZID=America/New_York:20300206T121500
DTEND;TZID=America/New_York:20300206T131500
DTSTAMP:20260424T165713
CREATED:20250103T174953Z
LAST-MODIFIED:20251126T194456Z
UID:10002191-1896610500-1896614100@paramountclub.pgre.com
SUMMARY:Barre Class
DESCRIPTION:Barre class is a workout technique inspired by elements of ballet\, yoga\, and Pilates. It focuses on low-impact\, high-intensity movements using the ballet bar and other props to support and lengthen the spine and extremities. \nSign up for our barre class every Wednesday at 12:15pm\, at Paramount Wellness!
URL:https://paramountclub.pgre.com/events-calendar/barre-class/2030-02-06/
LOCATION:Paramount Wellness\, 1301 Avenue of the Americas\, New York\, NY\, 10019\, United States
CATEGORIES:Wellness
ATTACH;FMTTYPE=image/jpeg:https://paramountclub.pgre.com/wp-content/uploads/2025/01/Barre.jpg
ORGANIZER;CN="Paramount Wellness":MAILTO:wellness@paramount.club
END:VEVENT
END:VCALENDAR