BEGIN:VCALENDAR
VERSION:2.0
PRODID:-//Paramount Club - ECPv6.13.2.1//NONSGML v1.0//EN
CALSCALE:GREGORIAN
METHOD:PUBLISH
X-ORIGINAL-URL:https://paramountclub.pgre.com
X-WR-CALDESC:Events for Paramount Club
REFRESH-INTERVAL;VALUE=DURATION:PT1H
X-Robots-Tag:noindex
X-PUBLISHED-TTL:PT1H
BEGIN:VTIMEZONE
TZID:America/New_York
BEGIN:DAYLIGHT
TZOFFSETFROM:-0500
TZOFFSETTO:-0400
TZNAME:EDT
DTSTART:20300310T070000
END:DAYLIGHT
BEGIN:STANDARD
TZOFFSETFROM:-0400
TZOFFSETTO:-0500
TZNAME:EST
DTSTART:20301103T060000
END:STANDARD
END:VTIMEZONE
BEGIN:VEVENT
DTSTART;TZID=America/New_York:20300619T121500
DTEND;TZID=America/New_York:20300619T131500
DTSTAMP:20260424T235559
CREATED:20250103T174953Z
LAST-MODIFIED:20251126T194456Z
UID:10004071-1908101700-1908105300@paramountclub.pgre.com
SUMMARY:Barre Class
DESCRIPTION:Barre class is a workout technique inspired by elements of ballet\, yoga\, and Pilates. It focuses on low-impact\, high-intensity movements using the ballet bar and other props to support and lengthen the spine and extremities. \nSign up for our barre class every Wednesday at 12:15pm\, at Paramount Wellness!
URL:https://paramountclub.pgre.com/events-calendar/barre-class/2030-06-19/
LOCATION:Paramount Wellness\, 1301 Avenue of the Americas\, New York\, NY\, 10019\, United States
CATEGORIES:Wellness
ATTACH;FMTTYPE=image/jpeg:https://paramountclub.pgre.com/wp-content/uploads/2025/01/Barre.jpg
ORGANIZER;CN="Paramount Wellness":MAILTO:wellness@paramount.club
END:VEVENT
BEGIN:VEVENT
DTSTART;TZID=America/New_York:20300626T121500
DTEND;TZID=America/New_York:20300626T131500
DTSTAMP:20260424T235559
CREATED:20250103T174953Z
LAST-MODIFIED:20251126T194456Z
UID:10004072-1908706500-1908710100@paramountclub.pgre.com
SUMMARY:Barre Class
DESCRIPTION:Barre class is a workout technique inspired by elements of ballet\, yoga\, and Pilates. It focuses on low-impact\, high-intensity movements using the ballet bar and other props to support and lengthen the spine and extremities. \nSign up for our barre class every Wednesday at 12:15pm\, at Paramount Wellness!
URL:https://paramountclub.pgre.com/events-calendar/barre-class/2030-06-26/
LOCATION:Paramount Wellness\, 1301 Avenue of the Americas\, New York\, NY\, 10019\, United States
CATEGORIES:Wellness
ATTACH;FMTTYPE=image/jpeg:https://paramountclub.pgre.com/wp-content/uploads/2025/01/Barre.jpg
ORGANIZER;CN="Paramount Wellness":MAILTO:wellness@paramount.club
END:VEVENT
BEGIN:VEVENT
DTSTART;TZID=America/New_York:20300703T121500
DTEND;TZID=America/New_York:20300703T131500
DTSTAMP:20260424T235559
CREATED:20250103T174953Z
LAST-MODIFIED:20251126T194456Z
UID:10004073-1909311300-1909314900@paramountclub.pgre.com
SUMMARY:Barre Class
DESCRIPTION:Barre class is a workout technique inspired by elements of ballet\, yoga\, and Pilates. It focuses on low-impact\, high-intensity movements using the ballet bar and other props to support and lengthen the spine and extremities. \nSign up for our barre class every Wednesday at 12:15pm\, at Paramount Wellness!
URL:https://paramountclub.pgre.com/events-calendar/barre-class/2030-07-03/
LOCATION:Paramount Wellness\, 1301 Avenue of the Americas\, New York\, NY\, 10019\, United States
CATEGORIES:Wellness
ATTACH;FMTTYPE=image/jpeg:https://paramountclub.pgre.com/wp-content/uploads/2025/01/Barre.jpg
ORGANIZER;CN="Paramount Wellness":MAILTO:wellness@paramount.club
END:VEVENT
BEGIN:VEVENT
DTSTART;TZID=America/New_York:20300710T121500
DTEND;TZID=America/New_York:20300710T131500
DTSTAMP:20260424T235559
CREATED:20250103T174953Z
LAST-MODIFIED:20251126T194456Z
UID:10004074-1909916100-1909919700@paramountclub.pgre.com
SUMMARY:Barre Class
DESCRIPTION:Barre class is a workout technique inspired by elements of ballet\, yoga\, and Pilates. It focuses on low-impact\, high-intensity movements using the ballet bar and other props to support and lengthen the spine and extremities. \nSign up for our barre class every Wednesday at 12:15pm\, at Paramount Wellness!
URL:https://paramountclub.pgre.com/events-calendar/barre-class/2030-07-10/
LOCATION:Paramount Wellness\, 1301 Avenue of the Americas\, New York\, NY\, 10019\, United States
CATEGORIES:Wellness
ATTACH;FMTTYPE=image/jpeg:https://paramountclub.pgre.com/wp-content/uploads/2025/01/Barre.jpg
ORGANIZER;CN="Paramount Wellness":MAILTO:wellness@paramount.club
END:VEVENT
BEGIN:VEVENT
DTSTART;TZID=America/New_York:20300717T121500
DTEND;TZID=America/New_York:20300717T131500
DTSTAMP:20260424T235559
CREATED:20250103T174953Z
LAST-MODIFIED:20251126T194456Z
UID:10004075-1910520900-1910524500@paramountclub.pgre.com
SUMMARY:Barre Class
DESCRIPTION:Barre class is a workout technique inspired by elements of ballet\, yoga\, and Pilates. It focuses on low-impact\, high-intensity movements using the ballet bar and other props to support and lengthen the spine and extremities. \nSign up for our barre class every Wednesday at 12:15pm\, at Paramount Wellness!
URL:https://paramountclub.pgre.com/events-calendar/barre-class/2030-07-17/
LOCATION:Paramount Wellness\, 1301 Avenue of the Americas\, New York\, NY\, 10019\, United States
CATEGORIES:Wellness
ATTACH;FMTTYPE=image/jpeg:https://paramountclub.pgre.com/wp-content/uploads/2025/01/Barre.jpg
ORGANIZER;CN="Paramount Wellness":MAILTO:wellness@paramount.club
END:VEVENT
BEGIN:VEVENT
DTSTART;TZID=America/New_York:20300724T121500
DTEND;TZID=America/New_York:20300724T131500
DTSTAMP:20260424T235559
CREATED:20250103T174953Z
LAST-MODIFIED:20251126T194456Z
UID:10004076-1911125700-1911129300@paramountclub.pgre.com
SUMMARY:Barre Class
DESCRIPTION:Barre class is a workout technique inspired by elements of ballet\, yoga\, and Pilates. It focuses on low-impact\, high-intensity movements using the ballet bar and other props to support and lengthen the spine and extremities. \nSign up for our barre class every Wednesday at 12:15pm\, at Paramount Wellness!
URL:https://paramountclub.pgre.com/events-calendar/barre-class/2030-07-24/
LOCATION:Paramount Wellness\, 1301 Avenue of the Americas\, New York\, NY\, 10019\, United States
CATEGORIES:Wellness
ATTACH;FMTTYPE=image/jpeg:https://paramountclub.pgre.com/wp-content/uploads/2025/01/Barre.jpg
ORGANIZER;CN="Paramount Wellness":MAILTO:wellness@paramount.club
END:VEVENT
BEGIN:VEVENT
DTSTART;TZID=America/New_York:20300731T121500
DTEND;TZID=America/New_York:20300731T131500
DTSTAMP:20260424T235559
CREATED:20250103T174953Z
LAST-MODIFIED:20251126T194456Z
UID:10004077-1911730500-1911734100@paramountclub.pgre.com
SUMMARY:Barre Class
DESCRIPTION:Barre class is a workout technique inspired by elements of ballet\, yoga\, and Pilates. It focuses on low-impact\, high-intensity movements using the ballet bar and other props to support and lengthen the spine and extremities. \nSign up for our barre class every Wednesday at 12:15pm\, at Paramount Wellness!
URL:https://paramountclub.pgre.com/events-calendar/barre-class/2030-07-31/
LOCATION:Paramount Wellness\, 1301 Avenue of the Americas\, New York\, NY\, 10019\, United States
CATEGORIES:Wellness
ATTACH;FMTTYPE=image/jpeg:https://paramountclub.pgre.com/wp-content/uploads/2025/01/Barre.jpg
ORGANIZER;CN="Paramount Wellness":MAILTO:wellness@paramount.club
END:VEVENT
BEGIN:VEVENT
DTSTART;TZID=America/New_York:20300807T121500
DTEND;TZID=America/New_York:20300807T131500
DTSTAMP:20260424T235559
CREATED:20250103T174953Z
LAST-MODIFIED:20251126T194456Z
UID:10004078-1912335300-1912338900@paramountclub.pgre.com
SUMMARY:Barre Class
DESCRIPTION:Barre class is a workout technique inspired by elements of ballet\, yoga\, and Pilates. It focuses on low-impact\, high-intensity movements using the ballet bar and other props to support and lengthen the spine and extremities. \nSign up for our barre class every Wednesday at 12:15pm\, at Paramount Wellness!
URL:https://paramountclub.pgre.com/events-calendar/barre-class/2030-08-07/
LOCATION:Paramount Wellness\, 1301 Avenue of the Americas\, New York\, NY\, 10019\, United States
CATEGORIES:Wellness
ATTACH;FMTTYPE=image/jpeg:https://paramountclub.pgre.com/wp-content/uploads/2025/01/Barre.jpg
ORGANIZER;CN="Paramount Wellness":MAILTO:wellness@paramount.club
END:VEVENT
BEGIN:VEVENT
DTSTART;TZID=America/New_York:20300814T121500
DTEND;TZID=America/New_York:20300814T131500
DTSTAMP:20260424T235559
CREATED:20250103T174953Z
LAST-MODIFIED:20251126T194456Z
UID:10004079-1912940100-1912943700@paramountclub.pgre.com
SUMMARY:Barre Class
DESCRIPTION:Barre class is a workout technique inspired by elements of ballet\, yoga\, and Pilates. It focuses on low-impact\, high-intensity movements using the ballet bar and other props to support and lengthen the spine and extremities. \nSign up for our barre class every Wednesday at 12:15pm\, at Paramount Wellness!
URL:https://paramountclub.pgre.com/events-calendar/barre-class/2030-08-14/
LOCATION:Paramount Wellness\, 1301 Avenue of the Americas\, New York\, NY\, 10019\, United States
CATEGORIES:Wellness
ATTACH;FMTTYPE=image/jpeg:https://paramountclub.pgre.com/wp-content/uploads/2025/01/Barre.jpg
ORGANIZER;CN="Paramount Wellness":MAILTO:wellness@paramount.club
END:VEVENT
BEGIN:VEVENT
DTSTART;TZID=America/New_York:20300821T121500
DTEND;TZID=America/New_York:20300821T131500
DTSTAMP:20260424T235559
CREATED:20250103T174953Z
LAST-MODIFIED:20251126T194456Z
UID:10004080-1913544900-1913548500@paramountclub.pgre.com
SUMMARY:Barre Class
DESCRIPTION:Barre class is a workout technique inspired by elements of ballet\, yoga\, and Pilates. It focuses on low-impact\, high-intensity movements using the ballet bar and other props to support and lengthen the spine and extremities. \nSign up for our barre class every Wednesday at 12:15pm\, at Paramount Wellness!
URL:https://paramountclub.pgre.com/events-calendar/barre-class/2030-08-21/
LOCATION:Paramount Wellness\, 1301 Avenue of the Americas\, New York\, NY\, 10019\, United States
CATEGORIES:Wellness
ATTACH;FMTTYPE=image/jpeg:https://paramountclub.pgre.com/wp-content/uploads/2025/01/Barre.jpg
ORGANIZER;CN="Paramount Wellness":MAILTO:wellness@paramount.club
END:VEVENT
BEGIN:VEVENT
DTSTART;TZID=America/New_York:20300828T121500
DTEND;TZID=America/New_York:20300828T131500
DTSTAMP:20260424T235559
CREATED:20250103T174953Z
LAST-MODIFIED:20251126T194456Z
UID:10004081-1914149700-1914153300@paramountclub.pgre.com
SUMMARY:Barre Class
DESCRIPTION:Barre class is a workout technique inspired by elements of ballet\, yoga\, and Pilates. It focuses on low-impact\, high-intensity movements using the ballet bar and other props to support and lengthen the spine and extremities. \nSign up for our barre class every Wednesday at 12:15pm\, at Paramount Wellness!
URL:https://paramountclub.pgre.com/events-calendar/barre-class/2030-08-28/
LOCATION:Paramount Wellness\, 1301 Avenue of the Americas\, New York\, NY\, 10019\, United States
CATEGORIES:Wellness
ATTACH;FMTTYPE=image/jpeg:https://paramountclub.pgre.com/wp-content/uploads/2025/01/Barre.jpg
ORGANIZER;CN="Paramount Wellness":MAILTO:wellness@paramount.club
END:VEVENT
BEGIN:VEVENT
DTSTART;TZID=America/New_York:20300904T121500
DTEND;TZID=America/New_York:20300904T131500
DTSTAMP:20260424T235559
CREATED:20250103T174953Z
LAST-MODIFIED:20251126T194456Z
UID:10004082-1914754500-1914758100@paramountclub.pgre.com
SUMMARY:Barre Class
DESCRIPTION:Barre class is a workout technique inspired by elements of ballet\, yoga\, and Pilates. It focuses on low-impact\, high-intensity movements using the ballet bar and other props to support and lengthen the spine and extremities. \nSign up for our barre class every Wednesday at 12:15pm\, at Paramount Wellness!
URL:https://paramountclub.pgre.com/events-calendar/barre-class/2030-09-04/
LOCATION:Paramount Wellness\, 1301 Avenue of the Americas\, New York\, NY\, 10019\, United States
CATEGORIES:Wellness
ATTACH;FMTTYPE=image/jpeg:https://paramountclub.pgre.com/wp-content/uploads/2025/01/Barre.jpg
ORGANIZER;CN="Paramount Wellness":MAILTO:wellness@paramount.club
END:VEVENT
BEGIN:VEVENT
DTSTART;TZID=America/New_York:20300911T121500
DTEND;TZID=America/New_York:20300911T131500
DTSTAMP:20260424T235559
CREATED:20250103T174953Z
LAST-MODIFIED:20251126T194456Z
UID:10004083-1915359300-1915362900@paramountclub.pgre.com
SUMMARY:Barre Class
DESCRIPTION:Barre class is a workout technique inspired by elements of ballet\, yoga\, and Pilates. It focuses on low-impact\, high-intensity movements using the ballet bar and other props to support and lengthen the spine and extremities. \nSign up for our barre class every Wednesday at 12:15pm\, at Paramount Wellness!
URL:https://paramountclub.pgre.com/events-calendar/barre-class/2030-09-11/
LOCATION:Paramount Wellness\, 1301 Avenue of the Americas\, New York\, NY\, 10019\, United States
CATEGORIES:Wellness
ATTACH;FMTTYPE=image/jpeg:https://paramountclub.pgre.com/wp-content/uploads/2025/01/Barre.jpg
ORGANIZER;CN="Paramount Wellness":MAILTO:wellness@paramount.club
END:VEVENT
BEGIN:VEVENT
DTSTART;TZID=America/New_York:20300918T121500
DTEND;TZID=America/New_York:20300918T131500
DTSTAMP:20260424T235559
CREATED:20250103T174953Z
LAST-MODIFIED:20251126T194456Z
UID:10004084-1915964100-1915967700@paramountclub.pgre.com
SUMMARY:Barre Class
DESCRIPTION:Barre class is a workout technique inspired by elements of ballet\, yoga\, and Pilates. It focuses on low-impact\, high-intensity movements using the ballet bar and other props to support and lengthen the spine and extremities. \nSign up for our barre class every Wednesday at 12:15pm\, at Paramount Wellness!
URL:https://paramountclub.pgre.com/events-calendar/barre-class/2030-09-18/
LOCATION:Paramount Wellness\, 1301 Avenue of the Americas\, New York\, NY\, 10019\, United States
CATEGORIES:Wellness
ATTACH;FMTTYPE=image/jpeg:https://paramountclub.pgre.com/wp-content/uploads/2025/01/Barre.jpg
ORGANIZER;CN="Paramount Wellness":MAILTO:wellness@paramount.club
END:VEVENT
BEGIN:VEVENT
DTSTART;TZID=America/New_York:20300925T121500
DTEND;TZID=America/New_York:20300925T131500
DTSTAMP:20260424T235559
CREATED:20250103T174953Z
LAST-MODIFIED:20251126T194456Z
UID:10004085-1916568900-1916572500@paramountclub.pgre.com
SUMMARY:Barre Class
DESCRIPTION:Barre class is a workout technique inspired by elements of ballet\, yoga\, and Pilates. It focuses on low-impact\, high-intensity movements using the ballet bar and other props to support and lengthen the spine and extremities. \nSign up for our barre class every Wednesday at 12:15pm\, at Paramount Wellness!
URL:https://paramountclub.pgre.com/events-calendar/barre-class/2030-09-25/
LOCATION:Paramount Wellness\, 1301 Avenue of the Americas\, New York\, NY\, 10019\, United States
CATEGORIES:Wellness
ATTACH;FMTTYPE=image/jpeg:https://paramountclub.pgre.com/wp-content/uploads/2025/01/Barre.jpg
ORGANIZER;CN="Paramount Wellness":MAILTO:wellness@paramount.club
END:VEVENT
BEGIN:VEVENT
DTSTART;TZID=America/New_York:20301002T121500
DTEND;TZID=America/New_York:20301002T131500
DTSTAMP:20260424T235559
CREATED:20250103T174953Z
LAST-MODIFIED:20251126T194456Z
UID:10004086-1917173700-1917177300@paramountclub.pgre.com
SUMMARY:Barre Class
DESCRIPTION:Barre class is a workout technique inspired by elements of ballet\, yoga\, and Pilates. It focuses on low-impact\, high-intensity movements using the ballet bar and other props to support and lengthen the spine and extremities. \nSign up for our barre class every Wednesday at 12:15pm\, at Paramount Wellness!
URL:https://paramountclub.pgre.com/events-calendar/barre-class/2030-10-02/
LOCATION:Paramount Wellness\, 1301 Avenue of the Americas\, New York\, NY\, 10019\, United States
CATEGORIES:Wellness
ATTACH;FMTTYPE=image/jpeg:https://paramountclub.pgre.com/wp-content/uploads/2025/01/Barre.jpg
ORGANIZER;CN="Paramount Wellness":MAILTO:wellness@paramount.club
END:VEVENT
BEGIN:VEVENT
DTSTART;TZID=America/New_York:20301009T121500
DTEND;TZID=America/New_York:20301009T131500
DTSTAMP:20260424T235559
CREATED:20250103T174953Z
LAST-MODIFIED:20251126T194456Z
UID:10004087-1917778500-1917782100@paramountclub.pgre.com
SUMMARY:Barre Class
DESCRIPTION:Barre class is a workout technique inspired by elements of ballet\, yoga\, and Pilates. It focuses on low-impact\, high-intensity movements using the ballet bar and other props to support and lengthen the spine and extremities. \nSign up for our barre class every Wednesday at 12:15pm\, at Paramount Wellness!
URL:https://paramountclub.pgre.com/events-calendar/barre-class/2030-10-09/
LOCATION:Paramount Wellness\, 1301 Avenue of the Americas\, New York\, NY\, 10019\, United States
CATEGORIES:Wellness
ATTACH;FMTTYPE=image/jpeg:https://paramountclub.pgre.com/wp-content/uploads/2025/01/Barre.jpg
ORGANIZER;CN="Paramount Wellness":MAILTO:wellness@paramount.club
END:VEVENT
BEGIN:VEVENT
DTSTART;TZID=America/New_York:20301016T121500
DTEND;TZID=America/New_York:20301016T131500
DTSTAMP:20260424T235559
CREATED:20250103T174953Z
LAST-MODIFIED:20251126T194456Z
UID:10004088-1918383300-1918386900@paramountclub.pgre.com
SUMMARY:Barre Class
DESCRIPTION:Barre class is a workout technique inspired by elements of ballet\, yoga\, and Pilates. It focuses on low-impact\, high-intensity movements using the ballet bar and other props to support and lengthen the spine and extremities. \nSign up for our barre class every Wednesday at 12:15pm\, at Paramount Wellness!
URL:https://paramountclub.pgre.com/events-calendar/barre-class/2030-10-16/
LOCATION:Paramount Wellness\, 1301 Avenue of the Americas\, New York\, NY\, 10019\, United States
CATEGORIES:Wellness
ATTACH;FMTTYPE=image/jpeg:https://paramountclub.pgre.com/wp-content/uploads/2025/01/Barre.jpg
ORGANIZER;CN="Paramount Wellness":MAILTO:wellness@paramount.club
END:VEVENT
BEGIN:VEVENT
DTSTART;TZID=America/New_York:20301023T121500
DTEND;TZID=America/New_York:20301023T131500
DTSTAMP:20260424T235559
CREATED:20250103T174953Z
LAST-MODIFIED:20251126T194456Z
UID:10004089-1918988100-1918991700@paramountclub.pgre.com
SUMMARY:Barre Class
DESCRIPTION:Barre class is a workout technique inspired by elements of ballet\, yoga\, and Pilates. It focuses on low-impact\, high-intensity movements using the ballet bar and other props to support and lengthen the spine and extremities. \nSign up for our barre class every Wednesday at 12:15pm\, at Paramount Wellness!
URL:https://paramountclub.pgre.com/events-calendar/barre-class/2030-10-23/
LOCATION:Paramount Wellness\, 1301 Avenue of the Americas\, New York\, NY\, 10019\, United States
CATEGORIES:Wellness
ATTACH;FMTTYPE=image/jpeg:https://paramountclub.pgre.com/wp-content/uploads/2025/01/Barre.jpg
ORGANIZER;CN="Paramount Wellness":MAILTO:wellness@paramount.club
END:VEVENT
BEGIN:VEVENT
DTSTART;TZID=America/New_York:20301030T121500
DTEND;TZID=America/New_York:20301030T131500
DTSTAMP:20260424T235559
CREATED:20250103T174953Z
LAST-MODIFIED:20251126T194456Z
UID:10004090-1919592900-1919596500@paramountclub.pgre.com
SUMMARY:Barre Class
DESCRIPTION:Barre class is a workout technique inspired by elements of ballet\, yoga\, and Pilates. It focuses on low-impact\, high-intensity movements using the ballet bar and other props to support and lengthen the spine and extremities. \nSign up for our barre class every Wednesday at 12:15pm\, at Paramount Wellness!
URL:https://paramountclub.pgre.com/events-calendar/barre-class/2030-10-30/
LOCATION:Paramount Wellness\, 1301 Avenue of the Americas\, New York\, NY\, 10019\, United States
CATEGORIES:Wellness
ATTACH;FMTTYPE=image/jpeg:https://paramountclub.pgre.com/wp-content/uploads/2025/01/Barre.jpg
ORGANIZER;CN="Paramount Wellness":MAILTO:wellness@paramount.club
END:VEVENT
BEGIN:VEVENT
DTSTART;TZID=America/New_York:20301106T121500
DTEND;TZID=America/New_York:20301106T131500
DTSTAMP:20260424T235559
CREATED:20250103T174953Z
LAST-MODIFIED:20251126T194456Z
UID:10004091-1920197700-1920201300@paramountclub.pgre.com
SUMMARY:Barre Class
DESCRIPTION:Barre class is a workout technique inspired by elements of ballet\, yoga\, and Pilates. It focuses on low-impact\, high-intensity movements using the ballet bar and other props to support and lengthen the spine and extremities. \nSign up for our barre class every Wednesday at 12:15pm\, at Paramount Wellness!
URL:https://paramountclub.pgre.com/events-calendar/barre-class/2030-11-06/
LOCATION:Paramount Wellness\, 1301 Avenue of the Americas\, New York\, NY\, 10019\, United States
CATEGORIES:Wellness
ATTACH;FMTTYPE=image/jpeg:https://paramountclub.pgre.com/wp-content/uploads/2025/01/Barre.jpg
ORGANIZER;CN="Paramount Wellness":MAILTO:wellness@paramount.club
END:VEVENT
BEGIN:VEVENT
DTSTART;TZID=America/New_York:20301113T121500
DTEND;TZID=America/New_York:20301113T131500
DTSTAMP:20260424T235559
CREATED:20250103T174953Z
LAST-MODIFIED:20251126T194456Z
UID:10004092-1920802500-1920806100@paramountclub.pgre.com
SUMMARY:Barre Class
DESCRIPTION:Barre class is a workout technique inspired by elements of ballet\, yoga\, and Pilates. It focuses on low-impact\, high-intensity movements using the ballet bar and other props to support and lengthen the spine and extremities. \nSign up for our barre class every Wednesday at 12:15pm\, at Paramount Wellness!
URL:https://paramountclub.pgre.com/events-calendar/barre-class/2030-11-13/
LOCATION:Paramount Wellness\, 1301 Avenue of the Americas\, New York\, NY\, 10019\, United States
CATEGORIES:Wellness
ATTACH;FMTTYPE=image/jpeg:https://paramountclub.pgre.com/wp-content/uploads/2025/01/Barre.jpg
ORGANIZER;CN="Paramount Wellness":MAILTO:wellness@paramount.club
END:VEVENT
BEGIN:VEVENT
DTSTART;TZID=America/New_York:20301120T121500
DTEND;TZID=America/New_York:20301120T131500
DTSTAMP:20260424T235559
CREATED:20250103T174953Z
LAST-MODIFIED:20251126T194456Z
UID:10004093-1921407300-1921410900@paramountclub.pgre.com
SUMMARY:Barre Class
DESCRIPTION:Barre class is a workout technique inspired by elements of ballet\, yoga\, and Pilates. It focuses on low-impact\, high-intensity movements using the ballet bar and other props to support and lengthen the spine and extremities. \nSign up for our barre class every Wednesday at 12:15pm\, at Paramount Wellness!
URL:https://paramountclub.pgre.com/events-calendar/barre-class/2030-11-20/
LOCATION:Paramount Wellness\, 1301 Avenue of the Americas\, New York\, NY\, 10019\, United States
CATEGORIES:Wellness
ATTACH;FMTTYPE=image/jpeg:https://paramountclub.pgre.com/wp-content/uploads/2025/01/Barre.jpg
ORGANIZER;CN="Paramount Wellness":MAILTO:wellness@paramount.club
END:VEVENT
END:VCALENDAR